BEGIN:VCALENDAR
VERSION:2.0
PRODID:-//Auburn Area Democratic Club - ECPv6.15.20//NONSGML v1.0//EN
CALSCALE:GREGORIAN
METHOD:PUBLISH
X-WR-CALNAME:Auburn Area Democratic Club
X-ORIGINAL-URL:https://auburnareademocrats.com
X-WR-CALDESC:Events for Auburn Area Democratic Club
REFRESH-INTERVAL;VALUE=DURATION:PT1H
X-Robots-Tag:noindex
X-PUBLISHED-TTL:PT1H
BEGIN:VTIMEZONE
TZID:America/Los_Angeles
BEGIN:DAYLIGHT
TZOFFSETFROM:-0800
TZOFFSETTO:-0700
TZNAME:PDT
DTSTART:20250309T100000
END:DAYLIGHT
BEGIN:STANDARD
TZOFFSETFROM:-0700
TZOFFSETTO:-0800
TZNAME:PST
DTSTART:20251102T090000
END:STANDARD
BEGIN:DAYLIGHT
TZOFFSETFROM:-0800
TZOFFSETTO:-0700
TZNAME:PDT
DTSTART:20260308T100000
END:DAYLIGHT
BEGIN:STANDARD
TZOFFSETFROM:-0700
TZOFFSETTO:-0800
TZNAME:PST
DTSTART:20261101T090000
END:STANDARD
BEGIN:DAYLIGHT
TZOFFSETFROM:-0800
TZOFFSETTO:-0700
TZNAME:PDT
DTSTART:20270314T100000
END:DAYLIGHT
BEGIN:STANDARD
TZOFFSETFROM:-0700
TZOFFSETTO:-0800
TZNAME:PST
DTSTART:20271107T090000
END:STANDARD
END:VTIMEZONE
BEGIN:VEVENT
DTSTART;TZID=America/Los_Angeles:20260201T120000
DTEND;TZID=America/Los_Angeles:20260201T140000
DTSTAMP:20260424T072421
CREATED:20260130T235251Z
LAST-MODIFIED:20260130T235559Z
UID:7087-1769947200-1769954400@auburnareademocrats.com
SUMMARY:Ice Out - Solidarity with Minnesota Rally - Hosted by Indivisible Roseville CA
DESCRIPTION:Sign up HERE \nICE Out of Everywhere! \nICE agents are brutally beating and killing innocent people in the streets of Minneapolis and other American cities. They are using escalating force\, macing and tear gassing peaceful observers\, detaining people including children\, breaking into homes with no warrants and terrorizing entire communities. Enough is enough! When did America turn into a fascist state? We will not normalize this violence and we refuse to stay silent! \nOur own Federal government has weaponized ICE against us and they are lying about what we see happening with our own eyes. Bring your voice\, signs\, noisemakers\, cowbells\, whistles\, music\, etc. and join us as were rise up in protest! We must not let this stand! We demand accountability and justice for Nicole Good and Alex Pretti who were murdered in cold blood by cowardly ICE thugs. \nA core principle behind all Indivisible events is a commitment to nonviolent action and no civil disobedience. We expect all participants to seek to de-escalate any potential confrontation with those who disagree with our values\, and to act lawfully at these events. Weapons of any kind\, including those legally permitted\, should not be brought to events. All events should be held in public spaces or on public property. \nIndivisible is managing data and communications with participants. By registering\, you agree to receive info from Indivisible about the event\, receive communications via e-mail or SMS message from Indivisible\, and receive any other updates and opportunities to take action or support ICE OUT FOR GOOD partner organizations. You also agree to have any data entered in this registration collected by Indivisible. Indivisible will treat your data according to our organization’s applicable privacy policy: https://indivisible.org/privacy-policy
URL:https://auburnareademocrats.com/event/ice-out-solidarity-with-minnesota-rally-hosted-by-indivisible-roseville-ca/
END:VEVENT
BEGIN:VEVENT
DTSTART;TZID=America/Los_Angeles:20260204T100000
DTEND;TZID=America/Los_Angeles:20260204T123000
DTSTAMP:20260424T072421
CREATED:20251229T012231Z
LAST-MODIFIED:20251229T012231Z
UID:6676-1770199200-1770208200@auburnareademocrats.com
SUMMARY:Sierra College Voter Registration Team - Join Us!
DESCRIPTION:If you are interested in registering young voters\, providing voting information and discussing politics in a friendly\, non-confrontational and upbeat way\, we would love to have you join us! If you are interested in joining us and would like more information\, please email us at info@auburnareademocrats.com or check out this LINK from the AADC website. \nIf you are ready to find out if this is the volunteer event for you\, please sign up at Mobilize.us and join us on campus! \nThe Tuesday Team is on campus every other Tuesday from 10:00 to 1:00 starting on January 27\, 2025 \nThe Wednesday team is on campus every Wednesday from 10:00 to 12:30 starting on January 28\, 2025 \nPLEASE VERIFY TEAM SCHEDULES ON THE AADC CALENDAR AND MOBILIZE.US.  Schedules are subject to change based on Sierra College School Schedules and/or Holidays.
URL:https://auburnareademocrats.com/event/sierra-college-voter-registration-team-join-us-3/
LOCATION:Sierra College\, 5100 Sierra College Blvd.\, Rocklin\, 95677
END:VEVENT
BEGIN:VEVENT
DTSTART;TZID=America/Los_Angeles:20260205T174500
DTEND;TZID=America/Los_Angeles:20260205T200000
DTSTAMP:20260424T072421
CREATED:20251205T163222Z
LAST-MODIFIED:20260122T170642Z
UID:6415-1770313500-1770321600@auburnareademocrats.com
SUMMARY:General Membership Meeting w/guest speaker Auburn Journal Editor Bill Poindexter
DESCRIPTION:General Membership Meetings\nOur membership meeting for February 5th will feature Gold Country Media Editor Bill Poindexter to spin stories about what it’s like to be editor of an entire cluster of weeklies\, plus the Auburn Journal. Get a behind-the-scenes look at covering political turmoil and rural struggles during an unprecedented time in American history. A free press is the foundation for democracy because readers need to know the facts\, but how does an editor balance the often conflicting perspectives of the public? How do you get your article or your letter to the editor in the newspaper? \nJoin us to socialize with pizza and drinks ($5 for one slice and $9 for two) in the Rose Room at Auburn City Hall\, 1225 Lincoln Way\, starting at 5:45 (Note time change from previous meetings.) The formal meeting will start at 6:30 and conclude by 8:00. Bring your ideas\, your energy\, and a friend! \nThe Auburn Area Democratic Club meets on the first Thursday of every month for the General Membership Meeting. \n\n\nAuburn City Hall\nRose Room\n1225 Lincoln Way\nAuburn\, CA 95603\n\n\n\n\n5:45PM – Social (Pizza & soft drinks are available for 5.00 per person)\n6:30PM – General Membership Meeting\n8:00PM – Meeting Ends\n\nThe meeting begins promptly at 6:30PM\, starting with club business followed by our Speaker Series.
URL:https://auburnareademocrats.com/event/general-membership-meeting/
LOCATION:Auburn City Hall Rose Room\, 1225 Lincoln Way\, Auburn\, CA 95603\, CA\, 95603\, United States
END:VEVENT
BEGIN:VEVENT
DTSTART;TZID=America/Los_Angeles:20260206T100000
DTEND;TZID=America/Los_Angeles:20260206T130000
DTSTAMP:20260424T072421
CREATED:20251228T200452Z
LAST-MODIFIED:20251228T200452Z
UID:6648-1770372000-1770382800@auburnareademocrats.com
SUMMARY:Coffee & Conversation
DESCRIPTION:Join us for a friendly and stimulating Coffee & Conversation political meetup! We look forward to seeing you and hearing what’s on your mind. \n\nWhen – Fridays from 10:00AM to 1:00PM. (Please check the AADC Events Calendar for any last minute schedule changes)\nWhere – AADC Headquarters at 161 Palm Avenue\, Auburn\, Suite 9\, 2nd Floor\n\nWhether you are deeply involved in local politics\, or just starting to take an interest\, or simply curious to hear different perspectives\, this is the perfect space to engage in thoughtful discussion. You can expect: \n\nOpen Dialogue: Share your thoughts on current events\, local issues\, national news\, and political philosophies in a welcoming environment.\nDiverse Perspectives: Connect with neighbors and fellow citizens who hold a variety of viewpoints.\nCasual Atmosphere: No formal speeches or required topics – just good coffee and great conversation! Feel free to drop-in\, but if you’d like to RSVP\, please click HERE.
URL:https://auburnareademocrats.com/event/coffee-conversation-55/
END:VEVENT
BEGIN:VEVENT
DTSTART;TZID=America/Los_Angeles:20260206T120000
DTEND;TZID=America/Los_Angeles:20260206T130000
DTSTAMP:20260424T072421
CREATED:20251228T195237Z
LAST-MODIFIED:20251228T195252Z
UID:6633-1770379200-1770382800@auburnareademocrats.com
SUMMARY:Fridays for Future
DESCRIPTION:Join us as we bring awareness to the climate crisis.\nWe protest every Friday\, rain or shine\, in front of Auburn City Hall. \nPlease click HERE for more information.
URL:https://auburnareademocrats.com/event/fridays-for-future-56/
LOCATION:Auburn City Hall – Lincoln Way\, 1225 Lincoln Way\, Auburn\, CA 95603\, CA\, 95603\, United States
END:VEVENT
BEGIN:VEVENT
DTSTART;TZID=America/Los_Angeles:20260209T181500
DTEND;TZID=America/Los_Angeles:20260209T200000
DTSTAMP:20260424T072421
CREATED:20260203T021045Z
LAST-MODIFIED:20260203T021927Z
UID:7110-1770660900-1770667200@auburnareademocrats.com
SUMMARY:Meet the Candidates: CA-03 Democratic Virtual Showcase
DESCRIPTION:About this event\nSign up with Mobilize HERE\n\n\n\n\n\n\nMeet the Candidates: CA-03 Democratic Showcase This is your chance to hear directly from the Democratic candidates running to represent California’s 3rd Congressional District! California’s 3rd District is a top priority this year. To make an informed choice in the upcoming primary\, we invite you to a special virtual “Meet the Candidates” event. Event Details • When: Monday\, February 9 • Where: Online via Zoom (Link will be sent to you in advance.) • Time: 6:10 PM – 8:00 PM] \n\nThe Format This is not a debate. Our goal is to ensure voters get a clear\, uninterrupted look at each candidate’s platform\, Each candidate will have 20-25 minutes to: 1. Introduce themselves and their vision for the district. 2. Outline their top legislative priorities. 3. Answer questions in real time. Featured Candidates • Ami Bera: Current U.S. Representative (CA-06) and physician. • Heidi Hall: Nevada County Supervisor and environmental advocate. • Chris Bennett: U.S. Army Veteran and technology professional. \n\nWhy Attend? With redistricting shifting the boundaries of CA-03\, it is more important than ever to know who is asking for your vote. Whether you are concerned about the economy\, healthcare\, or protecting our environment\, this is your opportunity to ask the tough questions and see who best represents your values. RSVP Today: Click the “Register” button to receive the Zoom link in advance of the event. Don’t miss this chance to help shape the future of Placer County and CA-03!
URL:https://auburnareademocrats.com/event/meet-the-candidates-ca-03-democratic-showcase/
END:VEVENT
BEGIN:VEVENT
DTSTART;TZID=America/Los_Angeles:20260210T100000
DTEND;TZID=America/Los_Angeles:20260210T130000
DTSTAMP:20260424T072421
CREATED:20251229T012500Z
LAST-MODIFIED:20251229T012500Z
UID:6678-1770717600-1770728400@auburnareademocrats.com
SUMMARY:Sierra College Voter Registration Team - Join Us!
DESCRIPTION:If you are interested in registering young voters\, providing voting information and discussing politics in a friendly\, non-confrontational and upbeat way\, we would love to have you join us! If you are interested in joining us and would like more information\, please email us at info@auburnareademocrats.com or check out this LINK from the AADC website. \nIf you are ready to find out if this is the volunteer event for you\, please sign up at Mobilize.us and join us on campus! \nThe Tuesday Team is on campus every other Tuesday from 10:00 to 1:00 starting on January 27\, 2025 \nThe Wednesday team is on campus every Wednesday from 10:00 to 12:30 starting on January 28\, 2025 \nPLEASE VERIFY TEAM SCHEDULES ON THE AADC CALENDAR AND MOBILIZE.US.  Schedules are subject to change based on Sierra College School Schedules and/or Holidays.
URL:https://auburnareademocrats.com/event/sierra-college-voter-registration-team-join-us-4/
LOCATION:Sierra College\, 5100 Sierra College Blvd.\, Rocklin\, 95677
END:VEVENT
BEGIN:VEVENT
DTSTART;TZID=America/Los_Angeles:20260210T143000
DTEND;TZID=America/Los_Angeles:20260210T153000
DTSTAMP:20260424T072421
CREATED:20260212T051956Z
LAST-MODIFIED:20260212T051956Z
UID:7219-1770733800-1770737400@auburnareademocrats.com
SUMMARY:AADC Communications Committee Meeting
DESCRIPTION:
URL:https://auburnareademocrats.com/event/aadc-communications-committee-meeting-12/
LOCATION:AADC Campaign Headquarters\, 161 Palm Avenue - Suite 9\, AUBURN\, CA\, 95603\, United States
END:VEVENT
BEGIN:VEVENT
DTSTART;TZID=America/Los_Angeles:20260211T100000
DTEND;TZID=America/Los_Angeles:20260211T123000
DTSTAMP:20260424T072421
CREATED:20251229T012602Z
LAST-MODIFIED:20251229T012602Z
UID:6680-1770804000-1770813000@auburnareademocrats.com
SUMMARY:Sierra College Voter Registration Team - Join Us!
DESCRIPTION:If you are interested in registering young voters\, providing voting information and discussing politics in a friendly\, non-confrontational and upbeat way\, we would love to have you join us! If you are interested in joining us and would like more information\, please email us at info@auburnareademocrats.com or check out this LINK from the AADC website. \nIf you are ready to find out if this is the volunteer event for you\, please sign up at Mobilize.us and join us on campus! \nThe Tuesday Team is on campus every other Tuesday from 10:00 to 1:00 starting on January 27\, 2025 \nThe Wednesday team is on campus every Wednesday from 10:00 to 12:30 starting on January 28\, 2025 \nPLEASE VERIFY TEAM SCHEDULES ON THE AADC CALENDAR AND MOBILIZE.US.  Schedules are subject to change based on Sierra College School Schedules and/or Holidays.
URL:https://auburnareademocrats.com/event/sierra-college-voter-registration-team-join-us-5/
LOCATION:Sierra College\, 5100 Sierra College Blvd.\, Rocklin\, 95677
END:VEVENT
BEGIN:VEVENT
DTSTART;TZID=America/Los_Angeles:20260213T100000
DTEND;TZID=America/Los_Angeles:20260213T130000
DTSTAMP:20260424T072421
CREATED:20251228T200540Z
LAST-MODIFIED:20251228T200540Z
UID:6650-1770976800-1770987600@auburnareademocrats.com
SUMMARY:Coffee & Conversation
DESCRIPTION:Join us for a friendly and stimulating Coffee & Conversation political meetup! We look forward to seeing you and hearing what’s on your mind. \n\nWhen – Fridays from 10:00AM to 1:00PM. (Please check the AADC Events Calendar for any last minute schedule changes)\nWhere – AADC Headquarters at 161 Palm Avenue\, Auburn\, Suite 9\, 2nd Floor\n\nWhether you are deeply involved in local politics\, or just starting to take an interest\, or simply curious to hear different perspectives\, this is the perfect space to engage in thoughtful discussion. You can expect: \n\nOpen Dialogue: Share your thoughts on current events\, local issues\, national news\, and political philosophies in a welcoming environment.\nDiverse Perspectives: Connect with neighbors and fellow citizens who hold a variety of viewpoints.\nCasual Atmosphere: No formal speeches or required topics – just good coffee and great conversation! Feel free to drop-in\, but if you’d like to RSVP\, please click HERE.
URL:https://auburnareademocrats.com/event/coffee-conversation-56/
END:VEVENT
BEGIN:VEVENT
DTSTART;TZID=America/Los_Angeles:20260213T120000
DTEND;TZID=America/Los_Angeles:20260213T130000
DTSTAMP:20260424T072421
CREATED:20251228T195352Z
LAST-MODIFIED:20251228T195352Z
UID:6632-1770984000-1770987600@auburnareademocrats.com
SUMMARY:Fridays for Future
DESCRIPTION:Join us as we bring awareness to the climate crisis.\nWe protest every Friday\, rain or shine\, in front of Auburn City Hall. \nPlease click HERE for more information.
URL:https://auburnareademocrats.com/event/fridays-for-future-57/
LOCATION:Auburn City Hall – Lincoln Way\, 1225 Lincoln Way\, Auburn\, CA 95603\, CA\, 95603\, United States
END:VEVENT
BEGIN:VEVENT
DTSTART;TZID=America/Los_Angeles:20260213T123000
DTEND;TZID=America/Los_Angeles:20260213T143000
DTSTAMP:20260424T072421
CREATED:20251207T015949Z
LAST-MODIFIED:20260112T022713Z
UID:6443-1770985800-1770993000@auburnareademocrats.com
SUMMARY:E-Board Meeting
DESCRIPTION:The AADC E-Board Meeting is normally held on the second Friday of each month from 12:30 – 2:30pm \nIf you would like to be added to the agenda or would like to attend\, please email info@auburnareademocrats.com. \n(Our offices are on the second floor. Park in the back and enter via the back door for direct access.)
URL:https://auburnareademocrats.com/event/e-board-meeting-14/
LOCATION:AADC Campaign Headquarters\, 161 Palm Avenue - Suite 9\, AUBURN\, CA\, 95603\, United States
END:VEVENT
BEGIN:VEVENT
DTSTART;TZID=America/Los_Angeles:20260218T100000
DTEND;TZID=America/Los_Angeles:20260218T123000
DTSTAMP:20260424T072421
CREATED:20251229T012735Z
LAST-MODIFIED:20251229T012735Z
UID:6682-1771408800-1771417800@auburnareademocrats.com
SUMMARY:Sierra College Voter Registration Team - Join Us!
DESCRIPTION:If you are interested in registering young voters\, providing voting information and discussing politics in a friendly\, non-confrontational and upbeat way\, we would love to have you join us! If you are interested in joining us and would like more information\, please email us at info@auburnareademocrats.com or check out this LINK from the AADC website. \nIf you are ready to find out if this is the volunteer event for you\, please sign up at Mobilize.us and join us on campus! \nThe Tuesday Team is on campus every other Tuesday from 10:00 to 1:00 starting on January 27\, 2025 \nThe Wednesday team is on campus every Wednesday from 10:00 to 12:30 starting on January 28\, 2025 \nPLEASE VERIFY TEAM SCHEDULES ON THE AADC CALENDAR AND MOBILIZE.US.  Schedules are subject to change based on Sierra College School Schedules and/or Holidays.
URL:https://auburnareademocrats.com/event/sierra-college-voter-registration-team-join-us-6/
LOCATION:Sierra College\, 5100 Sierra College Blvd.\, Rocklin\, 95677
END:VEVENT
BEGIN:VEVENT
DTSTART;TZID=America/Los_Angeles:20260218T173000
DTEND;TZID=America/Los_Angeles:20260218T193000
DTSTAMP:20260424T072421
CREATED:20260217T000204Z
LAST-MODIFIED:20260217T000240Z
UID:7286-1771435800-1771443000@auburnareademocrats.com
SUMMARY:Neva Parker Pre-Convention Hype Party & Fundraiser
DESCRIPTION:Sign-up HERE\nPre-Convention Hype Party and Fundraiser\n\nHosted by Team Neva Parker \n📍 Lincoln Old Town Pizza – 599 Lincoln Blvd\, Lincoln\, CA 95648 \nJoin us as we gear up for Convention—100% pre-endorsed\, powered by your support\, and ready to win. \nBefore we head to Convention\, let’s come together to celebrate the momentum behind this campaign and fuel what comes next. Neva earned 100% of the pre-endorsement votes\, and now we’re building the grassroots power needed to carry that momentum forward. \nThis campaign is also committed to developing the next generation of leaders. We’re bringing our interns and young volunteers to Convention so they can experience the process firsthand\, build connections\, and grow as organizers and future candidates. \nYour contribution helps cover the cost of Convention for these young leaders—making sure they’re not just invited to the table\, but supported while they’re there. \nCome for the pizza\, stay for the community\, and invest in a campaign—and a movement—that’s building leadership for the long haul.
URL:https://auburnareademocrats.com/event/neva-parker-pre-convention-hype-party-fundraiser/
END:VEVENT
BEGIN:VEVENT
DTSTART;TZID=America/Los_Angeles:20260220T100000
DTEND;TZID=America/Los_Angeles:20260220T130000
DTSTAMP:20260424T072421
CREATED:20251228T200806Z
LAST-MODIFIED:20251228T200806Z
UID:6652-1771581600-1771592400@auburnareademocrats.com
SUMMARY:Coffee & Conversation
DESCRIPTION:Join us for a friendly and stimulating Coffee & Conversation political meetup! We look forward to seeing you and hearing what’s on your mind. \n\nWhen – Fridays from 10:00AM to 1:00PM. (Please check the AADC Events Calendar for any last minute schedule changes)\nWhere – AADC Headquarters at 161 Palm Avenue\, Auburn\, Suite 9\, 2nd Floor\n\nWhether you are deeply involved in local politics\, or just starting to take an interest\, or simply curious to hear different perspectives\, this is the perfect space to engage in thoughtful discussion. You can expect: \n\nOpen Dialogue: Share your thoughts on current events\, local issues\, national news\, and political philosophies in a welcoming environment.\nDiverse Perspectives: Connect with neighbors and fellow citizens who hold a variety of viewpoints.\nCasual Atmosphere: No formal speeches or required topics – just good coffee and great conversation! Feel free to drop-in\, but if you’d like to RSVP\, please click HERE.
URL:https://auburnareademocrats.com/event/coffee-conversation-57/
END:VEVENT
BEGIN:VEVENT
DTSTART;TZID=America/Los_Angeles:20260220T120000
DTEND;TZID=America/Los_Angeles:20260220T130000
DTSTAMP:20260424T072421
CREATED:20251228T195812Z
LAST-MODIFIED:20251228T195812Z
UID:6636-1771588800-1771592400@auburnareademocrats.com
SUMMARY:Fridays for Future
DESCRIPTION:Join us as we bring awareness to the climate crisis.\nWe protest every Friday\, rain or shine\, in front of Auburn City Hall. \nPlease click HERE for more information.
URL:https://auburnareademocrats.com/event/fridays-for-future-58/
LOCATION:Auburn City Hall – Lincoln Way\, 1225 Lincoln Way\, Auburn\, CA 95603\, CA\, 95603\, United States
END:VEVENT
BEGIN:VEVENT
DTSTART;TZID=America/Los_Angeles:20260224T100000
DTEND;TZID=America/Los_Angeles:20260224T130000
DTSTAMP:20260424T072421
CREATED:20251229T012837Z
LAST-MODIFIED:20251229T012837Z
UID:6684-1771927200-1771938000@auburnareademocrats.com
SUMMARY:Sierra College Voter Registration Team - Join Us!
DESCRIPTION:If you are interested in registering young voters\, providing voting information and discussing politics in a friendly\, non-confrontational and upbeat way\, we would love to have you join us! If you are interested in joining us and would like more information\, please email us at info@auburnareademocrats.com or check out this LINK from the AADC website. \nIf you are ready to find out if this is the volunteer event for you\, please sign up at Mobilize.us and join us on campus! \nThe Tuesday Team is on campus every other Tuesday from 10:00 to 1:00 starting on January 27\, 2025 \nThe Wednesday team is on campus every Wednesday from 10:00 to 12:30 starting on January 28\, 2025 \nPLEASE VERIFY TEAM SCHEDULES ON THE AADC CALENDAR AND MOBILIZE.US.  Schedules are subject to change based on Sierra College School Schedules and/or Holidays.
URL:https://auburnareademocrats.com/event/sierra-college-voter-registration-team-join-us-7/
LOCATION:Sierra College\, 5100 Sierra College Blvd.\, Rocklin\, 95677
END:VEVENT
BEGIN:VEVENT
DTSTART;TZID=America/Los_Angeles:20260225T100000
DTEND;TZID=America/Los_Angeles:20260225T123000
DTSTAMP:20260424T072421
CREATED:20251229T012928Z
LAST-MODIFIED:20251229T012928Z
UID:6686-1772013600-1772022600@auburnareademocrats.com
SUMMARY:Sierra College Voter Registration Team - Join Us!
DESCRIPTION:If you are interested in registering young voters\, providing voting information and discussing politics in a friendly\, non-confrontational and upbeat way\, we would love to have you join us! If you are interested in joining us and would like more information\, please email us at info@auburnareademocrats.com or check out this LINK from the AADC website. \nIf you are ready to find out if this is the volunteer event for you\, please sign up at Mobilize.us and join us on campus! \nThe Tuesday Team is on campus every other Tuesday from 10:00 to 1:00 starting on January 27\, 2025 \nThe Wednesday team is on campus every Wednesday from 10:00 to 12:30 starting on January 28\, 2025 \nPLEASE VERIFY TEAM SCHEDULES ON THE AADC CALENDAR AND MOBILIZE.US.  Schedules are subject to change based on Sierra College School Schedules and/or Holidays.
URL:https://auburnareademocrats.com/event/sierra-college-voter-registration-team-join-us-8/
LOCATION:Sierra College\, 5100 Sierra College Blvd.\, Rocklin\, 95677
END:VEVENT
BEGIN:VEVENT
DTSTART;TZID=America/Los_Angeles:20260227T100000
DTEND;TZID=America/Los_Angeles:20260227T130000
DTSTAMP:20260424T072421
CREATED:20251228T200853Z
LAST-MODIFIED:20251228T200853Z
UID:6654-1772186400-1772197200@auburnareademocrats.com
SUMMARY:Coffee & Conversation
DESCRIPTION:Join us for a friendly and stimulating Coffee & Conversation political meetup! We look forward to seeing you and hearing what’s on your mind. \n\nWhen – Fridays from 10:00AM to 1:00PM. (Please check the AADC Events Calendar for any last minute schedule changes)\nWhere – AADC Headquarters at 161 Palm Avenue\, Auburn\, Suite 9\, 2nd Floor\n\nWhether you are deeply involved in local politics\, or just starting to take an interest\, or simply curious to hear different perspectives\, this is the perfect space to engage in thoughtful discussion. You can expect: \n\nOpen Dialogue: Share your thoughts on current events\, local issues\, national news\, and political philosophies in a welcoming environment.\nDiverse Perspectives: Connect with neighbors and fellow citizens who hold a variety of viewpoints.\nCasual Atmosphere: No formal speeches or required topics – just good coffee and great conversation! Feel free to drop-in\, but if you’d like to RSVP\, please click HERE.
URL:https://auburnareademocrats.com/event/coffee-conversation-58/
END:VEVENT
BEGIN:VEVENT
DTSTART;TZID=America/Los_Angeles:20260227T120000
DTEND;TZID=America/Los_Angeles:20260227T130000
DTSTAMP:20260424T072421
CREATED:20251228T195908Z
LAST-MODIFIED:20251228T195908Z
UID:6638-1772193600-1772197200@auburnareademocrats.com
SUMMARY:Fridays for Future
DESCRIPTION:Join us as we bring awareness to the climate crisis.\nWe protest every Friday\, rain or shine\, in front of Auburn City Hall. \nPlease click HERE for more information.
URL:https://auburnareademocrats.com/event/fridays-for-future-59/
LOCATION:Auburn City Hall – Lincoln Way\, 1225 Lincoln Way\, Auburn\, CA 95603\, CA\, 95603\, United States
END:VEVENT
END:VCALENDAR