BEGIN:VCALENDAR
VERSION:2.0
PRODID:-//Auburn Area Democratic Club - ECPv6.15.20//NONSGML v1.0//EN
CALSCALE:GREGORIAN
METHOD:PUBLISH
X-WR-CALNAME:Auburn Area Democratic Club
X-ORIGINAL-URL:https://auburnareademocrats.com
X-WR-CALDESC:Events for Auburn Area Democratic Club
REFRESH-INTERVAL;VALUE=DURATION:PT1H
X-Robots-Tag:noindex
X-PUBLISHED-TTL:PT1H
BEGIN:VTIMEZONE
TZID:America/Los_Angeles
BEGIN:DAYLIGHT
TZOFFSETFROM:-0800
TZOFFSETTO:-0700
TZNAME:PDT
DTSTART:20250309T100000
END:DAYLIGHT
BEGIN:STANDARD
TZOFFSETFROM:-0700
TZOFFSETTO:-0800
TZNAME:PST
DTSTART:20251102T090000
END:STANDARD
BEGIN:DAYLIGHT
TZOFFSETFROM:-0800
TZOFFSETTO:-0700
TZNAME:PDT
DTSTART:20260308T100000
END:DAYLIGHT
BEGIN:STANDARD
TZOFFSETFROM:-0700
TZOFFSETTO:-0800
TZNAME:PST
DTSTART:20261101T090000
END:STANDARD
BEGIN:DAYLIGHT
TZOFFSETFROM:-0800
TZOFFSETTO:-0700
TZNAME:PDT
DTSTART:20270314T100000
END:DAYLIGHT
BEGIN:STANDARD
TZOFFSETFROM:-0700
TZOFFSETTO:-0800
TZNAME:PST
DTSTART:20271107T090000
END:STANDARD
END:VTIMEZONE
BEGIN:VEVENT
DTSTART;TZID=America/Los_Angeles:20260529T120000
DTEND;TZID=America/Los_Angeles:20260529T130000
DTSTAMP:20260424T071440
CREATED:20260311T230158Z
LAST-MODIFIED:20260311T230158Z
UID:7694-1780056000-1780059600@auburnareademocrats.com
SUMMARY:Fridays for Future
DESCRIPTION:Join us as we bring awareness to the climate crisis.\nWe protest every Friday\, rain or shine\, in front of Auburn City Hall. \nPlease click HERE for more information.
URL:https://auburnareademocrats.com/event/fridays-for-future-72/
LOCATION:Auburn City Hall – Lincoln Way\, 1225 Lincoln Way\, Auburn\, CA 95603\, CA\, 95603\, United States
END:VEVENT
END:VCALENDAR