BEGIN:VCALENDAR
VERSION:2.0
PRODID:-//Auburn Area Democratic Club - ECPv6.15.20//NONSGML v1.0//EN
CALSCALE:GREGORIAN
METHOD:PUBLISH
X-WR-CALNAME:Auburn Area Democratic Club
X-ORIGINAL-URL:https://auburnareademocrats.com
X-WR-CALDESC:Events for Auburn Area Democratic Club
REFRESH-INTERVAL;VALUE=DURATION:PT1H
X-Robots-Tag:noindex
X-PUBLISHED-TTL:PT1H
BEGIN:VTIMEZONE
TZID:America/Los_Angeles
BEGIN:DAYLIGHT
TZOFFSETFROM:-0800
TZOFFSETTO:-0700
TZNAME:PDT
DTSTART:20240310T100000
END:DAYLIGHT
BEGIN:STANDARD
TZOFFSETFROM:-0700
TZOFFSETTO:-0800
TZNAME:PST
DTSTART:20241103T090000
END:STANDARD
BEGIN:DAYLIGHT
TZOFFSETFROM:-0800
TZOFFSETTO:-0700
TZNAME:PDT
DTSTART:20250309T100000
END:DAYLIGHT
BEGIN:STANDARD
TZOFFSETFROM:-0700
TZOFFSETTO:-0800
TZNAME:PST
DTSTART:20251102T090000
END:STANDARD
BEGIN:DAYLIGHT
TZOFFSETFROM:-0800
TZOFFSETTO:-0700
TZNAME:PDT
DTSTART:20260308T100000
END:DAYLIGHT
BEGIN:STANDARD
TZOFFSETFROM:-0700
TZOFFSETTO:-0800
TZNAME:PST
DTSTART:20261101T090000
END:STANDARD
END:VTIMEZONE
BEGIN:VEVENT
DTSTART;TZID=America/Los_Angeles:20250407T173000
DTEND;TZID=America/Los_Angeles:20250407T193000
DTSTAMP:20260425T202632
CREATED:20250131T193249Z
LAST-MODIFIED:20250303T220302Z
UID:4243-1744047000-1744054200@auburnareademocrats.com
SUMMARY:E-Board Meeting
DESCRIPTION:If you would like to be added to the agenda or would like to attend\, please email info@auburnareademocrats.com. \n(Our offices are on the second floor. Park in the back and enter via the back door for direct access.)
URL:https://auburnareademocrats.com/event/e-board-meeting-4/
LOCATION:AADC Campaign Headquarters\, 161 Palm Avenue - Suite 9\, AUBURN\, CA\, 95603\, United States
END:VEVENT
BEGIN:VEVENT
DTSTART;TZID=America/Los_Angeles:20250405T120000
DTEND;TZID=America/Los_Angeles:20250405T160000
DTSTAMP:20260425T202632
CREATED:20250310T174423Z
LAST-MODIFIED:20250310T174423Z
UID:4733-1743854400-1743868800@auburnareademocrats.com
SUMMARY:50501 Rally: Remove Reverse Reclaim
DESCRIPTION:
URL:https://auburnareademocrats.com/event/50501-rally-remove-reverse-reclaim/
LOCATION:California State Capitol\, 1315 10th St\, Sacramento\, CA\, 95814\, United States
END:VEVENT
BEGIN:VEVENT
DTSTART;TZID=America/Los_Angeles:20250405T110000
DTEND;TZID=America/Los_Angeles:20250405T130000
DTSTAMP:20260425T202632
CREATED:20250319T200031Z
LAST-MODIFIED:20250319T200031Z
UID:4799-1743850800-1743858000@auburnareademocrats.com
SUMMARY:Indivisible Auburn: Hands Off Rally
DESCRIPTION:From the organizer: \n\n\n\nOn April 5th\, #50501\, Indivisible\, and many other organizations are sponsoring demonstrations in every state. There will be a large showing in Sacramento. We want to show our local concern and support and will have a demonstration of our own in Auburn. Protesters will bring attention to the many anti-democracy issues (voter suppression\, mass layoffs in needed services\, threats to Social Security\, threats to Medicare and more. We will also ask AGAIN\, #WheresKevinKiley since he refuses to do an in-person Town Hall. \nParticipants are asked to wear blue\, yellow\, or blue/yellow to show our support for the people of Ukraine and against the Russian aggressor\, Putin. \nWe will also have a mailbox for you to deposit your letters to Kiley. We will make sure they are delivered to him. We are also collecting non-perishable food stuffs. Trump’s economy will hurt many and we can help out by taking these donations to the local food bank.Our last demonstration was held by the Placer County/Auburn Courthouse. But\, this date is the same time as the Auburn Farmers’ Market nearby. The parking would be very hard for everyone. So\, we are meeting at the corner of Bell Rd. and Highway 49 on the sidewalks which are public property. There is parking at Target and in the parking lot by Panera and McDonald’s across the street.\nDrivers have generally been quite supportive. However\, participants are encouraged not to engage with any MAGA folks who might get confrontational. No one “wins” and it could cause issues. We are the “good guys”.\nIf you want to go to Sacramento instead to add to the huge response\, try to carpool since parking is difficult. \nSign up here.
URL:https://auburnareademocrats.com/event/indivisible-auburn-hands-off-rally/
LOCATION:Target\, Target 2700 Bell Rd\, Auburn\, CA\, 95603\, United States
END:VEVENT
BEGIN:VEVENT
DTSTART;TZID=America/Los_Angeles:20250405T110000
DTEND;TZID=America/Los_Angeles:20250405T130000
DTSTAMP:20260425T202632
CREATED:20250311T174736Z
LAST-MODIFIED:20250311T174736Z
UID:4744-1743850800-1743858000@auburnareademocrats.com
SUMMARY:Elon Protest at Tesla
DESCRIPTION:Every Saturday from 11am – 1pm\nTesla on Granite Drive\, Rocklin\nRain or shine!
URL:https://auburnareademocrats.com/event/elon-protest-at-tesla-4/
LOCATION:Tesla Dealership\, 4361 Granite Drive\, Rocklin\, CA\, 95677\, United States
END:VEVENT
BEGIN:VEVENT
DTSTART;TZID=America/Los_Angeles:20250404T183000
DTEND;TZID=America/Los_Angeles:20250404T203000
DTSTAMP:20260425T202632
CREATED:20250328T180917Z
LAST-MODIFIED:20250328T190505Z
UID:4833-1743791400-1743798600@auburnareademocrats.com
SUMMARY:NorCal Resist: Know Your Rights Training
DESCRIPTION:REGISTRATION LINK HERE
URL:https://auburnareademocrats.com/event/norcal-resist-know-your-rights-training/
LOCATION:TBD
END:VEVENT
BEGIN:VEVENT
DTSTART;TZID=America/Los_Angeles:20250404T120000
DTEND;TZID=America/Los_Angeles:20250404T130000
DTSTAMP:20260425T202632
CREATED:20250131T192424Z
LAST-MODIFIED:20250131T192424Z
UID:4226-1743768000-1743771600@auburnareademocrats.com
SUMMARY:Fridays for Future
DESCRIPTION:Join us as we bring awareness to the climate crisis.\nWe protest every Friday\, rain or shine\, in front of Auburn City Hall. \nPlease click HERE for more information.
URL:https://auburnareademocrats.com/event/fridays-for-future-13/
LOCATION:Auburn City Hall – Lincoln Way\, 1225 Lincoln Way\, Auburn\, CA 95603\, CA\, 95603\, United States
END:VEVENT
BEGIN:VEVENT
DTSTART;TZID=America/Los_Angeles:20250404T100000
DTEND;TZID=America/Los_Angeles:20250404T130000
DTSTAMP:20260425T202632
CREATED:20250131T192833Z
LAST-MODIFIED:20250131T192833Z
UID:4234-1743760800-1743771600@auburnareademocrats.com
SUMMARY:Coffee & Conversation
DESCRIPTION:  \nEvery Friday from 10am-1pm at the AADC HQ. \nBring an article or podcast to share\, or just bring yourself! \nFeel free to drop-in\, but if you’d like to RSVP\, please click HERE.
URL:https://auburnareademocrats.com/event/coffee-conversation-13/
LOCATION:AADC Campaign Headquarters\, 161 Palm Avenue - Suite 9\, AUBURN\, CA\, 95603\, United States
END:VEVENT
BEGIN:VEVENT
DTSTART;TZID=America/Los_Angeles:20250403T173000
DTEND;TZID=America/Los_Angeles:20250403T200000
DTSTAMP:20260425T202632
CREATED:20250131T191919Z
LAST-MODIFIED:20250330T001439Z
UID:4223-1743701400-1743710400@auburnareademocrats.com
SUMMARY:Monthly Members Meeting
DESCRIPTION:The April Monthly Members meeting of AADC will be held on Thursday\, April 3\, 2025\, at 6:30pm in the Rose Room at Auburn City Hall\, 1225 Lincoln Way\, Auburn. \nThis month will be a joint meeting with the Placer Action Network (PAN).  \nSee Rose Room address\, map\, parking information and directions here. \nSocial time starts at 5:30 pm\, with pizza and soft drinks available for $5.00 per person. \nThe meeting begins promptly at 6:30 pm\, starting with our Speaker Series and followed by club business. Meetings end at 8:00 pm. \nBring a friend! \nOur Topic: \nThe Political History of Russia and Ukraine — presented by Terry McAteer \n 
URL:https://auburnareademocrats.com/event/monthly-members-meeting-4/
LOCATION:Auburn City Hall Rose Room\, 1225 Lincoln Way\, Auburn\, CA 95603\, CA\, 95603\, United States
END:VEVENT
BEGIN:VEVENT
DTSTART;TZID=America/Los_Angeles:20250403T150000
DTEND;TZID=America/Los_Angeles:20250403T163000
DTSTAMP:20260425T202632
CREATED:20250305T164051Z
LAST-MODIFIED:20250305T164051Z
UID:4697-1743692400-1743697800@auburnareademocrats.com
SUMMARY:RATT Pack: Pro-FBI Rally
DESCRIPTION:From the organizer:\nCurrently\, employees of the FBI (including some in the Roseville FBI Headquarters) are under attack by the Donald Trump and Elon Musk administration due to the fact there was an intensive investigation into the many violent combatives who were involved and jailed because of the January 6 attack of the United States Capitol and all the officers who were there to protect the capitol and the legislative individuals inside the building.\nLinda Hall exclaimed\, “I simply want to see\, and show\, how much local support there is for resistance to all the Trump administration’s agenda. I know there were at least a few locals involved in the Jan. 6 investigation\, so I believe there are probably some FBI employees subject to the purge; I want them to know they have our local support.”\nBarbara Brass said\, “My message is ALWAYS to show up and speak up for every situation that is harmful to our Democracy and to protect targeted and marginalized individuals. Anyone who works for the FBI who was part of investigating Donald Trump and his part in the January 6 violent attack on the United States Capitol. I hope many people show up from many groups with good messages!”
URL:https://auburnareademocrats.com/event/ratt-pack-pro-fbi-rally-7/
LOCATION:FBI Headquarters\, 2001 Freedom Way\, Roseville\, California\, 95678\, United States
END:VEVENT
BEGIN:VEVENT
DTSTART;TZID=America/Los_Angeles:20250401T070000
DTEND;TZID=America/Los_Angeles:20250401T080000
DTSTAMP:20260425T202632
CREATED:20250328T173055Z
LAST-MODIFIED:20250328T173315Z
UID:4823-1743490800-1743494400@auburnareademocrats.com
SUMMARY:Meddlers Chamber Forum - Placer County Superintendent of Schools Gayle Garbolino-Mojica
DESCRIPTION:From the organizer:\nMeddlers also known as the Chamber Forum is a great way to learn about what’s happening in the greater Auburn Area. Also known as Auburn Town Hall\, it is a great place to meet new leaders and learn from those leading. Meddlers is a hybrid between in person in the Rose Room at City Hall and Zoom.\nSpeaker:\n4/1/25- Gayle Garbolino-Mojica- Placer County Superintendent of Schools
URL:https://auburnareademocrats.com/event/meddlers-chamber-forum/
LOCATION:Via ZOOM
END:VEVENT
BEGIN:VEVENT
DTSTART;TZID=America/Los_Angeles:20250329T100000
DTEND;TZID=America/Los_Angeles:20250329T130000
DTSTAMP:20260425T202632
CREATED:20250311T174707Z
LAST-MODIFIED:20250327T001851Z
UID:4742-1743242400-1743253200@auburnareademocrats.com
SUMMARY:Elon Protest at Tesla
DESCRIPTION:PLEASE NOTE TIME CHANGE FOR THIS WEEK: ARRIVE AT 10AM\nEvery Saturday from 11am – 1pm\nTesla on Granite Drive\, Rocklin\nRain or shine!
URL:https://auburnareademocrats.com/event/elon-protest-at-tesla-3/
LOCATION:Tesla Dealership\, 4361 Granite Drive\, Rocklin\, CA\, 95677\, United States
END:VEVENT
BEGIN:VEVENT
DTSTART;TZID=America/Los_Angeles:20250329T100000
DTEND;TZID=America/Los_Angeles:20250329T130000
DTSTAMP:20260425T202632
CREATED:20250215T200918Z
LAST-MODIFIED:20250215T200918Z
UID:4470-1743242400-1743253200@auburnareademocrats.com
SUMMARY:Labor Council for Latin American Advancement\, Sacramento: 23rd Annual Sacramento Cesar Chavez March
DESCRIPTION:
URL:https://auburnareademocrats.com/event/labor-council-for-latin-american-advancement-sacramento-23rd-annual-sacramento-cesar-chavez-march/
LOCATION:Southside Park\, Sacramento
END:VEVENT
BEGIN:VEVENT
DTSTART;TZID=America/Los_Angeles:20250328T120000
DTEND;TZID=America/Los_Angeles:20250328T130000
DTSTAMP:20260425T202632
CREATED:20250107T012818Z
LAST-MODIFIED:20250113T202905Z
UID:3906-1743163200-1743166800@auburnareademocrats.com
SUMMARY:Fridays for Future
DESCRIPTION:Join us as we bring awareness to the climate crisis.\nWe protest every Friday\, rain or shine\, in front of Auburn City Hall. \nPlease click HERE for more information.
URL:https://auburnareademocrats.com/event/fridays-for-future-12/
LOCATION:Auburn City Hall – Lincoln Way\, 1225 Lincoln Way\, Auburn\, CA 95603\, CA\, 95603\, United States
END:VEVENT
BEGIN:VEVENT
DTSTART;TZID=America/Los_Angeles:20250328T100000
DTEND;TZID=America/Los_Angeles:20250328T130000
DTSTAMP:20260425T202632
CREATED:20250107T012708Z
LAST-MODIFIED:20250113T204005Z
UID:3900-1743156000-1743166800@auburnareademocrats.com
SUMMARY:Coffee & Conversation
DESCRIPTION:  \nFeel free to drop-in\, but if you’d like to RSVP\, please click HERE. \n \n 
URL:https://auburnareademocrats.com/event/coffee-conversation-12/
LOCATION:AADC Campaign Headquarters\, 161 Palm Avenue - Suite 9\, AUBURN\, CA\, 95603\, United States
END:VEVENT
BEGIN:VEVENT
DTSTART;TZID=America/Los_Angeles:20250327T183000
DTEND;TZID=America/Los_Angeles:20250327T193000
DTSTAMP:20260425T202632
CREATED:20250327T001423Z
LAST-MODIFIED:20250327T001423Z
UID:4809-1743100200-1743103800@auburnareademocrats.com
SUMMARY:Congressman Kiley Tele-Town Hall
DESCRIPTION:
URL:https://auburnareademocrats.com/event/congressman-kiley-tele-town-hall/
LOCATION:CA
END:VEVENT
BEGIN:VEVENT
DTSTART;TZID=America/Los_Angeles:20250327T150000
DTEND;TZID=America/Los_Angeles:20250327T163000
DTSTAMP:20260425T202632
CREATED:20250305T164029Z
LAST-MODIFIED:20250305T164029Z
UID:4695-1743087600-1743093000@auburnareademocrats.com
SUMMARY:RATT Pack: Pro-FBI Rally
DESCRIPTION:From the organizer:\nCurrently\, employees of the FBI (including some in the Roseville FBI Headquarters) are under attack by the Donald Trump and Elon Musk administration due to the fact there was an intensive investigation into the many violent combatives who were involved and jailed because of the January 6 attack of the United States Capitol and all the officers who were there to protect the capitol and the legislative individuals inside the building.\nLinda Hall exclaimed\, “I simply want to see\, and show\, how much local support there is for resistance to all the Trump administration’s agenda. I know there were at least a few locals involved in the Jan. 6 investigation\, so I believe there are probably some FBI employees subject to the purge; I want them to know they have our local support.”\nBarbara Brass said\, “My message is ALWAYS to show up and speak up for every situation that is harmful to our Democracy and to protect targeted and marginalized individuals. Anyone who works for the FBI who was part of investigating Donald Trump and his part in the January 6 violent attack on the United States Capitol. I hope many people show up from many groups with good messages!”
URL:https://auburnareademocrats.com/event/ratt-pack-pro-fbi-rally-6/
LOCATION:FBI Headquarters\, 2001 Freedom Way\, Roseville\, California\, 95678\, United States
END:VEVENT
BEGIN:VEVENT
DTSTART;TZID=America/Los_Angeles:20250326T100000
DTEND;TZID=America/Los_Angeles:20250326T130000
DTSTAMP:20260425T202632
CREATED:20250116T195017Z
LAST-MODIFIED:20250116T195017Z
UID:4062-1742983200-1742994000@auburnareademocrats.com
SUMMARY:Voter Registration at Sierra College
DESCRIPTION:Join us as we register new voters at Sierra College!\nWe register voters\, alternating weekly between Wednesday and the Tuesday registration teams\,  with a break for the summer. We are on campus from 10:00 a.m. to 1:00 p.m. \nIf you are interested in registering young voters\, providing voting information\,  and just talking politics in a friendly\, nonconfrontational\, and upbeat way we would love to have you join us. \nPlease click HERE to register. \nAnd\, please click HERE to read our 2024 Campus Update. \n 
URL:https://auburnareademocrats.com/event/voter-registration-at-sierra-college-12/
LOCATION:Sierra College\, 5100 Sierra College Blvd.\, Rocklin\, 95677
END:VEVENT
BEGIN:VEVENT
DTSTART;TZID=America/Los_Angeles:20250325T143000
DTEND;TZID=America/Los_Angeles:20250325T153000
DTSTAMP:20260425T202632
CREATED:20250129T032046Z
LAST-MODIFIED:20250305T164559Z
UID:4203-1742913000-1742916600@auburnareademocrats.com
SUMMARY:AADC Communications Committee Meeting
DESCRIPTION:The Communications Committee of the AADC meets monthly on the 4th Tuesday of every month at 2:30 P.M.  at the AADC Headquarters.\nAll AADC members are welcome.\nFor more information\, please email info@auburnareademocrats.com.
URL:https://auburnareademocrats.com/event/aadc-communications-committee-meeting-2/
LOCATION:AADC Campaign Headquarters\, 161 Palm Avenue - Suite 9\, AUBURN\, CA\, 95603\, United States
END:VEVENT
BEGIN:VEVENT
DTSTART;TZID=America/Los_Angeles:20250324T170000
DTEND;TZID=America/Los_Angeles:20250324T190000
DTSTAMP:20260425T202632
CREATED:20250227T214413Z
LAST-MODIFIED:20250227T214413Z
UID:4573-1742835600-1742842800@auburnareademocrats.com
SUMMARY:National Women's Political Caucus Quarterly Membership Meeting
DESCRIPTION:
URL:https://auburnareademocrats.com/event/national-womens-political-caucus-quarterly-membership-meeting/
LOCATION:SMIC’s Sip & Quip\, 1200 K Street\, Suite 8\, Sacramento\, CA\, 95814\, United States
END:VEVENT
BEGIN:VEVENT
DTSTART;TZID=America/Los_Angeles:20250322T110000
DTEND;TZID=America/Los_Angeles:20250322T130000
DTSTAMP:20260425T202632
CREATED:20250311T174648Z
LAST-MODIFIED:20250311T174648Z
UID:4740-1742641200-1742648400@auburnareademocrats.com
SUMMARY:Elon Protest at Tesla
DESCRIPTION:Every Saturday from 11am – 1pm\nTesla on Granite Drive\, Rocklin\nRain or shine!
URL:https://auburnareademocrats.com/event/elon-protest-at-tesla-2/
LOCATION:Tesla Dealership\, 4361 Granite Drive\, Rocklin\, CA\, 95677\, United States
END:VEVENT
BEGIN:VEVENT
DTSTART;TZID=America/Los_Angeles:20250322T100000
DTEND;TZID=America/Los_Angeles:20250322T120000
DTSTAMP:20260425T202632
CREATED:20250319T175323Z
LAST-MODIFIED:20250319T175323Z
UID:4775-1742637600-1742644800@auburnareademocrats.com
SUMMARY:AADC Rally for Economic Justice
DESCRIPTION:
URL:https://auburnareademocrats.com/event/aadc-rally-for-economic-justice/
LOCATION:Auburn Historic Courthouse\, 101 Maple St\, Auburn\, CA\, 95603\, United States
END:VEVENT
BEGIN:VEVENT
DTSTART;TZID=America/Los_Angeles:20250321T130000
DTEND;TZID=America/Los_Angeles:20250321T150000
DTSTAMP:20260425T202632
CREATED:20250319T194558Z
LAST-MODIFIED:20250319T194558Z
UID:4797-1742562000-1742569200@auburnareademocrats.com
SUMMARY:AADC: Community Events Committee Meeting
DESCRIPTION:
URL:https://auburnareademocrats.com/event/aadc-community-events-committee-meeting-2/
LOCATION:Via ZOOM
END:VEVENT
BEGIN:VEVENT
DTSTART;TZID=America/Los_Angeles:20250321T120000
DTEND;TZID=America/Los_Angeles:20250321T130000
DTSTAMP:20260425T202632
CREATED:20250107T012801Z
LAST-MODIFIED:20250113T202845Z
UID:3904-1742558400-1742562000@auburnareademocrats.com
SUMMARY:Fridays for Future
DESCRIPTION:Join us as we bring awareness to the climate crisis.\nWe protest every Friday\, rain or shine\, in front of Auburn City Hall. \nPlease click HERE for more information.
URL:https://auburnareademocrats.com/event/fridays-for-future-11/
LOCATION:Auburn City Hall – Lincoln Way\, 1225 Lincoln Way\, Auburn\, CA 95603\, CA\, 95603\, United States
END:VEVENT
BEGIN:VEVENT
DTSTART;TZID=America/Los_Angeles:20250321T100000
DTEND;TZID=America/Los_Angeles:20250321T130000
DTSTAMP:20260425T202632
CREATED:20250107T012653Z
LAST-MODIFIED:20250113T203927Z
UID:3898-1742551200-1742562000@auburnareademocrats.com
SUMMARY:Coffee & Conversation
DESCRIPTION:  \nFeel free to drop-in\, but if you’d like to RSVP\, please click HERE. \n \n 
URL:https://auburnareademocrats.com/event/coffee-conversation-11/
LOCATION:AADC Campaign Headquarters\, 161 Palm Avenue - Suite 9\, AUBURN\, CA\, 95603\, United States
END:VEVENT
BEGIN:VEVENT
DTSTART;TZID=America/Los_Angeles:20250320T180000
DTEND;TZID=America/Los_Angeles:20250320T200000
DTSTAMP:20260425T202632
CREATED:20250215T201600Z
LAST-MODIFIED:20250215T201600Z
UID:4476-1742493600-1742500800@auburnareademocrats.com
SUMMARY:Indivisible Roseville: Inaugural Meeting
DESCRIPTION:From the organizer:\nIndivisible Roseville is a locally-led\, people-powered group of concerned and enthusiastic individuals. Our mission is to lift up our community to resist Trump’s dangerous and cruel agenda\, promote progressive values\, hold all our elected officials accountable\, and improve/preserve our democracy for future generations.
URL:https://auburnareademocrats.com/event/indivisible-roseville-inaugural-meeting/
LOCATION:Sun City Roseville\, Sierra Pines Golf Course Clubhouse\, Ponederosa Room\, 7600 Whistlestop Way\, Roseville\, CA\, 95747\, United States
ORGANIZER;CN="Indivisible Roseville":MAILTO:rosevilleindivisibleorg@gmail.com
END:VEVENT
BEGIN:VEVENT
DTSTART;TZID=America/Los_Angeles:20250320T150000
DTEND;TZID=America/Los_Angeles:20250320T163000
DTSTAMP:20260425T202632
CREATED:20250305T164010Z
LAST-MODIFIED:20250305T164010Z
UID:4693-1742482800-1742488200@auburnareademocrats.com
SUMMARY:RATT Pack: Pro-FBI Rally
DESCRIPTION:From the organizer:\nCurrently\, employees of the FBI (including some in the Roseville FBI Headquarters) are under attack by the Donald Trump and Elon Musk administration due to the fact there was an intensive investigation into the many violent combatives who were involved and jailed because of the January 6 attack of the United States Capitol and all the officers who were there to protect the capitol and the legislative individuals inside the building.\nLinda Hall exclaimed\, “I simply want to see\, and show\, how much local support there is for resistance to all the Trump administration’s agenda. I know there were at least a few locals involved in the Jan. 6 investigation\, so I believe there are probably some FBI employees subject to the purge; I want them to know they have our local support.”\nBarbara Brass said\, “My message is ALWAYS to show up and speak up for every situation that is harmful to our Democracy and to protect targeted and marginalized individuals. Anyone who works for the FBI who was part of investigating Donald Trump and his part in the January 6 violent attack on the United States Capitol. I hope many people show up from many groups with good messages!”
URL:https://auburnareademocrats.com/event/ratt-pack-pro-fbi-rally-5/
LOCATION:FBI Headquarters\, 2001 Freedom Way\, Roseville\, California\, 95678\, United States
END:VEVENT
BEGIN:VEVENT
DTSTART;TZID=America/Los_Angeles:20250320T100000
DTEND;TZID=America/Los_Angeles:20250320T120000
DTSTAMP:20260425T202632
CREATED:20250107T012132Z
LAST-MODIFIED:20250311T175128Z
UID:3892-1742464800-1742472000@auburnareademocrats.com
SUMMARY:E-Board Meeting
DESCRIPTION:The AADC E-Board Meeting is normally held on the second Thursday of the month.\nIf you would like to be added to the agenda or would like to attend\, please email info@auburnareademocrats.com.\n(Our offices are on the second floor. Park in the back and enter via the back door for direct access.)
URL:https://auburnareademocrats.com/event/e-board-meeting-3/
LOCATION:AADC Campaign Headquarters\, 161 Palm Avenue - Suite 9\, AUBURN\, CA\, 95603\, United States
END:VEVENT
BEGIN:VEVENT
DTSTART;TZID=America/Los_Angeles:20250319T100000
DTEND;TZID=America/Los_Angeles:20250319T130000
DTSTAMP:20260425T202632
CREATED:20250116T194945Z
LAST-MODIFIED:20250116T194945Z
UID:4056-1742378400-1742389200@auburnareademocrats.com
SUMMARY:Voter Registration at Sierra College
DESCRIPTION:Join us as we register new voters at Sierra College!\nWe register voters\, alternating weekly between Wednesday and the Tuesday registration teams\,  with a break for the summer. We are on campus from 10:00 a.m. to 1:00 p.m. \nIf you are interested in registering young voters\, providing voting information\,  and just talking politics in a friendly\, nonconfrontational\, and upbeat way we would love to have you join us. \nPlease click HERE to register. \nAnd\, please click HERE to read our 2024 Campus Update. \n 
URL:https://auburnareademocrats.com/event/voter-registration-at-sierra-college-11/
LOCATION:Sierra College\, 5100 Sierra College Blvd.\, Rocklin\, 95677
END:VEVENT
BEGIN:VEVENT
DTSTART;TZID=America/Los_Angeles:20250318T183000
DTEND;TZID=America/Los_Angeles:20250318T203000
DTSTAMP:20260425T202632
CREATED:20250227T211239Z
LAST-MODIFIED:20250227T211239Z
UID:4541-1742322600-1742329800@auburnareademocrats.com
SUMMARY:Sierra Protection PAC Official Launch
DESCRIPTION:From the organizer:\nWe are very excited to announce that we are launching the Sierra Protection PAC\, and we would love to invite you to our official launch party in Roseville! Your attendance is valuable\, as this PAC was inspired by your campaign and dedication to your community.\nSierra Protection PAC (SPPAC) Launch Party Tickets\, Tue\, Mar 18\, 2025 at 6:30 PM | Eventbrite – please RSVP here.\nIt will be St. Patty’s Day themed so wear your green! We will have light refreshments available\, and live music from Izzy Martin\, Jake Pasner\, and Katy Campbell!\nAbout the PAC:\nThe Sierra Nevada counties have many local candidates stepping into the political sphere for the first time\, driven by their passion for their communities\, families\, democracy and the Sierra Nevada.\nThe Sierra Protection PAC (SPPAC) will provide financial endorsements\, empowering community-driven and environmentally focused candidates to compete and win their races. By building this essential infrastructure\, we can establish the early financial support needed to help elect leaders who will protect our environment and advocate for the well-being of our local communities.\nThis PAC will join a statewide network dedicated to electing environmental champions to local offices\, a network that has already established nine local league PACs across California\, targeting key battleground regions. We believe in investing in down ballot races to build a strong bench of diverse climate champions across the state. Each local league plays a critical role in impacting local races and supporting local environmental voices\, not only by providing financial contributions\, but also recruiting\, training\, and supporting new leadership and encouraging youth engagement and participation in local political processes.
URL:https://auburnareademocrats.com/event/sierra-protection-pac-official-launch/
LOCATION:MoJoe’s Cafe\, 2330 Pleasant Grove Blvd\, Roseville\, CA\, 95747\, United States
END:VEVENT
BEGIN:VEVENT
DTSTART;TZID=America/Los_Angeles:20250317T183000
DTEND;TZID=America/Los_Angeles:20250317T193000
DTSTAMP:20260425T202632
CREATED:20250314T160547Z
LAST-MODIFIED:20250314T160547Z
UID:4764-1742236200-1742239800@auburnareademocrats.com
SUMMARY:Kevin Kiley Tele-Town Hall
DESCRIPTION:From Congressman Kiley:\nOn Monday\, March 17\, I will be hosting a town hall where I will be there to listen and answer any questions that you may have. Congress is working on major issues including taxes\, social security\, Medicare and other important programs. That’s why it’s so important for you to make your voice heard. This town hall is a way for you to share your concerns and help me represent your views effectively. The town hall will begin on Monday\, March 17\, 2025\, at 6:30 PM PDT. To join the event at that time\, call (877) 229-8493 and enter PIN #122293.
URL:https://auburnareademocrats.com/event/kevin-kiley-tele-town-hall/
LOCATION:CA
END:VEVENT
END:VCALENDAR