BEGIN:VCALENDAR
VERSION:2.0
PRODID:-//Auburn Area Democratic Club - ECPv6.15.20//NONSGML v1.0//EN
CALSCALE:GREGORIAN
METHOD:PUBLISH
X-WR-CALNAME:Auburn Area Democratic Club
X-ORIGINAL-URL:https://auburnareademocrats.com
X-WR-CALDESC:Events for Auburn Area Democratic Club
REFRESH-INTERVAL;VALUE=DURATION:PT1H
X-Robots-Tag:noindex
X-PUBLISHED-TTL:PT1H
BEGIN:VTIMEZONE
TZID:America/Los_Angeles
BEGIN:DAYLIGHT
TZOFFSETFROM:-0800
TZOFFSETTO:-0700
TZNAME:PDT
DTSTART:20240310T100000
END:DAYLIGHT
BEGIN:STANDARD
TZOFFSETFROM:-0700
TZOFFSETTO:-0800
TZNAME:PST
DTSTART:20241103T090000
END:STANDARD
BEGIN:DAYLIGHT
TZOFFSETFROM:-0800
TZOFFSETTO:-0700
TZNAME:PDT
DTSTART:20250309T100000
END:DAYLIGHT
BEGIN:STANDARD
TZOFFSETFROM:-0700
TZOFFSETTO:-0800
TZNAME:PST
DTSTART:20251102T090000
END:STANDARD
BEGIN:DAYLIGHT
TZOFFSETFROM:-0800
TZOFFSETTO:-0700
TZNAME:PDT
DTSTART:20260308T100000
END:DAYLIGHT
BEGIN:STANDARD
TZOFFSETFROM:-0700
TZOFFSETTO:-0800
TZNAME:PST
DTSTART:20261101T090000
END:STANDARD
END:VTIMEZONE
BEGIN:VEVENT
DTSTART;TZID=America/Los_Angeles:20250426T110000
DTEND;TZID=America/Los_Angeles:20250426T130000
DTSTAMP:20260425T141620
CREATED:20250311T174843Z
LAST-MODIFIED:20250311T174843Z
UID:4750-1745665200-1745672400@auburnareademocrats.com
SUMMARY:Elon Protest at Tesla
DESCRIPTION:Every Saturday from 11am – 1pm\nTesla on Granite Drive\, Rocklin\nRain or shine!
URL:https://auburnareademocrats.com/event/elon-protest-at-tesla-7/
LOCATION:Tesla Dealership\, 4361 Granite Drive\, Rocklin\, CA\, 95677\, United States
END:VEVENT
BEGIN:VEVENT
DTSTART;TZID=America/Los_Angeles:20250426T100000
DTEND;TZID=America/Los_Angeles:20250426T160000
DTSTAMP:20260425T141620
CREATED:20250420T174505Z
LAST-MODIFIED:20250420T174803Z
UID:4994-1745661600-1745683200@auburnareademocrats.com
SUMMARY:Hip Hop Congress Earth Day Festival
DESCRIPTION:  \nVolunteers Needed. Please click HERE to sign up. \nShifts \n\n9:30-11:30 for set-up and table duty\n11:30-2:00 for table duty\n2:00-4:30 for table duty and take-down\n\n  \n 
URL:https://auburnareademocrats.com/event/hip-hop-congress-earth-day-festival/
LOCATION:School Park Preserve\, 55 College Way\, Auburn\, California
END:VEVENT
BEGIN:VEVENT
DTSTART;TZID=America/Los_Angeles:20250425T120000
DTEND;TZID=America/Los_Angeles:20250425T130000
DTSTAMP:20260425T141620
CREATED:20250131T192522Z
LAST-MODIFIED:20250131T192522Z
UID:4232-1745582400-1745586000@auburnareademocrats.com
SUMMARY:Fridays for Future
DESCRIPTION:Join us as we bring awareness to the climate crisis.\nWe protest every Friday\, rain or shine\, in front of Auburn City Hall. \nPlease click HERE for more information.
URL:https://auburnareademocrats.com/event/fridays-for-future-16/
LOCATION:Auburn City Hall – Lincoln Way\, 1225 Lincoln Way\, Auburn\, CA 95603\, CA\, 95603\, United States
END:VEVENT
BEGIN:VEVENT
DTSTART;TZID=America/Los_Angeles:20250425T100000
DTEND;TZID=America/Los_Angeles:20250425T130000
DTSTAMP:20260425T141620
CREATED:20250131T192927Z
LAST-MODIFIED:20250131T193101Z
UID:4241-1745575200-1745586000@auburnareademocrats.com
SUMMARY:Coffee & Conversation
DESCRIPTION:  \nEvery Friday from 10am-1pm at the AADC HQ. \nBring an article or podcast to share\, or just bring yourself! \nFeel free to drop-in\, but if you’d like to RSVP\, please click HERE.
URL:https://auburnareademocrats.com/event/coffee-conversation-16/
LOCATION:AADC Campaign Headquarters\, 161 Palm Avenue - Suite 9\, AUBURN\, CA\, 95603\, United States
END:VEVENT
BEGIN:VEVENT
DTSTART;TZID=America/Los_Angeles:20250424T150000
DTEND;TZID=America/Los_Angeles:20250424T163000
DTSTAMP:20260425T141620
CREATED:20250305T164200Z
LAST-MODIFIED:20250305T164200Z
UID:4703-1745506800-1745512200@auburnareademocrats.com
SUMMARY:RATT Pack: Pro-FBI Rally
DESCRIPTION:From the organizer:\nCurrently\, employees of the FBI (including some in the Roseville FBI Headquarters) are under attack by the Donald Trump and Elon Musk administration due to the fact there was an intensive investigation into the many violent combatives who were involved and jailed because of the January 6 attack of the United States Capitol and all the officers who were there to protect the capitol and the legislative individuals inside the building.\nLinda Hall exclaimed\, “I simply want to see\, and show\, how much local support there is for resistance to all the Trump administration’s agenda. I know there were at least a few locals involved in the Jan. 6 investigation\, so I believe there are probably some FBI employees subject to the purge; I want them to know they have our local support.”\nBarbara Brass said\, “My message is ALWAYS to show up and speak up for every situation that is harmful to our Democracy and to protect targeted and marginalized individuals. Anyone who works for the FBI who was part of investigating Donald Trump and his part in the January 6 violent attack on the United States Capitol. I hope many people show up from many groups with good messages!”
URL:https://auburnareademocrats.com/event/ratt-pack-pro-fbi-rally-10/
LOCATION:FBI Headquarters\, 2001 Freedom Way\, Roseville\, California\, 95678\, United States
END:VEVENT
BEGIN:VEVENT
DTSTART;TZID=America/Los_Angeles:20250424T100000
DTEND;TZID=America/Los_Angeles:20250424T150000
DTSTAMP:20260425T141620
CREATED:20250420T174008Z
LAST-MODIFIED:20250420T174029Z
UID:4991-1745488800-1745506800@auburnareademocrats.com
SUMMARY:Sierra College Earth Day
DESCRIPTION:
URL:https://auburnareademocrats.com/event/sierra-college-earth-day/
LOCATION:Sierra College\, 5100 Sierra College Blvd.\, Rocklin\, 95677
END:VEVENT
BEGIN:VEVENT
DTSTART;TZID=America/Los_Angeles:20250424T100000
DTEND;TZID=America/Los_Angeles:20250424T150000
DTSTAMP:20260425T141620
CREATED:20250223T182136Z
LAST-MODIFIED:20250223T182136Z
UID:4529-1745488800-1745506800@auburnareademocrats.com
SUMMARY:Sierra College Earth Day Celebration
DESCRIPTION:From the organizer:\nEarth Day is an international celebration observed on April 22nd each year to demonstrate support for environmental conservation\, preservation\, stewardship\, and reciprocity. Celebrated in over 193 countries\, Earth Day serves as a reminder that our planet sustains all life and deserves our collective care. While the modern Earth Day celebration began in 1970\, cultures around the globe have honored the Earth and its gifts for millennia.\nThis year’s theme\, Our Power – Our Planet!\, highlights the critical relationship between sustainable energy and environmental health. We aim to explore the transformative power of renewable energy\, conservation practices\, and community action in addressing climate change and restoring ecosystems. The theme also emphasizes the incredible power individuals and communities possess to drive meaningful change through collective action\, advocacy\, and sustainable practices. Join us to learn how we can harness our collective power to create a sustainable future for our planet.\nThe Sierra College Earth Day celebration\, organized by the Environmentally Concerned Organization of Students (ECOS) Club\, the Associated Students of Sierra College (ASSC)\, and the Earth Day Committee\, has been a cornerstone of campus life for over three decades. The event will feature interactive booths\, workshops\, keynote speakers\, and community partner exhibitions\, all centered on education and action.\nCall to Action:\nLet’s unite our power to protect and restore our planet! Mark your calendars for April 24\, 2025\, and join Sierra College for a meaningful day of learning\, connection\, and action. Together\, we can create a sustainable future for generations to come.
URL:https://auburnareademocrats.com/event/sierra-college-earth-day-celebration/
LOCATION:Sierra College\, 5100 Sierra College Blvd.\, Rocklin\, 95677
END:VEVENT
BEGIN:VEVENT
DTSTART;TZID=America/Los_Angeles:20250423T183000
DTEND;TZID=America/Los_Angeles:20250423T193000
DTSTAMP:20260425T141620
CREATED:20250420T173912Z
LAST-MODIFIED:20250420T173912Z
UID:4988-1745433000-1745436600@auburnareademocrats.com
SUMMARY:Congressman Kevin Kiley Tele-Town Hall on Veterans Issues
DESCRIPTION:Wed\, April 23\, 6:30PM: Congressman Kevin Kily Tele-Town Hall on Veterans Issues.\nRegistration and details here.\nLink to Livestream
URL:https://auburnareademocrats.com/event/congressman-kevin-kiley-tele-town-hall-on-veterans-issues/
LOCATION:Tele-Town Hall
END:VEVENT
BEGIN:VEVENT
DTSTART;TZID=America/Los_Angeles:20250423T100000
DTEND;TZID=America/Los_Angeles:20250423T130000
DTSTAMP:20260425T141620
CREATED:20250131T194916Z
LAST-MODIFIED:20250131T194916Z
UID:4270-1745402400-1745413200@auburnareademocrats.com
SUMMARY:Voter Registration at Sierra College
DESCRIPTION:Join us as we register new voters at Sierra College!\nWe register voters\, alternating weekly between Wednesday and the Tuesday registration teams\,  with a break for the summer. We are on campus from 10:00 a.m. to 1:00 p.m. \nIf you are interested in registering young voters\, providing voting information\,  and just talking politics in a friendly\, nonconfrontational\, and upbeat way we would love to have you join us. \nPlease click HERE to register. \nAnd\, please click HERE to read our 2024 Campus Update. \n 
URL:https://auburnareademocrats.com/event/voter-registration-at-sierra-college-21/
LOCATION:Sierra College\, 5100 Sierra College Blvd.\, Rocklin\, 95677
END:VEVENT
BEGIN:VEVENT
DTSTART;TZID=America/Los_Angeles:20250422T180000
DTEND;TZID=America/Los_Angeles:20250422T193000
DTSTAMP:20260425T141620
CREATED:20250418T005326Z
LAST-MODIFIED:20250418T005326Z
UID:4972-1745344800-1745350200@auburnareademocrats.com
SUMMARY:Town Hall with Congressman Eric Swalwell in Folsom
DESCRIPTION:From the organizer:\nThe Folsom Area Democratic Club is excited to co-host a town hall meeting with Congressman Eric Swalwell\, CA 14.\nThe event will be held Tuesday\, April 22 from 6:00 PM to 7:30 PM. Location provided with RSVP.\nDoors open at 5:30 PM.\nSee you there.
URL:https://auburnareademocrats.com/event/town-hall-with-congressman-eric-swalwell-in-folsom/
LOCATION:Provided upon RSVP
END:VEVENT
BEGIN:VEVENT
DTSTART;TZID=America/Los_Angeles:20250422T143000
DTEND;TZID=America/Los_Angeles:20250422T153000
DTSTAMP:20260425T141620
CREATED:20250131T193540Z
LAST-MODIFIED:20250305T164640Z
UID:4247-1745332200-1745335800@auburnareademocrats.com
SUMMARY:AADC Communications Committee Meeting
DESCRIPTION:The Communications Committee of the AADC meets monthly on the 4th Tuesday of every month at 2:30 P.M.  at the AADC Headquarters.\nAll AADC members are welcome.\nFor more information\, please email info@auburnareademocrats.com.
URL:https://auburnareademocrats.com/event/aadc-communications-committee-meeting-3/
LOCATION:AADC Campaign Headquarters\, 161 Palm Avenue - Suite 9\, AUBURN\, CA\, 95603\, United States
END:VEVENT
BEGIN:VEVENT
DTSTART;TZID=America/Los_Angeles:20250422T100000
DTEND;TZID=America/Los_Angeles:20250422T130000
DTSTAMP:20260425T141620
CREATED:20250131T194844Z
LAST-MODIFIED:20250131T194844Z
UID:4268-1745316000-1745326800@auburnareademocrats.com
SUMMARY:Voter Registration at Sierra College
DESCRIPTION:Join us as we register new voters at Sierra College!\nWe register voters\, alternating weekly between Wednesday and the Tuesday registration teams\,  with a break for the summer. We are on campus from 10:00 a.m. to 1:00 p.m. \nIf you are interested in registering young voters\, providing voting information\,  and just talking politics in a friendly\, nonconfrontational\, and upbeat way we would love to have you join us. \nPlease click HERE to register. \nAnd\, please click HERE to read our 2024 Campus Update. \n 
URL:https://auburnareademocrats.com/event/voter-registration-at-sierra-college-20/
LOCATION:Sierra College\, 5100 Sierra College Blvd.\, Rocklin\, 95677
END:VEVENT
BEGIN:VEVENT
DTSTART;TZID=America/Los_Angeles:20250419T110000
DTEND;TZID=America/Los_Angeles:20250419T130000
DTSTAMP:20260425T141620
CREATED:20250414T172305Z
LAST-MODIFIED:20250414T172427Z
UID:4952-1745060400-1745067600@auburnareademocrats.com
SUMMARY:AADC: Rally for Democracy and Economic Justice
DESCRIPTION:AADC RALLY FOR DEMOCRACY AND ECONOMIC JUSTICE\n\n\nLet’s keep up the momentum and gather with our community to stand up for democracy\, protecting Social Security\, VA funding\, Medicare\, Medicaid\, Affordable Care Act\, and the economic values which unite us.\n\n\n***Sign up: https://www.mobilize.us/cadems/event/776555/\nAADC asks all participants to maintain a peaceful and respectful presence at this event. Please click HERE to review our Code of Conduct\n\n 
URL:https://auburnareademocrats.com/event/aadc-rally-for-democracy-and-economic-justice/
LOCATION:Bell Road and Highway 49 Intersection
END:VEVENT
BEGIN:VEVENT
DTSTART;TZID=America/Los_Angeles:20250419T110000
DTEND;TZID=America/Los_Angeles:20250419T130000
DTSTAMP:20260425T141620
CREATED:20250311T174823Z
LAST-MODIFIED:20250311T174823Z
UID:4748-1745060400-1745067600@auburnareademocrats.com
SUMMARY:Elon Protest at Tesla
DESCRIPTION:Every Saturday from 11am – 1pm\nTesla on Granite Drive\, Rocklin\nRain or shine!
URL:https://auburnareademocrats.com/event/elon-protest-at-tesla-6/
LOCATION:Tesla Dealership\, 4361 Granite Drive\, Rocklin\, CA\, 95677\, United States
END:VEVENT
BEGIN:VEVENT
DTSTART;TZID=America/Los_Angeles:20250418T120000
DTEND;TZID=America/Los_Angeles:20250418T130000
DTSTAMP:20260425T141620
CREATED:20250131T192459Z
LAST-MODIFIED:20250131T192459Z
UID:4230-1744977600-1744981200@auburnareademocrats.com
SUMMARY:Fridays for Future
DESCRIPTION:Join us as we bring awareness to the climate crisis.\nWe protest every Friday\, rain or shine\, in front of Auburn City Hall. \nPlease click HERE for more information.
URL:https://auburnareademocrats.com/event/fridays-for-future-15/
LOCATION:Auburn City Hall – Lincoln Way\, 1225 Lincoln Way\, Auburn\, CA 95603\, CA\, 95603\, United States
END:VEVENT
BEGIN:VEVENT
DTSTART;TZID=America/Los_Angeles:20250418T100000
DTEND;TZID=America/Los_Angeles:20250418T130000
DTSTAMP:20260425T141620
CREATED:20250131T192910Z
LAST-MODIFIED:20250131T192910Z
UID:4239-1744970400-1744981200@auburnareademocrats.com
SUMMARY:Coffee & Conversation
DESCRIPTION:  \nEvery Friday from 10am-1pm at the AADC HQ. \nBring an article or podcast to share\, or just bring yourself! \nFeel free to drop-in\, but if you’d like to RSVP\, please click HERE.
URL:https://auburnareademocrats.com/event/coffee-conversation-15/
LOCATION:AADC Campaign Headquarters\, 161 Palm Avenue - Suite 9\, AUBURN\, CA\, 95603\, United States
END:VEVENT
BEGIN:VEVENT
DTSTART;TZID=America/Los_Angeles:20250417T150000
DTEND;TZID=America/Los_Angeles:20250417T163000
DTSTAMP:20260425T141620
CREATED:20250305T164141Z
LAST-MODIFIED:20250305T164141Z
UID:4701-1744902000-1744907400@auburnareademocrats.com
SUMMARY:RATT Pack: Pro-FBI Rally
DESCRIPTION:From the organizer:\nCurrently\, employees of the FBI (including some in the Roseville FBI Headquarters) are under attack by the Donald Trump and Elon Musk administration due to the fact there was an intensive investigation into the many violent combatives who were involved and jailed because of the January 6 attack of the United States Capitol and all the officers who were there to protect the capitol and the legislative individuals inside the building.\nLinda Hall exclaimed\, “I simply want to see\, and show\, how much local support there is for resistance to all the Trump administration’s agenda. I know there were at least a few locals involved in the Jan. 6 investigation\, so I believe there are probably some FBI employees subject to the purge; I want them to know they have our local support.”\nBarbara Brass said\, “My message is ALWAYS to show up and speak up for every situation that is harmful to our Democracy and to protect targeted and marginalized individuals. Anyone who works for the FBI who was part of investigating Donald Trump and his part in the January 6 violent attack on the United States Capitol. I hope many people show up from many groups with good messages!”
URL:https://auburnareademocrats.com/event/ratt-pack-pro-fbi-rally-9/
LOCATION:FBI Headquarters\, 2001 Freedom Way\, Roseville\, California\, 95678\, United States
END:VEVENT
BEGIN:VEVENT
DTSTART;TZID=America/Los_Angeles:20250415T153000
DTEND;TZID=America/Los_Angeles:20250415T170000
DTSTAMP:20260425T141620
CREATED:20250404T205742Z
LAST-MODIFIED:20250409T154303Z
UID:4932-1744731000-1744736400@auburnareademocrats.com
SUMMARY:Oligarchy Tour with Bernie Sanders and AOC
DESCRIPTION:
URL:https://auburnareademocrats.com/event/oligarchy-tour-with-bernie-sanders-and-aoc/
LOCATION:Folsom Lake College\, 10 College Parkway\, Folsom\, 95630\, 95630\, United States
END:VEVENT
BEGIN:VEVENT
DTSTART;TZID=America/Los_Angeles:20250415T070000
DTEND;TZID=America/Los_Angeles:20250415T080000
DTSTAMP:20260425T141620
CREATED:20250328T173412Z
LAST-MODIFIED:20250328T173412Z
UID:4831-1744700400-1744704000@auburnareademocrats.com
SUMMARY:Meddlers Chamber Forum - Ex Director of Stand Up Placer Gary Macdonald
DESCRIPTION:From the organizer:\nMeddlers also known as the Chamber Forum is a great way to learn about what’s happening in the greater Auburn Area. Also known as Auburn Town Hall\, it is a great place to meet new leaders and learn from those leading. Meddlers is a hybrid between in person in the Rose Room at City Hall and Zoom.\nSpeaker:\n4/15/25- Gary Macdonald- Ex Director of Stand Up Placer
URL:https://auburnareademocrats.com/event/meddlers-chamber-forum-ex-director-of-stand-up-placer-gary-macdonald/
LOCATION:Via ZOOM
END:VEVENT
BEGIN:VEVENT
DTSTART;TZID=America/Los_Angeles:20250412T110000
DTEND;TZID=America/Los_Angeles:20250412T130000
DTSTAMP:20260425T141620
CREATED:20250311T174805Z
LAST-MODIFIED:20250311T174805Z
UID:4746-1744455600-1744462800@auburnareademocrats.com
SUMMARY:Elon Protest at Tesla
DESCRIPTION:Every Saturday from 11am – 1pm\nTesla on Granite Drive\, Rocklin\nRain or shine!
URL:https://auburnareademocrats.com/event/elon-protest-at-tesla-5/
LOCATION:Tesla Dealership\, 4361 Granite Drive\, Rocklin\, CA\, 95677\, United States
END:VEVENT
BEGIN:VEVENT
DTSTART;TZID=America/Los_Angeles:20250411T120000
DTEND;TZID=America/Los_Angeles:20250411T130000
DTSTAMP:20260425T141620
CREATED:20250223T180425Z
LAST-MODIFIED:20250223T180425Z
UID:4527-1744372800-1744376400@auburnareademocrats.com
SUMMARY:AADC: Membership Committee Meeting
DESCRIPTION:
URL:https://auburnareademocrats.com/event/aadc-membership-committee-meeting-4/
LOCATION:AADC Campaign Headquarters\, 161 Palm Avenue - Suite 9\, AUBURN\, CA\, 95603\, United States
END:VEVENT
BEGIN:VEVENT
DTSTART;TZID=America/Los_Angeles:20250411T120000
DTEND;TZID=America/Los_Angeles:20250411T130000
DTSTAMP:20260425T141620
CREATED:20250131T192442Z
LAST-MODIFIED:20250131T192442Z
UID:4228-1744372800-1744376400@auburnareademocrats.com
SUMMARY:Fridays for Future
DESCRIPTION:Join us as we bring awareness to the climate crisis.\nWe protest every Friday\, rain or shine\, in front of Auburn City Hall. \nPlease click HERE for more information.
URL:https://auburnareademocrats.com/event/fridays-for-future-14/
LOCATION:Auburn City Hall – Lincoln Way\, 1225 Lincoln Way\, Auburn\, CA 95603\, CA\, 95603\, United States
END:VEVENT
BEGIN:VEVENT
DTSTART;TZID=America/Los_Angeles:20250411T100000
DTEND;TZID=America/Los_Angeles:20250411T130000
DTSTAMP:20260425T141620
CREATED:20250131T192851Z
LAST-MODIFIED:20250131T192851Z
UID:4237-1744365600-1744376400@auburnareademocrats.com
SUMMARY:Coffee & Conversation
DESCRIPTION:  \nEvery Friday from 10am-1pm at the AADC HQ. \nBring an article or podcast to share\, or just bring yourself! \nFeel free to drop-in\, but if you’d like to RSVP\, please click HERE.
URL:https://auburnareademocrats.com/event/coffee-conversation-14/
LOCATION:AADC Campaign Headquarters\, 161 Palm Avenue - Suite 9\, AUBURN\, CA\, 95603\, United States
END:VEVENT
BEGIN:VEVENT
DTSTART;TZID=America/Los_Angeles:20250410T150000
DTEND;TZID=America/Los_Angeles:20250410T163000
DTSTAMP:20260425T141620
CREATED:20250305T164121Z
LAST-MODIFIED:20250305T164121Z
UID:4699-1744297200-1744302600@auburnareademocrats.com
SUMMARY:RATT Pack: Pro-FBI Rally
DESCRIPTION:From the organizer:\nCurrently\, employees of the FBI (including some in the Roseville FBI Headquarters) are under attack by the Donald Trump and Elon Musk administration due to the fact there was an intensive investigation into the many violent combatives who were involved and jailed because of the January 6 attack of the United States Capitol and all the officers who were there to protect the capitol and the legislative individuals inside the building.\nLinda Hall exclaimed\, “I simply want to see\, and show\, how much local support there is for resistance to all the Trump administration’s agenda. I know there were at least a few locals involved in the Jan. 6 investigation\, so I believe there are probably some FBI employees subject to the purge; I want them to know they have our local support.”\nBarbara Brass said\, “My message is ALWAYS to show up and speak up for every situation that is harmful to our Democracy and to protect targeted and marginalized individuals. Anyone who works for the FBI who was part of investigating Donald Trump and his part in the January 6 violent attack on the United States Capitol. I hope many people show up from many groups with good messages!”
URL:https://auburnareademocrats.com/event/ratt-pack-pro-fbi-rally-8/
LOCATION:FBI Headquarters\, 2001 Freedom Way\, Roseville\, California\, 95678\, United States
END:VEVENT
BEGIN:VEVENT
DTSTART;TZID=America/Los_Angeles:20250409T183000
DTEND;TZID=America/Los_Angeles:20250409T200000
DTSTAMP:20260425T141620
CREATED:20250118T061009Z
LAST-MODIFIED:20250328T193501Z
UID:4098-1744223400-1744228800@auburnareademocrats.com
SUMMARY:Placer County Democratic Central Committee (PCDCC) Monthly Meeting
DESCRIPTION:From the organizer: \nThe PCDP meets on the second Wednesday of every month at 6:30pm. This month\, the Central Committee is meeting in person at the AADC HQ. \nFor more information\, email: communications@placercountydemocrats.org
URL:https://auburnareademocrats.com/event/placer-county-democratic-central-committee-pcdcc-monthly-meeting-2/
LOCATION:AADC Campaign Headquarters\, 161 Palm Avenue - Suite 9\, AUBURN\, CA\, 95603\, United States
END:VEVENT
BEGIN:VEVENT
DTSTART;TZID=America/Los_Angeles:20250409T100000
DTEND;TZID=America/Los_Angeles:20250409T130000
DTSTAMP:20260425T141620
CREATED:20250131T194244Z
LAST-MODIFIED:20250131T194427Z
UID:4256-1744192800-1744203600@auburnareademocrats.com
SUMMARY:Voter Registration at Sierra College
DESCRIPTION:Join us as we register new voters at Sierra College!\nWe register voters\, alternating weekly between Wednesday and the Tuesday registration teams\,  with a break for the summer. We are on campus from 10:00 a.m. to 1:00 p.m. \nIf you are interested in registering young voters\, providing voting information\,  and just talking politics in a friendly\, nonconfrontational\, and upbeat way we would love to have you join us. \nPlease click HERE to register. \nAnd\, please click HERE to read our 2024 Campus Update. \n 
URL:https://auburnareademocrats.com/event/voter-registration-at-sierra-college-14/
LOCATION:Sierra College\, 5100 Sierra College Blvd.\, Rocklin\, 95677
END:VEVENT
BEGIN:VEVENT
DTSTART;TZID=America/Los_Angeles:20250408T130000
DTEND;TZID=America/Los_Angeles:20250408T140000
DTSTAMP:20260425T141620
CREATED:20250328T182758Z
LAST-MODIFIED:20250408T044418Z
UID:4840-1744117200-1744120800@auburnareademocrats.com
SUMMARY:AADC: Fundraising Committee Meeting
DESCRIPTION:
URL:https://auburnareademocrats.com/event/aadc-fundraising-committee-meeting-2/
LOCATION:AADC Campaign Headquarters\, 161 Palm Avenue - Suite 9\, AUBURN\, CA\, 95603\, United States
END:VEVENT
BEGIN:VEVENT
DTSTART;TZID=America/Los_Angeles:20250408T100000
DTEND;TZID=America/Los_Angeles:20250408T130000
DTSTAMP:20260425T141620
CREATED:20250131T194220Z
LAST-MODIFIED:20250131T194220Z
UID:4254-1744106400-1744117200@auburnareademocrats.com
SUMMARY:Voter Registration at Sierra College
DESCRIPTION:Join us as we register new voters at Sierra College!\nWe register voters\, alternating weekly between Wednesday and the Tuesday registration teams\,  with a break for the summer. We are on campus from 10:00 a.m. to 1:00 p.m. \nIf you are interested in registering young voters\, providing voting information\,  and just talking politics in a friendly\, nonconfrontational\, and upbeat way we would love to have you join us. \nPlease click HERE to register. \nAnd\, please click HERE to read our 2024 Campus Update. \n 
URL:https://auburnareademocrats.com/event/voter-registration-at-sierra-college-13/
LOCATION:Sierra College\, 5100 Sierra College Blvd.\, Rocklin\, 95677
END:VEVENT
BEGIN:VEVENT
DTSTART;TZID=America/Los_Angeles:20250408T070000
DTEND;TZID=America/Los_Angeles:20250408T080000
DTSTAMP:20260425T141620
CREATED:20250328T173133Z
LAST-MODIFIED:20250328T173153Z
UID:4825-1744095600-1744099200@auburnareademocrats.com
SUMMARY:Meddlers Chamber Forum - Congressman Kevin Kiley
DESCRIPTION:From the organizer:\nMeddlers also known as the Chamber Forum is a great way to learn about what’s happening in the greater Auburn Area. Also known as Auburn Town Hall\, it is a great place to meet new leaders and learn from those leading. Meddlers is a hybrid between in person in the Rose Room at City Hall and Zoom.\nSpeaker:\n4/8/25- Congressman Kevin Kiley- 3rd Congregational District
URL:https://auburnareademocrats.com/event/meddlers-chamber-forum-congressman-kevin-kiley/
LOCATION:Via ZOOM
END:VEVENT
BEGIN:VEVENT
DTSTART;TZID=America/Los_Angeles:20250407T173000
DTEND;TZID=America/Los_Angeles:20250407T193000
DTSTAMP:20260425T141620
CREATED:20250131T193249Z
LAST-MODIFIED:20250303T220302Z
UID:4243-1744047000-1744054200@auburnareademocrats.com
SUMMARY:E-Board Meeting
DESCRIPTION:If you would like to be added to the agenda or would like to attend\, please email info@auburnareademocrats.com. \n(Our offices are on the second floor. Park in the back and enter via the back door for direct access.)
URL:https://auburnareademocrats.com/event/e-board-meeting-4/
LOCATION:AADC Campaign Headquarters\, 161 Palm Avenue - Suite 9\, AUBURN\, CA\, 95603\, United States
END:VEVENT
END:VCALENDAR