BEGIN:VCALENDAR
VERSION:2.0
PRODID:-//Auburn Area Democratic Club - ECPv6.15.20//NONSGML v1.0//EN
CALSCALE:GREGORIAN
METHOD:PUBLISH
X-ORIGINAL-URL:https://auburnareademocrats.com
X-WR-CALDESC:Events for Auburn Area Democratic Club
REFRESH-INTERVAL;VALUE=DURATION:PT1H
X-Robots-Tag:noindex
X-PUBLISHED-TTL:PT1H
BEGIN:VTIMEZONE
TZID:America/Los_Angeles
BEGIN:DAYLIGHT
TZOFFSETFROM:-0800
TZOFFSETTO:-0700
TZNAME:PDT
DTSTART:20240310T100000
END:DAYLIGHT
BEGIN:STANDARD
TZOFFSETFROM:-0700
TZOFFSETTO:-0800
TZNAME:PST
DTSTART:20241103T090000
END:STANDARD
BEGIN:DAYLIGHT
TZOFFSETFROM:-0800
TZOFFSETTO:-0700
TZNAME:PDT
DTSTART:20250309T100000
END:DAYLIGHT
BEGIN:STANDARD
TZOFFSETFROM:-0700
TZOFFSETTO:-0800
TZNAME:PST
DTSTART:20251102T090000
END:STANDARD
BEGIN:DAYLIGHT
TZOFFSETFROM:-0800
TZOFFSETTO:-0700
TZNAME:PDT
DTSTART:20260308T100000
END:DAYLIGHT
BEGIN:STANDARD
TZOFFSETFROM:-0700
TZOFFSETTO:-0800
TZNAME:PST
DTSTART:20261101T090000
END:STANDARD
END:VTIMEZONE
BEGIN:VEVENT
DTSTART;TZID=America/Los_Angeles:20250711T130000
DTEND;TZID=America/Los_Angeles:20250711T140000
DTSTAMP:20260425T080314
CREATED:20250528T192307Z
LAST-MODIFIED:20250528T192307Z
UID:5293-1752238800-1752242400@auburnareademocrats.com
SUMMARY:AADC Community Events Committee Meeting
DESCRIPTION:
URL:https://auburnareademocrats.com/event/aadc-community-events-committee-meeting-16/
LOCATION:AADC Campaign Headquarters\, 161 Palm Avenue - Suite 9\, AUBURN\, CA\, 95603\, United States
END:VEVENT
BEGIN:VEVENT
DTSTART;TZID=America/Los_Angeles:20250711T120000
DTEND;TZID=America/Los_Angeles:20250711T130000
DTSTAMP:20260425T080314
CREATED:20250510T001206Z
LAST-MODIFIED:20250510T001206Z
UID:5058-1752235200-1752238800@auburnareademocrats.com
SUMMARY:Fridays for Future
DESCRIPTION:Join us as we bring awareness to the climate crisis.\nWe protest every Friday\, rain or shine\, in front of Auburn City Hall. \nPlease click HERE for more information.
URL:https://auburnareademocrats.com/event/fridays-for-future-27/
LOCATION:Auburn City Hall – Lincoln Way\, 1225 Lincoln Way\, Auburn\, CA 95603\, CA\, 95603\, United States
END:VEVENT
BEGIN:VEVENT
DTSTART;TZID=America/Los_Angeles:20250711T100000
DTEND;TZID=America/Los_Angeles:20250711T130000
DTSTAMP:20260425T080314
CREATED:20250510T001838Z
LAST-MODIFIED:20250510T001838Z
UID:5074-1752228000-1752238800@auburnareademocrats.com
SUMMARY:Coffee & Conversation
DESCRIPTION:  \nEvery Friday from 10am-1pm at the AADC HQ. \nBring an article or podcast to share\, or just bring yourself! \nFeel free to drop-in\, but if you’d like to RSVP\, please click HERE.
URL:https://auburnareademocrats.com/event/coffee-conversation-26/
LOCATION:AADC Campaign Headquarters\, 161 Palm Avenue - Suite 9\, AUBURN\, CA\, 95603\, United States
END:VEVENT
BEGIN:VEVENT
DTSTART;TZID=America/Los_Angeles:20250710T173000
DTEND;TZID=America/Los_Angeles:20250710T200000
DTSTAMP:20260425T080314
CREATED:20250510T002618Z
LAST-MODIFIED:20250629T032837Z
UID:5106-1752168600-1752177600@auburnareademocrats.com
SUMMARY:Monthly Members Meeting
DESCRIPTION:Our monthly meetings are held in the Rose Room at Auburn City Hall\, 1225 Lincoln Way\, Auburn.\nSee Rose Room address\, map\, parking information and directions here.\nSocial time starts at 5:30 pm\, with pizza and soft drinks available for $5.00 per person.\nThe meeting begins promptly at 6:30 pm\, starting with club business followed by our Speaker Series. Meetings end at 8:00 pm.\nBring a friend!\nTOPIC:\nJuly’s meeting is where creativity meets politics. And our speaker is YOU!\nIT’S HOT SUMMER RANTS\nWhether you belt a protest song\, drop a fiery poem\, spin a quick dance\, or deliver a mic‑sharp speech\, you’ve got three minutes to unleash what’s on your mind and electrify the crowd.\nPARKING WILL FILL-UP QUICKLY. PLEASE CONSIDER CARPOOLING.
URL:https://auburnareademocrats.com/event/monthly-members-meeting-7/
LOCATION:Auburn City Hall Rose Room\, 1225 Lincoln Way\, Auburn\, CA 95603\, CA\, 95603\, United States
END:VEVENT
BEGIN:VEVENT
DTSTART;TZID=America/Los_Angeles:20250709T183000
DTEND;TZID=America/Los_Angeles:20250709T200000
DTSTAMP:20260425T080314
CREATED:20250510T004055Z
LAST-MODIFIED:20250510T004055Z
UID:5148-1752085800-1752091200@auburnareademocrats.com
SUMMARY:Placer County Democratic Central Committee (PCDCC) Monthly Meeting
DESCRIPTION:From the organizer: \nThe PCDP meets on the second Wednesday of every month at 6:30pm via Zoom. Contact us to request a Zoom link to join a meeting at: communications@placercountydemocrats.org
URL:https://auburnareademocrats.com/event/placer-county-democratic-central-committee-pcdcc-monthly-meeting-6/
LOCATION:Via ZOOM
END:VEVENT
BEGIN:VEVENT
DTSTART;TZID=America/Los_Angeles:20250704T120000
DTEND;TZID=America/Los_Angeles:20250704T130000
DTSTAMP:20260425T080314
CREATED:20250510T001143Z
LAST-MODIFIED:20250510T001143Z
UID:5056-1751630400-1751634000@auburnareademocrats.com
SUMMARY:Fridays for Future
DESCRIPTION:Join us as we bring awareness to the climate crisis.\nWe protest every Friday\, rain or shine\, in front of Auburn City Hall. \nPlease click HERE for more information.
URL:https://auburnareademocrats.com/event/fridays-for-future-26/
LOCATION:Auburn City Hall – Lincoln Way\, 1225 Lincoln Way\, Auburn\, CA 95603\, CA\, 95603\, United States
END:VEVENT
BEGIN:VEVENT
DTSTART;TZID=America/Los_Angeles:20250701T130000
DTEND;TZID=America/Los_Angeles:20250701T140000
DTSTAMP:20260425T080314
CREATED:20250510T001041Z
LAST-MODIFIED:20250628T223151Z
UID:5052-1751374800-1751378400@auburnareademocrats.com
SUMMARY:AADC: Fundraising Committee Meeting - CANCELLED
DESCRIPTION:
URL:https://auburnareademocrats.com/event/aadc-fundraising-committee-meeting-5/
LOCATION:AADC Campaign Headquarters\, 161 Palm Avenue - Suite 9\, AUBURN\, CA\, 95603\, United States
END:VEVENT
BEGIN:VEVENT
DTSTART;TZID=America/Los_Angeles:20250629T160000
DTEND;TZID=America/Los_Angeles:20250629T183000
DTSTAMP:20260425T080314
CREATED:20250510T012639Z
LAST-MODIFIED:20250604T231328Z
UID:5221-1751212800-1751221800@auburnareademocrats.com
SUMMARY:AADC Picnic & BBQ
DESCRIPTION:AADC Summer Picnic\nAADC will host a Pre-Fourth of July Picnic and a Silent Auction fundraiser on Sunday\, June 29 at Recreation Park in Auburn\, 123 Recreation Drive. Bring your friends and family\, including children. Look for us at the covered picnic area!\nWe will have guest speakers\, lawn games\, burgers and dogs on the barbecue (including a veggie option)\, and camaraderie. The fun begins at 4:00 PM and goes to 6:30 PM.\nTicket sales will begin on June 1. Tickets are $25 for individuals aged 16 and over. A “Family Pass” for $40 provides entrance to 2 adults and any children under 16. No tickets will be available on the day of the event.\nme ready to bid on a variety of wonderful items at our Silent Auction! Funds from this event will help us to keep the Headquarters open and to prepare for Campaign Season 2026!\nCelebrate summer and support your political values with friends and family on Sunday\, June 29 from 4:30 – 6:30. We do the cooking\, and you get to play😊\nPlease note that we can have a maximum of 100 people at this party\, so please RSVP soon in order to guarantee a spot.\nhttps://secure.actblue.com/donate/aadcpicnic2025
URL:https://auburnareademocrats.com/event/aadc-picnic-bbq/
LOCATION:Recreation Park\, 123 Recreation Dr\, Auburn\, 95603
END:VEVENT
BEGIN:VEVENT
DTSTART;TZID=America/Los_Angeles:20250627T130000
DTEND;TZID=America/Los_Angeles:20250627T140000
DTSTAMP:20260425T080314
CREATED:20250627T080030Z
LAST-MODIFIED:20250528T191600Z
UID:5267-1751029200-1751032800@auburnareademocrats.com
SUMMARY:AADC Community Events Committee Meeting
DESCRIPTION:
URL:https://auburnareademocrats.com/event/aadc-community-events-committee-meeting-5/
LOCATION:AADC Campaign Headquarters\, 161 Palm Avenue - Suite 9\, AUBURN\, CA\, 95603\, United States
END:VEVENT
BEGIN:VEVENT
DTSTART;TZID=America/Los_Angeles:20250627T130000
DTEND;TZID=America/Los_Angeles:20250627T140000
DTSTAMP:20260425T080314
CREATED:20250528T192245Z
LAST-MODIFIED:20250528T192245Z
UID:5291-1751029200-1751032800@auburnareademocrats.com
SUMMARY:AADC Community Events Committee Meeting
DESCRIPTION:
URL:https://auburnareademocrats.com/event/aadc-community-events-committee-meeting-3/
LOCATION:AADC Campaign Headquarters\, 161 Palm Avenue - Suite 9\, AUBURN\, CA\, 95603\, United States
END:VEVENT
BEGIN:VEVENT
DTSTART;TZID=America/Los_Angeles:20250627T120000
DTEND;TZID=America/Los_Angeles:20250627T130000
DTSTAMP:20260425T080314
CREATED:20250328T192309Z
LAST-MODIFIED:20250328T192309Z
UID:4874-1751025600-1751029200@auburnareademocrats.com
SUMMARY:Fridays for Future
DESCRIPTION:Join us as we bring awareness to the climate crisis.\nWe protest every Friday\, rain or shine\, in front of Auburn City Hall. \nPlease click HERE for more information.
URL:https://auburnareademocrats.com/event/fridays-for-future-25/
LOCATION:Auburn City Hall – Lincoln Way\, 1225 Lincoln Way\, Auburn\, CA 95603\, CA\, 95603\, United States
END:VEVENT
BEGIN:VEVENT
DTSTART;TZID=America/Los_Angeles:20250627T100000
DTEND;TZID=America/Los_Angeles:20250627T130000
DTSTAMP:20260425T080314
CREATED:20250328T192115Z
LAST-MODIFIED:20250328T192115Z
UID:4865-1751018400-1751029200@auburnareademocrats.com
SUMMARY:Coffee & Conversation
DESCRIPTION:  \nEvery Friday from 10am-1pm at the AADC HQ. \nBring an article or podcast to share\, or just bring yourself! \nFeel free to drop-in\, but if you’d like to RSVP\, please click HERE.
URL:https://auburnareademocrats.com/event/coffee-conversation-25/
LOCATION:AADC Campaign Headquarters\, 161 Palm Avenue - Suite 9\, AUBURN\, CA\, 95603\, United States
END:VEVENT
BEGIN:VEVENT
DTSTART;TZID=America/Los_Angeles:20250624T143000
DTEND;TZID=America/Los_Angeles:20250624T153000
DTSTAMP:20260425T080314
CREATED:20250328T193615Z
LAST-MODIFIED:20250328T193747Z
UID:4902-1750775400-1750779000@auburnareademocrats.com
SUMMARY:AADC Communications Committee Meeting
DESCRIPTION:The Communications Committee of the AADC meets monthly on the 4th Tuesday of every month at 2:30 P.M.  at the AADC Headquarters.
URL:https://auburnareademocrats.com/event/aadc-communications-committee-meeting-5/
LOCATION:AADC Campaign Headquarters\, 161 Palm Avenue - Suite 9\, AUBURN\, CA\, 95603\, United States
END:VEVENT
BEGIN:VEVENT
DTSTART;TZID=America/Los_Angeles:20250621T090000
DTEND;TZID=America/Los_Angeles:20250621T140000
DTSTAMP:20260425T080314
CREATED:20250606T190116Z
LAST-MODIFIED:20250606T190116Z
UID:5316-1750496400-1750514400@auburnareademocrats.com
SUMMARY:Juneteenth Celebration
DESCRIPTION:Juneteenth\nHelp man the Auburn Area Democratic Club Booth at the Placer Juneteenth 2025 event at Johnson-Springview Park. This is a fun event. We will be registering voters\, handing out swag and treats and just letting people know who we are.\nClick HERE to volunteer.
URL:https://auburnareademocrats.com/event/juneteenth-celebration/
LOCATION:Johnson-Springview Park\, 5480 5th St.\, Rocklin\, CA\, 95677
END:VEVENT
BEGIN:VEVENT
DTSTART;TZID=America/Los_Angeles:20250620T120000
DTEND;TZID=America/Los_Angeles:20250620T130000
DTSTAMP:20260425T080314
CREATED:20250328T192247Z
LAST-MODIFIED:20250328T192247Z
UID:4872-1750420800-1750424400@auburnareademocrats.com
SUMMARY:Fridays for Future
DESCRIPTION:Join us as we bring awareness to the climate crisis.\nWe protest every Friday\, rain or shine\, in front of Auburn City Hall. \nPlease click HERE for more information.
URL:https://auburnareademocrats.com/event/fridays-for-future-24/
LOCATION:Auburn City Hall – Lincoln Way\, 1225 Lincoln Way\, Auburn\, CA 95603\, CA\, 95603\, United States
END:VEVENT
BEGIN:VEVENT
DTSTART;TZID=America/Los_Angeles:20250620T100000
DTEND;TZID=America/Los_Angeles:20250620T130000
DTSTAMP:20260425T080314
CREATED:20250328T192057Z
LAST-MODIFIED:20250328T192057Z
UID:4862-1750413600-1750424400@auburnareademocrats.com
SUMMARY:Coffee & Conversation
DESCRIPTION:  \nEvery Friday from 10am-1pm at the AADC HQ. \nBring an article or podcast to share\, or just bring yourself! \nFeel free to drop-in\, but if you’d like to RSVP\, please click HERE.
URL:https://auburnareademocrats.com/event/coffee-conversation-24/
LOCATION:AADC Campaign Headquarters\, 161 Palm Avenue - Suite 9\, AUBURN\, CA\, 95603\, United States
END:VEVENT
BEGIN:VEVENT
DTSTART;TZID=America/Los_Angeles:20250614T150000
DTEND;TZID=America/Los_Angeles:20250614T163000
DTSTAMP:20260425T080314
CREATED:20250606T185655Z
LAST-MODIFIED:20250609T165619Z
UID:5311-1749913200-1749918600@auburnareademocrats.com
SUMMARY:No Kings Rally
DESCRIPTION:NO KINGS RALLY\nSaturday\, June 14: 3 – 4:30pm @ Auburn Courthouse\nClick HERE to sign up.\nWe’re showing up everywhere he isn’t—to say no thrones\, no crowns\, no kings.\nCheck out nokings.org for more information.
URL:https://auburnareademocrats.com/event/5311/
LOCATION:Auburn Historic Courthouse\, 101 Maple St\, Auburn\, CA\, 95603\, United States
END:VEVENT
BEGIN:VEVENT
DTSTART;TZID=America/Los_Angeles:20250613T130000
DTEND;TZID=America/Los_Angeles:20250613T140000
DTSTAMP:20260425T080314
CREATED:20250528T191404Z
LAST-MODIFIED:20250528T191404Z
UID:5268-1749819600-1749823200@auburnareademocrats.com
SUMMARY:AADC Community Events Committee Meeting
DESCRIPTION:
URL:https://auburnareademocrats.com/event/aadc-community-events-committee-meeting-4/
LOCATION:AADC Campaign Headquarters\, 161 Palm Avenue - Suite 9\, AUBURN\, CA\, 95603\, United States
END:VEVENT
BEGIN:VEVENT
DTSTART;TZID=America/Los_Angeles:20250613T120000
DTEND;TZID=America/Los_Angeles:20250613T130000
DTSTAMP:20260425T080314
CREATED:20250328T192228Z
LAST-MODIFIED:20250328T192228Z
UID:4870-1749816000-1749819600@auburnareademocrats.com
SUMMARY:Fridays for Future
DESCRIPTION:Join us as we bring awareness to the climate crisis.\nWe protest every Friday\, rain or shine\, in front of Auburn City Hall. \nPlease click HERE for more information.
URL:https://auburnareademocrats.com/event/fridays-for-future-23/
LOCATION:Auburn City Hall – Lincoln Way\, 1225 Lincoln Way\, Auburn\, CA 95603\, CA\, 95603\, United States
END:VEVENT
BEGIN:VEVENT
DTSTART;TZID=America/Los_Angeles:20250613T100000
DTEND;TZID=America/Los_Angeles:20250613T130000
DTSTAMP:20260425T080314
CREATED:20250328T192021Z
LAST-MODIFIED:20250609T222020Z
UID:4857-1749808800-1749819600@auburnareademocrats.com
SUMMARY:Coffee & Conversation
DESCRIPTION:  \nEvery Friday from 10am-1pm at the AADC HQ. \nBring an article or podcast to share\, or just bring yourself! \nFeel free to drop-in\, but if you’d like to RSVP\, please click HERE.
URL:https://auburnareademocrats.com/event/coffee-conversation-23/
LOCATION:AADC Campaign Headquarters\, 161 Palm Avenue - Suite 9\, AUBURN\, CA\, 95603\, United States
END:VEVENT
BEGIN:VEVENT
DTSTART;TZID=America/Los_Angeles:20250611T183000
DTEND;TZID=America/Los_Angeles:20250611T200000
DTSTAMP:20260425T080314
CREATED:20250328T193253Z
LAST-MODIFIED:20250328T193253Z
UID:4897-1749666600-1749672000@auburnareademocrats.com
SUMMARY:Placer County Democratic Central Committee (PCDCC) Monthly Meeting
DESCRIPTION:From the organizer: \nThe PCDP meets on the second Wednesday of every month at 6:30pm via Zoom. Contact us to request a Zoom link to join a meeting at: communications@placercountydemocrats.org
URL:https://auburnareademocrats.com/event/placer-county-democratic-central-committee-pcdcc-monthly-meeting-5/
LOCATION:Via ZOOM
END:VEVENT
BEGIN:VEVENT
DTSTART;TZID=America/Los_Angeles:20250609T173000
DTEND;TZID=America/Los_Angeles:20250609T193000
DTSTAMP:20260425T080314
CREATED:20250510T002829Z
LAST-MODIFIED:20250510T002829Z
UID:5116-1749490200-1749497400@auburnareademocrats.com
SUMMARY:E-Board Meeting
DESCRIPTION:The AADC E-Board Meeting is normally held on the second Monday of the month. \nIf you would like to be added to the agenda or would like to attend\, please email info@auburnareademocrats.com. \n(Our offices are on the second floor. Park in the back and enter via the back door for direct access.)
URL:https://auburnareademocrats.com/event/e-board-meeting-7/
LOCATION:AADC Campaign Headquarters\, 161 Palm Avenue - Suite 9\, AUBURN\, CA\, 95603\, United States
END:VEVENT
BEGIN:VEVENT
DTSTART;TZID=America/Los_Angeles:20250606T120000
DTEND;TZID=America/Los_Angeles:20250606T130000
DTSTAMP:20260425T080314
CREATED:20250328T192208Z
LAST-MODIFIED:20250328T192208Z
UID:4868-1749211200-1749214800@auburnareademocrats.com
SUMMARY:Fridays for Future
DESCRIPTION:Join us as we bring awareness to the climate crisis.\nWe protest every Friday\, rain or shine\, in front of Auburn City Hall. \nPlease click HERE for more information.
URL:https://auburnareademocrats.com/event/fridays-for-future-22/
LOCATION:Auburn City Hall – Lincoln Way\, 1225 Lincoln Way\, Auburn\, CA 95603\, CA\, 95603\, United States
END:VEVENT
BEGIN:VEVENT
DTSTART;TZID=America/Los_Angeles:20250606T100000
DTEND;TZID=America/Los_Angeles:20250606T130000
DTSTAMP:20260425T080314
CREATED:20250328T183233Z
LAST-MODIFIED:20250328T183233Z
UID:4855-1749204000-1749214800@auburnareademocrats.com
SUMMARY:Coffee & Conversation
DESCRIPTION:  \nEvery Friday from 10am-1pm at the AADC HQ. \nBring an article or podcast to share\, or just bring yourself! \nFeel free to drop-in\, but if you’d like to RSVP\, please click HERE.
URL:https://auburnareademocrats.com/event/coffee-conversation-22/
LOCATION:AADC Campaign Headquarters\, 161 Palm Avenue - Suite 9\, AUBURN\, CA\, 95603\, United States
END:VEVENT
BEGIN:VEVENT
DTSTART;TZID=America/Los_Angeles:20250605T173000
DTEND;TZID=America/Los_Angeles:20250605T200000
DTSTAMP:20260425T080314
CREATED:20250328T193004Z
LAST-MODIFIED:20250522T185147Z
UID:4892-1749144600-1749153600@auburnareademocrats.com
SUMMARY:Monthly Members Meeting
DESCRIPTION:In lieu of our regular monthly meeting this month\, the AADC is hosting a community forum at the Placer County Health and Human Services Building\nTAKING ACTION ON HUNGER: LOCAL VOICES\, LOCAL SOLUTIONS\nMany Auburn area residents struggle with having adequate food. Since Trump took office what was a significant problem has become worse\, and stands to become even more of an emergency with potential cuts to SNAP\, elimination of subsidies to farmers who supply food banks and schools\, and as food becomes even less affordable.\nAdvocacy at the federal level is critical\, and at the same time coming together to address the local impacts is also essential.\nWhen: June 5\nLocation: Placer County Health & Human Services Building – 11434 B Ave\, Auburn\, California 9560\nRSVP: https://www.mobilize.us/cadems/event/791946/
URL:https://auburnareademocrats.com/event/monthly-members-meeting-6/
LOCATION:Fall Forum  – Candidate Presentations\, 11434 B Ave\, Cordova Room\, Auburn\, California\, 95603
END:VEVENT
BEGIN:VEVENT
DTSTART;TZID=America/Los_Angeles:20250603T130000
DTEND;TZID=America/Los_Angeles:20250603T140000
DTSTAMP:20260425T080314
CREATED:20250328T182855Z
LAST-MODIFIED:20250408T044711Z
UID:4844-1748955600-1748959200@auburnareademocrats.com
SUMMARY:AADC: Fundraising Committee Meeting
DESCRIPTION:
URL:https://auburnareademocrats.com/event/aadc-fundraising-committee-meeting-4/
LOCATION:AADC Campaign Headquarters\, 161 Palm Avenue - Suite 9\, AUBURN\, CA\, 95603\, United States
END:VEVENT
BEGIN:VEVENT
DTSTART;TZID=America/Los_Angeles:20250531T110000
DTEND;TZID=America/Los_Angeles:20250531T130000
DTSTAMP:20260425T080314
CREATED:20250528T191100Z
LAST-MODIFIED:20250528T191100Z
UID:5259-1748689200-1748696400@auburnareademocrats.com
SUMMARY:AADC Rally to Protect Medicare\, Medicaid\, and Social Security
DESCRIPTION:
URL:https://auburnareademocrats.com/event/aadc-rally-to-protect-medicare-medicaid-and-social-security/
LOCATION:Bell Road and Highway 49 Intersection
END:VEVENT
BEGIN:VEVENT
DTSTART;TZID=America/Los_Angeles:20250530T120000
DTEND;TZID=America/Los_Angeles:20250530T130000
DTSTAMP:20260425T080314
CREATED:20250303T215603Z
LAST-MODIFIED:20250303T215603Z
UID:4663-1748606400-1748610000@auburnareademocrats.com
SUMMARY:Fridays for Future
DESCRIPTION:Join us as we bring awareness to the climate crisis.\nWe protest every Friday\, rain or shine\, in front of Auburn City Hall. \nPlease click HERE for more information.
URL:https://auburnareademocrats.com/event/fridays-for-future-21/
LOCATION:Auburn City Hall – Lincoln Way\, 1225 Lincoln Way\, Auburn\, CA 95603\, CA\, 95603\, United States
END:VEVENT
BEGIN:VEVENT
DTSTART;TZID=America/Los_Angeles:20250530T100000
DTEND;TZID=America/Los_Angeles:20250530T130000
DTSTAMP:20260425T080314
CREATED:20250303T215317Z
LAST-MODIFIED:20250303T215317Z
UID:4652-1748599200-1748610000@auburnareademocrats.com
SUMMARY:Coffee & Conversation
DESCRIPTION:  \nEvery Friday from 10am-1pm at the AADC HQ. \nBring an article or podcast to share\, or just bring yourself! \nFeel free to drop-in\, but if you’d like to RSVP\, please click HERE.
URL:https://auburnareademocrats.com/event/coffee-conversation-21/
LOCATION:AADC Campaign Headquarters\, 161 Palm Avenue - Suite 9\, AUBURN\, CA\, 95603\, United States
END:VEVENT
BEGIN:VEVENT
DTSTART;TZID=America/Los_Angeles:20250528T173000
DTEND;TZID=America/Los_Angeles:20250528T193000
DTSTAMP:20260425T080314
CREATED:20250227T213428Z
LAST-MODIFIED:20250227T213441Z
UID:4557-1748453400-1748460600@auburnareademocrats.com
SUMMARY:Sac Stonewall Dems: Four Freedoms Awards Reception
DESCRIPTION:From the organizer:\nGet ready for an unforgettable evening! The Sacramento Stonewall Dems’ annual Four Freedoms Awards Reception is here\, celebrating the trailblazing LGBTQ+ leaders (and allies) who inspire and empower our community. Don’t miss this incredible night of recognition\, connection\, and pride!\nThis year\, we are SO proud to be honoring:\nPastor Casey Tinnin-Martinez\nWest Sacramento City Council Member Dawnte Early\nAsm. Chris Ward\nState Sen. Caroline Menjivar\nCA State Controller Malia Cohen\nCongress Member Doris Matsui
URL:https://auburnareademocrats.com/event/sac-stonewall-dems-four-freedoms-awards-reception/
LOCATION:Elks Tower Ballroom\, 921 11th Street\, Sacramento\, CA\, 95814\, United States
END:VEVENT
END:VCALENDAR