BEGIN:VCALENDAR
VERSION:2.0
PRODID:-//Auburn Area Democratic Club - ECPv6.15.20//NONSGML v1.0//EN
CALSCALE:GREGORIAN
METHOD:PUBLISH
X-WR-CALNAME:Auburn Area Democratic Club
X-ORIGINAL-URL:https://auburnareademocrats.com
X-WR-CALDESC:Events for Auburn Area Democratic Club
REFRESH-INTERVAL;VALUE=DURATION:PT1H
X-Robots-Tag:noindex
X-PUBLISHED-TTL:PT1H
BEGIN:VTIMEZONE
TZID:America/Los_Angeles
BEGIN:DAYLIGHT
TZOFFSETFROM:-0800
TZOFFSETTO:-0700
TZNAME:PDT
DTSTART:20240310T100000
END:DAYLIGHT
BEGIN:STANDARD
TZOFFSETFROM:-0700
TZOFFSETTO:-0800
TZNAME:PST
DTSTART:20241103T090000
END:STANDARD
BEGIN:DAYLIGHT
TZOFFSETFROM:-0800
TZOFFSETTO:-0700
TZNAME:PDT
DTSTART:20250309T100000
END:DAYLIGHT
BEGIN:STANDARD
TZOFFSETFROM:-0700
TZOFFSETTO:-0800
TZNAME:PST
DTSTART:20251102T090000
END:STANDARD
BEGIN:DAYLIGHT
TZOFFSETFROM:-0800
TZOFFSETTO:-0700
TZNAME:PDT
DTSTART:20260308T100000
END:DAYLIGHT
BEGIN:STANDARD
TZOFFSETFROM:-0700
TZOFFSETTO:-0800
TZNAME:PST
DTSTART:20261101T090000
END:STANDARD
END:VTIMEZONE
BEGIN:VEVENT
DTSTART;TZID=America/Los_Angeles:20251024T123000
DTEND;TZID=America/Los_Angeles:20251024T133000
DTSTAMP:20260425T091441
CREATED:20251020T165916Z
LAST-MODIFIED:20251020T165916Z
UID:5740-1761309000-1761312600@auburnareademocrats.com
SUMMARY:AADC Membership Committee Meeting
DESCRIPTION:
URL:https://auburnareademocrats.com/event/aadc-membership-committee-meeting-7/
LOCATION:AADC Campaign Headquarters\, 161 Palm Avenue - Suite 9\, AUBURN\, CA\, 95603\, United States
END:VEVENT
BEGIN:VEVENT
DTSTART;TZID=America/Los_Angeles:20251024T120000
DTEND;TZID=America/Los_Angeles:20251024T130000
DTSTAMP:20260425T091441
CREATED:20250510T005148Z
LAST-MODIFIED:20250510T005148Z
UID:5164-1761307200-1761310800@auburnareademocrats.com
SUMMARY:Fridays for Future
DESCRIPTION:Join us as we bring awareness to the climate crisis.\nWe protest every Friday\, rain or shine\, in front of Auburn City Hall. \nPlease click HERE for more information.
URL:https://auburnareademocrats.com/event/fridays-for-future-42/
LOCATION:Auburn City Hall – Lincoln Way\, 1225 Lincoln Way\, Auburn\, CA 95603\, CA\, 95603\, United States
END:VEVENT
BEGIN:VEVENT
DTSTART;TZID=America/Los_Angeles:20251024T100000
DTEND;TZID=America/Los_Angeles:20251024T130000
DTSTAMP:20260425T091441
CREATED:20250510T005942Z
LAST-MODIFIED:20250510T005942Z
UID:5198-1761300000-1761310800@auburnareademocrats.com
SUMMARY:Coffee & Conversation
DESCRIPTION:  \nEvery Friday from 10am-1pm at the AADC HQ. \nBring an article or podcast to share\, or just bring yourself! \nFeel free to drop-in\, but if you’d like to RSVP\, please click HERE.
URL:https://auburnareademocrats.com/event/coffee-conversation-41/
LOCATION:AADC Campaign Headquarters\, 161 Palm Avenue - Suite 9\, AUBURN\, CA\, 95603\, United States
END:VEVENT
BEGIN:VEVENT
DTSTART;TZID=America/Los_Angeles:20251022T100000
DTEND;TZID=America/Los_Angeles:20251022T123000
DTSTAMP:20260425T091441
CREATED:20250926T005023Z
LAST-MODIFIED:20250926T005023Z
UID:5596-1761127200-1761136200@auburnareademocrats.com
SUMMARY:Voter Registration at Sierra College
DESCRIPTION:Join us as we register new voters at Sierra College!\nWe register voters\, alternating weekly between Wednesday and the Tuesday registration teams. We are on campus from 10:00 a.m. to 12:30 p.m. \nIf you are interested in registering young voters\, providing voting information\,  and just talking politics in a friendly\, nonconfrontational\, and upbeat way we would love to have you join us. \nPlease click HERE to register. \nAnd\, please click HERE for more information on our Voter Outreach program \n 
URL:https://auburnareademocrats.com/event/voter-registration-at-sierra-college-28/
LOCATION:Sierra College\, 5100 Sierra College Blvd.\, Rocklin\, 95677
END:VEVENT
BEGIN:VEVENT
DTSTART;TZID=America/Los_Angeles:20251021T100000
DTEND;TZID=America/Los_Angeles:20251021T123000
DTSTAMP:20260425T091441
CREATED:20250926T004909Z
LAST-MODIFIED:20250926T004909Z
UID:5594-1761040800-1761049800@auburnareademocrats.com
SUMMARY:Voter Registration at Sierra College
DESCRIPTION:Join us as we register new voters at Sierra College!\nWe register voters\, alternating weekly between Wednesday and the Tuesday registration teams. We are on campus from 10:00 a.m. to 12:30 p.m. \nIf you are interested in registering young voters\, providing voting information\,  and just talking politics in a friendly\, nonconfrontational\, and upbeat way we would love to have you join us. \nPlease click HERE to register. \nAnd\, please click HERE for more information on our Voter Outreach program \n 
URL:https://auburnareademocrats.com/event/voter-registration-at-sierra-college-27/
LOCATION:Sierra College\, 5100 Sierra College Blvd.\, Rocklin\, 95677
END:VEVENT
BEGIN:VEVENT
DTSTART;VALUE=DATE:20251018
DTEND;VALUE=DATE:20251020
DTSTAMP:20260425T091441
CREATED:20250922T031113Z
LAST-MODIFIED:20250922T031113Z
UID:5563-1760745600-1760918399@auburnareademocrats.com
SUMMARY:Sign-up to Canvass for Prop 50 in Auburn
DESCRIPTION:Available Times\, 9:00am-12:00pm or 1:00pm-3:00pm \nSIGN UP HERE \n 
URL:https://auburnareademocrats.com/event/sign-up-to-canvass-for-prop-50-in-auburn-5/
LOCATION:CA
END:VEVENT
BEGIN:VEVENT
DTSTART;TZID=America/Los_Angeles:20251017T120000
DTEND;TZID=America/Los_Angeles:20251017T130000
DTSTAMP:20260425T091441
CREATED:20250510T005133Z
LAST-MODIFIED:20250510T005133Z
UID:5165-1760702400-1760706000@auburnareademocrats.com
SUMMARY:Fridays for Future
DESCRIPTION:Join us as we bring awareness to the climate crisis.\nWe protest every Friday\, rain or shine\, in front of Auburn City Hall. \nPlease click HERE for more information.
URL:https://auburnareademocrats.com/event/fridays-for-future-41/
LOCATION:Auburn City Hall – Lincoln Way\, 1225 Lincoln Way\, Auburn\, CA 95603\, CA\, 95603\, United States
END:VEVENT
BEGIN:VEVENT
DTSTART;TZID=America/Los_Angeles:20251017T100000
DTEND;TZID=America/Los_Angeles:20251017T130000
DTSTAMP:20260425T091441
CREATED:20250510T005915Z
LAST-MODIFIED:20250510T005915Z
UID:5196-1760695200-1760706000@auburnareademocrats.com
SUMMARY:Coffee & Conversation
DESCRIPTION:  \nEvery Friday from 10am-1pm at the AADC HQ. \nBring an article or podcast to share\, or just bring yourself! \nFeel free to drop-in\, but if you’d like to RSVP\, please click HERE.
URL:https://auburnareademocrats.com/event/coffee-conversation-40/
LOCATION:AADC Campaign Headquarters\, 161 Palm Avenue - Suite 9\, AUBURN\, CA\, 95603\, United States
END:VEVENT
BEGIN:VEVENT
DTSTART;TZID=America/Los_Angeles:20251015T100000
DTEND;TZID=America/Los_Angeles:20251015T123000
DTSTAMP:20260425T091441
CREATED:20250926T004749Z
LAST-MODIFIED:20250926T004749Z
UID:5592-1760522400-1760531400@auburnareademocrats.com
SUMMARY:Voter Registration at Sierra College
DESCRIPTION:Join us as we register new voters at Sierra College!\nWe register voters\, alternating weekly between Wednesday and the Tuesday registration teams. We are on campus from 10:00 a.m. to 12:30 p.m. \nIf you are interested in registering young voters\, providing voting information\,  and just talking politics in a friendly\, nonconfrontational\, and upbeat way we would love to have you join us. \nPlease click HERE to register. \nAnd\, please click HERE for more information on our Voter Outreach program \n 
URL:https://auburnareademocrats.com/event/voter-registration-at-sierra-college-26/
LOCATION:Sierra College\, 5100 Sierra College Blvd.\, Rocklin\, 95677
END:VEVENT
BEGIN:VEVENT
DTSTART;VALUE=DATE:20251011
DTEND;VALUE=DATE:20251013
DTSTAMP:20260425T091441
CREATED:20250922T030855Z
LAST-MODIFIED:20250922T030855Z
UID:5560-1760140800-1760313599@auburnareademocrats.com
SUMMARY:Sign-up to Canvass for Prop 50 in Auburn
DESCRIPTION:Available Times\, 9:00am-12:00pm or 1:00pm-3:00pm \nSIGN UP HERE \n 
URL:https://auburnareademocrats.com/event/sign-up-to-canvass-for-prop-50-in-auburn-4/
LOCATION:CA
END:VEVENT
BEGIN:VEVENT
DTSTART;TZID=America/Los_Angeles:20251010T130000
DTEND;TZID=America/Los_Angeles:20251010T140000
DTSTAMP:20260425T091441
CREATED:20250528T191829Z
LAST-MODIFIED:20250528T191829Z
UID:5281-1760101200-1760104800@auburnareademocrats.com
SUMMARY:AADC Community Events Committee Meeting
DESCRIPTION:
URL:https://auburnareademocrats.com/event/aadc-community-events-committee-meeting-12/
LOCATION:AADC Campaign Headquarters\, 161 Palm Avenue - Suite 9\, AUBURN\, CA\, 95603\, United States
END:VEVENT
BEGIN:VEVENT
DTSTART;TZID=America/Los_Angeles:20251010T120000
DTEND;TZID=America/Los_Angeles:20251010T130000
DTSTAMP:20260425T091441
CREATED:20250510T005020Z
LAST-MODIFIED:20250510T005020Z
UID:5167-1760097600-1760101200@auburnareademocrats.com
SUMMARY:Fridays for Future
DESCRIPTION:Join us as we bring awareness to the climate crisis.\nWe protest every Friday\, rain or shine\, in front of Auburn City Hall. \nPlease click HERE for more information.
URL:https://auburnareademocrats.com/event/fridays-for-future-39/
LOCATION:Auburn City Hall – Lincoln Way\, 1225 Lincoln Way\, Auburn\, CA 95603\, CA\, 95603\, United States
END:VEVENT
BEGIN:VEVENT
DTSTART;TZID=America/Los_Angeles:20251010T100000
DTEND;TZID=America/Los_Angeles:20251010T130000
DTSTAMP:20260425T091441
CREATED:20250510T005844Z
LAST-MODIFIED:20250510T005844Z
UID:5194-1760090400-1760101200@auburnareademocrats.com
SUMMARY:Coffee & Conversation
DESCRIPTION:  \nEvery Friday from 10am-1pm at the AADC HQ. \nBring an article or podcast to share\, or just bring yourself! \nFeel free to drop-in\, but if you’d like to RSVP\, please click HERE.
URL:https://auburnareademocrats.com/event/coffee-conversation-39/
LOCATION:AADC Campaign Headquarters\, 161 Palm Avenue - Suite 9\, AUBURN\, CA\, 95603\, United States
END:VEVENT
BEGIN:VEVENT
DTSTART;TZID=America/Los_Angeles:20251008T183000
DTEND;TZID=America/Los_Angeles:20251008T200000
DTSTAMP:20260425T091441
CREATED:20250510T004429Z
LAST-MODIFIED:20250510T004429Z
UID:5156-1759948200-1759953600@auburnareademocrats.com
SUMMARY:Placer County Democratic Central Committee (PCDCC) Monthly Meeting
DESCRIPTION:From the organizer: \nThe PCDP meets on the second Wednesday of every month at 6:30pm via Zoom. Contact us to request a Zoom link to join a meeting at: communications@placercountydemocrats.org
URL:https://auburnareademocrats.com/event/placer-county-democratic-central-committee-pcdcc-monthly-meeting-10/
LOCATION:Via ZOOM
END:VEVENT
BEGIN:VEVENT
DTSTART;TZID=America/Los_Angeles:20251008T100000
DTEND;TZID=America/Los_Angeles:20251008T123000
DTSTAMP:20260425T091441
CREATED:20250926T004512Z
LAST-MODIFIED:20250926T004512Z
UID:5590-1759917600-1759926600@auburnareademocrats.com
SUMMARY:Voter Registration at Sierra College
DESCRIPTION:Join us as we register new voters at Sierra College!\nWe register voters\, alternating weekly between Wednesday and the Tuesday registration teams. We are on campus from 10:00 a.m. to 12:30 p.m. \nIf you are interested in registering young voters\, providing voting information\,  and just talking politics in a friendly\, nonconfrontational\, and upbeat way we would love to have you join us. \nPlease click HERE to register. \nAnd\, please click HERE for more information on our Voter Outreach program \n 
URL:https://auburnareademocrats.com/event/voter-registration-at-sierra-college-25/
LOCATION:Sierra College\, 5100 Sierra College Blvd.\, Rocklin\, 95677
END:VEVENT
BEGIN:VEVENT
DTSTART;TZID=America/Los_Angeles:20251007T100000
DTEND;TZID=America/Los_Angeles:20251007T123000
DTSTAMP:20260425T091441
CREATED:20250926T004327Z
LAST-MODIFIED:20250926T004327Z
UID:5588-1759831200-1759840200@auburnareademocrats.com
SUMMARY:Voter Registration at Sierra College
DESCRIPTION:Join us as we register new voters at Sierra College!\nWe register voters\, alternating weekly between Wednesday and the Tuesday registration teams. We are on campus from 10:00 a.m. to 12:30 p.m. \nIf you are interested in registering young voters\, providing voting information\,  and just talking politics in a friendly\, nonconfrontational\, and upbeat way we would love to have you join us. \nPlease click HERE to register. \nAnd\, please click HERE for more information on our Voter Outreach program \n 
URL:https://auburnareademocrats.com/event/voter-registration-at-sierra-college-24/
LOCATION:Sierra College\, 5100 Sierra College Blvd.\, Rocklin\, 95677
END:VEVENT
BEGIN:VEVENT
DTSTART;TZID=America/Los_Angeles:20251006T180000
DTEND;TZID=America/Los_Angeles:20251006T200000
DTSTAMP:20260425T091441
CREATED:20250510T003017Z
LAST-MODIFIED:20250713T200739Z
UID:5124-1759773600-1759780800@auburnareademocrats.com
SUMMARY:E-Board Meeting
DESCRIPTION:The AADC E-Board Meeting is normally held on the second Monday of the month. \nIf you would like to be added to the agenda or would like to attend\, please email info@auburnareademocrats.com. \n(Our offices are on the second floor. Park in the back and enter via the back door for direct access.)
URL:https://auburnareademocrats.com/event/e-board-meeting-11/
LOCATION:AADC Campaign Headquarters\, 161 Palm Avenue - Suite 9\, AUBURN\, CA\, 95603\, United States
END:VEVENT
BEGIN:VEVENT
DTSTART;VALUE=DATE:20251004
DTEND;VALUE=DATE:20251006
DTSTAMP:20260425T091441
CREATED:20250922T030517Z
LAST-MODIFIED:20250922T030517Z
UID:5559-1759536000-1759708799@auburnareademocrats.com
SUMMARY:Sign-up to Canvass for Prop 50 in Auburn
DESCRIPTION:Available Times\, 9:00am-12:00pm or 1:00pm-3:00pm \nSIGN UP HERE \n 
URL:https://auburnareademocrats.com/event/sign-up-to-canvass-for-prop-50-in-auburn-3/
LOCATION:CA
END:VEVENT
BEGIN:VEVENT
DTSTART;TZID=America/Los_Angeles:20251003T120000
DTEND;TZID=America/Los_Angeles:20251003T130000
DTSTAMP:20260425T091441
CREATED:20250510T004926Z
LAST-MODIFIED:20250510T005000Z
UID:5168-1759492800-1759496400@auburnareademocrats.com
SUMMARY:Fridays for Future
DESCRIPTION:Join us as we bring awareness to the climate crisis.\nWe protest every Friday\, rain or shine\, in front of Auburn City Hall. \nPlease click HERE for more information.
URL:https://auburnareademocrats.com/event/fridays-for-future-38/
LOCATION:Auburn City Hall – Lincoln Way\, 1225 Lincoln Way\, Auburn\, CA 95603\, CA\, 95603\, United States
END:VEVENT
BEGIN:VEVENT
DTSTART;TZID=America/Los_Angeles:20251003T100000
DTEND;TZID=America/Los_Angeles:20251003T130000
DTSTAMP:20260425T091441
CREATED:20250510T005627Z
LAST-MODIFIED:20250510T005627Z
UID:5192-1759485600-1759496400@auburnareademocrats.com
SUMMARY:Coffee & Conversation
DESCRIPTION:  \nEvery Friday from 10am-1pm at the AADC HQ. \nBring an article or podcast to share\, or just bring yourself! \nFeel free to drop-in\, but if you’d like to RSVP\, please click HERE.
URL:https://auburnareademocrats.com/event/coffee-conversation-38/
LOCATION:AADC Campaign Headquarters\, 161 Palm Avenue - Suite 9\, AUBURN\, CA\, 95603\, United States
END:VEVENT
BEGIN:VEVENT
DTSTART;TZID=America/Los_Angeles:20251002T173000
DTEND;TZID=America/Los_Angeles:20251002T200000
DTSTAMP:20260425T091441
CREATED:20250510T002720Z
LAST-MODIFIED:20250514T185752Z
UID:5112-1759426200-1759435200@auburnareademocrats.com
SUMMARY:Monthly Members Meeting
DESCRIPTION:Our monthly meetings are held in the Rose Room at Auburn City Hall\, 1225 Lincoln Way\, Auburn.\nSee Rose Room address\, map\, parking information and directions here.\nSocial time starts at 5:30 pm\, with pizza and soft drinks available for $5.00 per person.\nThe meeting begins promptly at 6:30 pm\, starting with club business followed by our Speaker Series. Meetings end at 8:00 pm.\nBring a friend!\nTopic: Executive Board Nominations\nPARKING WILL FILL-UP QUICKLY. PLEASE CONSIDER CARPOOLING.
URL:https://auburnareademocrats.com/event/monthly-members-meeting-10/
LOCATION:Auburn City Hall Rose Room\, 1225 Lincoln Way\, Auburn\, CA 95603\, CA\, 95603\, United States
END:VEVENT
BEGIN:VEVENT
DTSTART;TZID=America/Los_Angeles:20251001T100000
DTEND;TZID=America/Los_Angeles:20251001T123000
DTSTAMP:20260425T091441
CREATED:20250926T002817Z
LAST-MODIFIED:20250926T003929Z
UID:5583-1759312800-1759321800@auburnareademocrats.com
SUMMARY:Voter Registration at Sierra College
DESCRIPTION:Join us as we register new voters at Sierra College!\nWe register voters\, alternating weekly between Wednesday and the Tuesday registration teams. We are on campus from 10:00 a.m. to 12:30 p.m. \nIf you are interested in registering young voters\, providing voting information\,  and just talking politics in a friendly\, nonconfrontational\, and upbeat way we would love to have you join us. \nPlease click HERE to register. \nAnd\, please click HERE for more information on our Voter Outreach program \n 
URL:https://auburnareademocrats.com/event/voter-registration-at-sierra-college-23/
LOCATION:Sierra College\, 5100 Sierra College Blvd.\, Rocklin\, 95677
END:VEVENT
BEGIN:VEVENT
DTSTART;VALUE=DATE:20250927
DTEND;VALUE=DATE:20250929
DTSTAMP:20260425T091441
CREATED:20250920T154631Z
LAST-MODIFIED:20250920T154631Z
UID:5554-1758931200-1759103999@auburnareademocrats.com
SUMMARY:Sign-up to Canvass for Prop 50 in Auburn
DESCRIPTION:Available Times\, 9:00am-12:00pm or 1:00pm-3:00pm \nSIGN UP HERE \n 
URL:https://auburnareademocrats.com/event/sign-up-to-canvass-for-prop-50-in-auburn/
LOCATION:CA
END:VEVENT
BEGIN:VEVENT
DTSTART;TZID=America/Los_Angeles:20250926T130000
DTEND;TZID=America/Los_Angeles:20250926T140000
DTSTAMP:20260425T091441
CREATED:20250528T191810Z
LAST-MODIFIED:20250528T191810Z
UID:5279-1758891600-1758895200@auburnareademocrats.com
SUMMARY:AADC Community Events Committee Meeting
DESCRIPTION:
URL:https://auburnareademocrats.com/event/aadc-community-events-committee-meeting-11/
LOCATION:AADC Campaign Headquarters\, 161 Palm Avenue - Suite 9\, AUBURN\, CA\, 95603\, United States
END:VEVENT
BEGIN:VEVENT
DTSTART;TZID=America/Los_Angeles:20250926T120000
DTEND;TZID=America/Los_Angeles:20250926T130000
DTSTAMP:20260425T091441
CREATED:20250510T005040Z
LAST-MODIFIED:20250510T005104Z
UID:5166-1758888000-1758891600@auburnareademocrats.com
SUMMARY:Fridays for Future
DESCRIPTION:Join us as we bring awareness to the climate crisis.\nWe protest every Friday\, rain or shine\, in front of Auburn City Hall. \nPlease click HERE for more information.
URL:https://auburnareademocrats.com/event/fridays-for-future-40/
LOCATION:Auburn City Hall – Lincoln Way\, 1225 Lincoln Way\, Auburn\, CA 95603\, CA\, 95603\, United States
END:VEVENT
BEGIN:VEVENT
DTSTART;TZID=America/Los_Angeles:20250926T100000
DTEND;TZID=America/Los_Angeles:20250926T130000
DTSTAMP:20260425T091441
CREATED:20250510T005602Z
LAST-MODIFIED:20250510T005602Z
UID:5190-1758880800-1758891600@auburnareademocrats.com
SUMMARY:Coffee & Conversation
DESCRIPTION:  \nEvery Friday from 10am-1pm at the AADC HQ. \nBring an article or podcast to share\, or just bring yourself! \nFeel free to drop-in\, but if you’d like to RSVP\, please click HERE.
URL:https://auburnareademocrats.com/event/coffee-conversation-37/
LOCATION:AADC Campaign Headquarters\, 161 Palm Avenue - Suite 9\, AUBURN\, CA\, 95603\, United States
END:VEVENT
BEGIN:VEVENT
DTSTART;TZID=America/Los_Angeles:20250925T183000
DTEND;TZID=America/Los_Angeles:20250925T203000
DTSTAMP:20260425T091441
CREATED:20250725T161825Z
LAST-MODIFIED:20250725T161825Z
UID:5471-1758825000-1758832200@auburnareademocrats.com
SUMMARY:AADC Community Forum: Healthcare Access
DESCRIPTION:
URL:https://auburnareademocrats.com/event/aadc-community-forum-healthcare-access/
LOCATION:Fall Forum  – Candidate Presentations\, 11434 B Ave\, Cordova Room\, Auburn\, California\, 95603
END:VEVENT
BEGIN:VEVENT
DTSTART;TZID=America/Los_Angeles:20250923T143000
DTEND;TZID=America/Los_Angeles:20250923T153000
DTSTAMP:20260425T091441
CREATED:20250510T003410Z
LAST-MODIFIED:20250510T003410Z
UID:5132-1758637800-1758641400@auburnareademocrats.com
SUMMARY:AADC Communications Committee Meeting
DESCRIPTION:
URL:https://auburnareademocrats.com/event/aadc-communications-committee-meeting-8/
LOCATION:AADC Campaign Headquarters\, 161 Palm Avenue - Suite 9\, AUBURN\, CA\, 95603\, United States
END:VEVENT
BEGIN:VEVENT
DTSTART;VALUE=DATE:20250921
DTEND;VALUE=DATE:20250922
DTSTAMP:20260425T091441
CREATED:20250920T151424Z
LAST-MODIFIED:20250920T153904Z
UID:5542-1758412800-1758499199@auburnareademocrats.com
SUMMARY:Sign-up to Canvass for Prop 50 in Auburn
DESCRIPTION:Available Times\, 9:00am-12:00pm or 1:00pm-3:00pm \nSIGN UP HERE \n 
URL:https://auburnareademocrats.com/event/canvass-for-prop-50-in-auburn/
LOCATION:CA
END:VEVENT
BEGIN:VEVENT
DTSTART;TZID=America/Los_Angeles:20250920T130000
DTEND;TZID=America/Los_Angeles:20250920T150000
DTSTAMP:20260425T091441
CREATED:20250920T155811Z
LAST-MODIFIED:20250920T155811Z
UID:5556-1758373200-1758380400@auburnareademocrats.com
SUMMARY:Sign-up to Canvass for Prop 50 in Auburn
DESCRIPTION:Available Time   1:00pm-3:00pm \nSIGN UP HERE \n 
URL:https://auburnareademocrats.com/event/sign-up-to-canvass-for-prop-50-in-auburn-2/
LOCATION:CA
END:VEVENT
END:VCALENDAR