BEGIN:VCALENDAR
VERSION:2.0
PRODID:-//Auburn Area Democratic Club - ECPv6.15.20//NONSGML v1.0//EN
CALSCALE:GREGORIAN
METHOD:PUBLISH
X-WR-CALNAME:Auburn Area Democratic Club
X-ORIGINAL-URL:https://auburnareademocrats.com
X-WR-CALDESC:Events for Auburn Area Democratic Club
REFRESH-INTERVAL;VALUE=DURATION:PT1H
X-Robots-Tag:noindex
X-PUBLISHED-TTL:PT1H
BEGIN:VTIMEZONE
TZID:America/Los_Angeles
BEGIN:DAYLIGHT
TZOFFSETFROM:-0800
TZOFFSETTO:-0700
TZNAME:PDT
DTSTART:20240310T100000
END:DAYLIGHT
BEGIN:STANDARD
TZOFFSETFROM:-0700
TZOFFSETTO:-0800
TZNAME:PST
DTSTART:20241103T090000
END:STANDARD
BEGIN:DAYLIGHT
TZOFFSETFROM:-0800
TZOFFSETTO:-0700
TZNAME:PDT
DTSTART:20250309T100000
END:DAYLIGHT
BEGIN:STANDARD
TZOFFSETFROM:-0700
TZOFFSETTO:-0800
TZNAME:PST
DTSTART:20251102T090000
END:STANDARD
BEGIN:DAYLIGHT
TZOFFSETFROM:-0800
TZOFFSETTO:-0700
TZNAME:PDT
DTSTART:20260308T100000
END:DAYLIGHT
BEGIN:STANDARD
TZOFFSETFROM:-0700
TZOFFSETTO:-0800
TZNAME:PST
DTSTART:20261101T090000
END:STANDARD
END:VTIMEZONE
BEGIN:VEVENT
DTSTART;TZID=America/Los_Angeles:20251215T190000
DTEND;TZID=America/Los_Angeles:20251215T203000
DTSTAMP:20260425T064952
CREATED:20250514T190435Z
LAST-MODIFIED:20251207T180120Z
UID:5247-1765825200-1765830600@auburnareademocrats.com
SUMMARY:E-Board Meeting
DESCRIPTION:The AADC E-Board Meeting is normally held on the second Monday of the month. \nIf you would like to be added to the agenda or would like to attend\, please email info@auburnareademocrats.com. \n(Our offices are on the second floor. Park in the back and enter via the back door for direct access.)
URL:https://auburnareademocrats.com/event/e-board-meeting-6/
LOCATION:AADC Campaign Headquarters\, 161 Palm Avenue - Suite 9\, AUBURN\, CA\, 95603\, United States
END:VEVENT
BEGIN:VEVENT
DTSTART;TZID=America/Los_Angeles:20251212T120000
DTEND;TZID=America/Los_Angeles:20251212T130000
DTSTAMP:20260425T064952
CREATED:20250514T190328Z
LAST-MODIFIED:20250514T190328Z
UID:5241-1765540800-1765544400@auburnareademocrats.com
SUMMARY:Fridays for Future
DESCRIPTION:Join us as we bring awareness to the climate crisis.\nWe protest every Friday\, rain or shine\, in front of Auburn City Hall. \nPlease click HERE for more information.
URL:https://auburnareademocrats.com/event/fridays-for-future-49/
LOCATION:Auburn City Hall – Lincoln Way\, 1225 Lincoln Way\, Auburn\, CA 95603\, CA\, 95603\, United States
END:VEVENT
BEGIN:VEVENT
DTSTART;TZID=America/Los_Angeles:20251212T100000
DTEND;TZID=America/Los_Angeles:20251212T130000
DTSTAMP:20260425T064952
CREATED:20250514T190121Z
LAST-MODIFIED:20250514T190121Z
UID:5235-1765533600-1765544400@auburnareademocrats.com
SUMMARY:Coffee & Conversation
DESCRIPTION:  \nEvery Friday from 10am-1pm at the AADC HQ. \nBring an article or podcast to share\, or just bring yourself! \nFeel free to drop-in\, but if you’d like to RSVP\, please click HERE.
URL:https://auburnareademocrats.com/event/coffee-conversation-48/
LOCATION:AADC Campaign Headquarters\, 161 Palm Avenue - Suite 9\, AUBURN\, CA\, 95603\, United States
END:VEVENT
BEGIN:VEVENT
DTSTART;TZID=America/Los_Angeles:20251210T100000
DTEND;TZID=America/Los_Angeles:20251210T123000
DTSTAMP:20260425T064952
CREATED:20250925T184401Z
LAST-MODIFIED:20250926T010406Z
UID:5576-1765360800-1765369800@auburnareademocrats.com
SUMMARY:Voter Registration at Sierra College
DESCRIPTION:Join us as we register new voters at Sierra College!\nWe register voters\, alternating weekly between Wednesday and the Tuesday registration teams. We are on campus from 10:00 a.m. to 12:30 p.m. \nIf you are interested in registering young voters\, providing voting information\,  and just talking politics in a friendly\, nonconfrontational\, and upbeat way we would love to have you join us. \nPlease click HERE to register. \nAnd\, please click HERE for more information on our Voter Outreach program \n 
URL:https://auburnareademocrats.com/event/voter-registration-at-sierra-college-22/
LOCATION:Sierra College\, 5100 Sierra College Blvd.\, Rocklin\, 95677
END:VEVENT
BEGIN:VEVENT
DTSTART;TZID=America/Los_Angeles:20251205T120000
DTEND;TZID=America/Los_Angeles:20251205T130000
DTSTAMP:20260425T064952
CREATED:20250514T190310Z
LAST-MODIFIED:20250514T190310Z
UID:5242-1764936000-1764939600@auburnareademocrats.com
SUMMARY:Fridays for Future
DESCRIPTION:Join us as we bring awareness to the climate crisis.\nWe protest every Friday\, rain or shine\, in front of Auburn City Hall. \nPlease click HERE for more information.
URL:https://auburnareademocrats.com/event/fridays-for-future-48/
LOCATION:Auburn City Hall – Lincoln Way\, 1225 Lincoln Way\, Auburn\, CA 95603\, CA\, 95603\, United States
END:VEVENT
BEGIN:VEVENT
DTSTART;TZID=America/Los_Angeles:20251205T100000
DTEND;TZID=America/Los_Angeles:20251205T130000
DTSTAMP:20260425T064952
CREATED:20250514T190043Z
LAST-MODIFIED:20250514T190043Z
UID:5233-1764928800-1764939600@auburnareademocrats.com
SUMMARY:Coffee & Conversation
DESCRIPTION:  \nEvery Friday from 10am-1pm at the AADC HQ. \nBring an article or podcast to share\, or just bring yourself! \nFeel free to drop-in\, but if you’d like to RSVP\, please click HERE.
URL:https://auburnareademocrats.com/event/coffee-conversation-47/
LOCATION:AADC Campaign Headquarters\, 161 Palm Avenue - Suite 9\, AUBURN\, CA\, 95603\, United States
END:VEVENT
BEGIN:VEVENT
DTSTART;TZID=America/Los_Angeles:20251204T173000
DTEND;TZID=America/Los_Angeles:20251204T200000
DTSTAMP:20260425T064952
CREATED:20250514T185942Z
LAST-MODIFIED:20251127T025511Z
UID:5231-1764869400-1764878400@auburnareademocrats.com
SUMMARY:Monthly Members Meeting and Holiday Potluck - Click Here to Sign-up
DESCRIPTION:Let’s celebrate the season and AADC’s accomplishments for the year! Our December 4th General Membership meeting will feature our Annual Potluck. \nIf you are planning on coming please sign up asap to bring something! Everyone is welcome!\n\n\n\n\n\n\n\n\n\n\nBring a dish to share on 12/4/25: sign up by clicking here\n\n\n\n\n\n\n\n\nOur monthly meetings are held in the Rose Room at Auburn City Hall\, 1225 Lincoln Way\, Auburn.\nSee Rose Room address\, map\, parking information and directions here.\nSocial time starts at 5:30 pm\, with pizza and soft drinks available for $5.00 per person.\nThe meeting begins promptly at 6:30 pm\, starting with club business followed by our Speaker Series. Meetings end at 8:00 pm.\nBring a friend!\nTopic: Vote on Executive Board Members\nPARKING WILL FILL-UP QUICKLY. PLEASE CONSIDER CARPOOLING.
URL:https://auburnareademocrats.com/event/monthly-members-meeting-12/
LOCATION:Auburn City Hall Rose Room\, 1225 Lincoln Way\, Auburn\, CA 95603\, CA\, 95603\, United States
END:VEVENT
BEGIN:VEVENT
DTSTART;TZID=America/Los_Angeles:20251203T100000
DTEND;TZID=America/Los_Angeles:20251203T123000
DTSTAMP:20260425T064952
CREATED:20250926T010255Z
LAST-MODIFIED:20250926T010255Z
UID:5612-1764756000-1764765000@auburnareademocrats.com
SUMMARY:Voter Registration at Sierra College
DESCRIPTION:Join us as we register new voters at Sierra College!\nWe register voters\, alternating weekly between Wednesday and the Tuesday registration teams. We are on campus from 10:00 a.m. to 12:30 p.m. \nIf you are interested in registering young voters\, providing voting information\,  and just talking politics in a friendly\, nonconfrontational\, and upbeat way we would love to have you join us. \nPlease click HERE to register. \nAnd\, please click HERE for more information on our Voter Outreach program \n 
URL:https://auburnareademocrats.com/event/voter-registration-at-sierra-college-36/
LOCATION:Sierra College\, 5100 Sierra College Blvd.\, Rocklin\, 95677
END:VEVENT
BEGIN:VEVENT
DTSTART;TZID=America/Los_Angeles:20251202T100000
DTEND;TZID=America/Los_Angeles:20251202T123000
DTSTAMP:20260425T064952
CREATED:20250926T010052Z
LAST-MODIFIED:20250926T010052Z
UID:5610-1764669600-1764678600@auburnareademocrats.com
SUMMARY:Voter Registration at Sierra College
DESCRIPTION:Join us as we register new voters at Sierra College!\nWe register voters\, alternating weekly between Wednesday and the Tuesday registration teams. We are on campus from 10:00 a.m. to 12:30 p.m. \nIf you are interested in registering young voters\, providing voting information\,  and just talking politics in a friendly\, nonconfrontational\, and upbeat way we would love to have you join us. \nPlease click HERE to register. \nAnd\, please click HERE for more information on our Voter Outreach program \n 
URL:https://auburnareademocrats.com/event/voter-registration-at-sierra-college-35/
LOCATION:Sierra College\, 5100 Sierra College Blvd.\, Rocklin\, 95677
END:VEVENT
BEGIN:VEVENT
DTSTART;TZID=America/Los_Angeles:20251128T120000
DTEND;TZID=America/Los_Angeles:20251128T130000
DTSTAMP:20260425T064952
CREATED:20250510T005356Z
LAST-MODIFIED:20250510T005356Z
UID:5182-1764331200-1764334800@auburnareademocrats.com
SUMMARY:Fridays for Future
DESCRIPTION:Join us as we bring awareness to the climate crisis.\nWe protest every Friday\, rain or shine\, in front of Auburn City Hall. \nPlease click HERE for more information.
URL:https://auburnareademocrats.com/event/fridays-for-future-47/
LOCATION:Auburn City Hall – Lincoln Way\, 1225 Lincoln Way\, Auburn\, CA 95603\, CA\, 95603\, United States
END:VEVENT
BEGIN:VEVENT
DTSTART;TZID=America/Los_Angeles:20251128T100000
DTEND;TZID=America/Los_Angeles:20251128T130000
DTSTAMP:20260425T064952
CREATED:20250510T010151Z
LAST-MODIFIED:20251120T142154Z
UID:5208-1764324000-1764334800@auburnareademocrats.com
SUMMARY:HOLIDAY CANCELLATION Coffee & Conversation
DESCRIPTION:  \n\n  \nEvery Friday from 10am-1pm at the AADC HQ. \nBring an article or podcast to share\, or just bring yourself! \nFeel free to drop-in\, but if you’d like to RSVP\, please click HERE.
URL:https://auburnareademocrats.com/event/coffee-conversation-46/
LOCATION:AADC Campaign Headquarters\, 161 Palm Avenue - Suite 9\, AUBURN\, CA\, 95603\, United States
END:VEVENT
BEGIN:VEVENT
DTSTART;TZID=America/Los_Angeles:20251125T143000
DTEND;TZID=America/Los_Angeles:20251125T153000
DTSTAMP:20260425T064952
CREATED:20250510T003451Z
LAST-MODIFIED:20250510T003451Z
UID:5136-1764081000-1764084600@auburnareademocrats.com
SUMMARY:AADC Communications Committee Meeting
DESCRIPTION:
URL:https://auburnareademocrats.com/event/aadc-communications-committee-meeting-10/
LOCATION:AADC Campaign Headquarters\, 161 Palm Avenue - Suite 9\, AUBURN\, CA\, 95603\, United States
END:VEVENT
BEGIN:VEVENT
DTSTART;TZID=America/Los_Angeles:20251121T120000
DTEND;TZID=America/Los_Angeles:20251121T130000
DTSTAMP:20260425T064952
CREATED:20250510T005337Z
LAST-MODIFIED:20250510T005337Z
UID:5160-1763726400-1763730000@auburnareademocrats.com
SUMMARY:Fridays for Future
DESCRIPTION:Join us as we bring awareness to the climate crisis.\nWe protest every Friday\, rain or shine\, in front of Auburn City Hall. \nPlease click HERE for more information.
URL:https://auburnareademocrats.com/event/fridays-for-future-46/
LOCATION:Auburn City Hall – Lincoln Way\, 1225 Lincoln Way\, Auburn\, CA 95603\, CA\, 95603\, United States
END:VEVENT
BEGIN:VEVENT
DTSTART;TZID=America/Los_Angeles:20251121T100000
DTEND;TZID=America/Los_Angeles:20251121T130000
DTSTAMP:20260425T064952
CREATED:20250510T010126Z
LAST-MODIFIED:20250510T010126Z
UID:5206-1763719200-1763730000@auburnareademocrats.com
SUMMARY:Coffee & Conversation
DESCRIPTION:  \nEvery Friday from 10am-1pm at the AADC HQ. \nBring an article or podcast to share\, or just bring yourself! \nFeel free to drop-in\, but if you’d like to RSVP\, please click HERE.
URL:https://auburnareademocrats.com/event/coffee-conversation-45/
LOCATION:AADC Campaign Headquarters\, 161 Palm Avenue - Suite 9\, AUBURN\, CA\, 95603\, United States
END:VEVENT
BEGIN:VEVENT
DTSTART;TZID=America/Los_Angeles:20251119T100000
DTEND;TZID=America/Los_Angeles:20251119T123000
DTSTAMP:20260425T064952
CREATED:20250926T005935Z
LAST-MODIFIED:20250926T005935Z
UID:5608-1763546400-1763555400@auburnareademocrats.com
SUMMARY:Voter Registration at Sierra College
DESCRIPTION:Join us as we register new voters at Sierra College!\nWe register voters\, alternating weekly between Wednesday and the Tuesday registration teams. We are on campus from 10:00 a.m. to 12:30 p.m. \nIf you are interested in registering young voters\, providing voting information\,  and just talking politics in a friendly\, nonconfrontational\, and upbeat way we would love to have you join us. \nPlease click HERE to register. \nAnd\, please click HERE for more information on our Voter Outreach program \n 
URL:https://auburnareademocrats.com/event/voter-registration-at-sierra-college-34/
LOCATION:Sierra College\, 5100 Sierra College Blvd.\, Rocklin\, 95677
END:VEVENT
BEGIN:VEVENT
DTSTART;TZID=America/Los_Angeles:20251118T100000
DTEND;TZID=America/Los_Angeles:20251118T123000
DTSTAMP:20260425T064952
CREATED:20250926T005808Z
LAST-MODIFIED:20250926T005808Z
UID:5606-1763460000-1763469000@auburnareademocrats.com
SUMMARY:Voter Registration at Sierra College
DESCRIPTION:Join us as we register new voters at Sierra College!\nWe register voters\, alternating weekly between Wednesday and the Tuesday registration teams. We are on campus from 10:00 a.m. to 12:30 p.m. \nIf you are interested in registering young voters\, providing voting information\,  and just talking politics in a friendly\, nonconfrontational\, and upbeat way we would love to have you join us. \nPlease click HERE to register. \nAnd\, please click HERE for more information on our Voter Outreach program \n 
URL:https://auburnareademocrats.com/event/voter-registration-at-sierra-college-33/
LOCATION:Sierra College\, 5100 Sierra College Blvd.\, Rocklin\, 95677
END:VEVENT
BEGIN:VEVENT
DTSTART;TZID=America/Los_Angeles:20251114T120000
DTEND;TZID=America/Los_Angeles:20251114T130000
DTSTAMP:20260425T064952
CREATED:20250510T005306Z
LAST-MODIFIED:20250510T005306Z
UID:5161-1763121600-1763125200@auburnareademocrats.com
SUMMARY:Fridays for Future
DESCRIPTION:Join us as we bring awareness to the climate crisis.\nWe protest every Friday\, rain or shine\, in front of Auburn City Hall. \nPlease click HERE for more information.
URL:https://auburnareademocrats.com/event/fridays-for-future-45/
LOCATION:Auburn City Hall – Lincoln Way\, 1225 Lincoln Way\, Auburn\, CA 95603\, CA\, 95603\, United States
END:VEVENT
BEGIN:VEVENT
DTSTART;TZID=America/Los_Angeles:20251114T100000
DTEND;TZID=America/Los_Angeles:20251114T130000
DTSTAMP:20260425T064952
CREATED:20250510T010105Z
LAST-MODIFIED:20250510T010105Z
UID:5204-1763114400-1763125200@auburnareademocrats.com
SUMMARY:Coffee & Conversation
DESCRIPTION:  \nEvery Friday from 10am-1pm at the AADC HQ. \nBring an article or podcast to share\, or just bring yourself! \nFeel free to drop-in\, but if you’d like to RSVP\, please click HERE.
URL:https://auburnareademocrats.com/event/coffee-conversation-44/
LOCATION:AADC Campaign Headquarters\, 161 Palm Avenue - Suite 9\, AUBURN\, CA\, 95603\, United States
END:VEVENT
BEGIN:VEVENT
DTSTART;TZID=America/Los_Angeles:20251112T183000
DTEND;TZID=America/Los_Angeles:20251112T200000
DTSTAMP:20260425T064952
CREATED:20250510T004226Z
LAST-MODIFIED:20250510T004331Z
UID:5154-1762972200-1762977600@auburnareademocrats.com
SUMMARY:Placer County Democratic Central Committee (PCDCC) Monthly Meeting
DESCRIPTION:From the organizer: \nThe PCDP meets on the second Wednesday of every month at 6:30pm via Zoom. Contact us to request a Zoom link to join a meeting at: communications@placercountydemocrats.org
URL:https://auburnareademocrats.com/event/placer-county-democratic-central-committee-pcdcc-monthly-meeting-9/
LOCATION:Via ZOOM
END:VEVENT
BEGIN:VEVENT
DTSTART;TZID=America/Los_Angeles:20251112T100000
DTEND;TZID=America/Los_Angeles:20251112T123000
DTSTAMP:20260425T064952
CREATED:20250926T005633Z
LAST-MODIFIED:20250926T005633Z
UID:5604-1762941600-1762950600@auburnareademocrats.com
SUMMARY:Voter Registration at Sierra College
DESCRIPTION:Join us as we register new voters at Sierra College!\nWe register voters\, alternating weekly between Wednesday and the Tuesday registration teams. We are on campus from 10:00 a.m. to 12:30 p.m. \nIf you are interested in registering young voters\, providing voting information\,  and just talking politics in a friendly\, nonconfrontational\, and upbeat way we would love to have you join us. \nPlease click HERE to register. \nAnd\, please click HERE for more information on our Voter Outreach program \n 
URL:https://auburnareademocrats.com/event/voter-registration-at-sierra-college-32/
LOCATION:Sierra College\, 5100 Sierra College Blvd.\, Rocklin\, 95677
END:VEVENT
BEGIN:VEVENT
DTSTART;TZID=America/Los_Angeles:20251110T180000
DTEND;TZID=America/Los_Angeles:20251110T200000
DTSTAMP:20260425T064952
CREATED:20250510T003044Z
LAST-MODIFIED:20250713T200817Z
UID:5126-1762797600-1762804800@auburnareademocrats.com
SUMMARY:E-Board Meeting
DESCRIPTION:The AADC E-Board Meeting is normally held on the second Monday of the month. \nIf you would like to be added to the agenda or would like to attend\, please email info@auburnareademocrats.com. \n(Our offices are on the second floor. Park in the back and enter via the back door for direct access.)
URL:https://auburnareademocrats.com/event/e-board-meeting-12/
LOCATION:AADC Campaign Headquarters\, 161 Palm Avenue - Suite 9\, AUBURN\, CA\, 95603\, United States
END:VEVENT
BEGIN:VEVENT
DTSTART;TZID=America/Los_Angeles:20251107T120000
DTEND;TZID=America/Los_Angeles:20251107T130000
DTSTAMP:20260425T064952
CREATED:20250510T005231Z
LAST-MODIFIED:20250510T005231Z
UID:5162-1762516800-1762520400@auburnareademocrats.com
SUMMARY:Fridays for Future
DESCRIPTION:Join us as we bring awareness to the climate crisis.\nWe protest every Friday\, rain or shine\, in front of Auburn City Hall. \nPlease click HERE for more information.
URL:https://auburnareademocrats.com/event/fridays-for-future-44/
LOCATION:Auburn City Hall – Lincoln Way\, 1225 Lincoln Way\, Auburn\, CA 95603\, CA\, 95603\, United States
END:VEVENT
BEGIN:VEVENT
DTSTART;TZID=America/Los_Angeles:20251107T100000
DTEND;TZID=America/Los_Angeles:20251107T130000
DTSTAMP:20260425T064952
CREATED:20250510T010043Z
LAST-MODIFIED:20250510T010043Z
UID:5202-1762509600-1762520400@auburnareademocrats.com
SUMMARY:Coffee & Conversation
DESCRIPTION:  \nEvery Friday from 10am-1pm at the AADC HQ. \nBring an article or podcast to share\, or just bring yourself! \nFeel free to drop-in\, but if you’d like to RSVP\, please click HERE.
URL:https://auburnareademocrats.com/event/coffee-conversation-43/
LOCATION:AADC Campaign Headquarters\, 161 Palm Avenue - Suite 9\, AUBURN\, CA\, 95603\, United States
END:VEVENT
BEGIN:VEVENT
DTSTART;TZID=America/Los_Angeles:20251106T173000
DTEND;TZID=America/Los_Angeles:20251106T200000
DTSTAMP:20260425T064952
CREATED:20250510T002741Z
LAST-MODIFIED:20250514T185836Z
UID:5114-1762450200-1762459200@auburnareademocrats.com
SUMMARY:Monthly Members Meeting
DESCRIPTION:Our monthly meetings are held in the Rose Room at Auburn City Hall\, 1225 Lincoln Way\, Auburn.\nSee Rose Room address\, map\, parking information and directions here.\nSocial time starts at 5:30 pm\, with pizza and soft drinks available for $5.00 per person.\nThe meeting begins promptly at 6:30 pm\, starting with club business followed by our Speaker Series. Meetings end at 8:00 pm.\nBring a friend!\nTopic: Executive Board Nominee Presentations\nPARKING WILL FILL-UP QUICKLY. PLEASE CONSIDER CARPOOLING.
URL:https://auburnareademocrats.com/event/monthly-members-meeting-11/
LOCATION:Auburn City Hall Rose Room\, 1225 Lincoln Way\, Auburn\, CA 95603\, CA\, 95603\, United States
END:VEVENT
BEGIN:VEVENT
DTSTART;TZID=America/Los_Angeles:20251105T100000
DTEND;TZID=America/Los_Angeles:20251105T123000
DTSTAMP:20260425T064952
CREATED:20250926T005511Z
LAST-MODIFIED:20250926T005511Z
UID:5602-1762336800-1762345800@auburnareademocrats.com
SUMMARY:Voter Registration at Sierra College
DESCRIPTION:Join us as we register new voters at Sierra College!\nWe register voters\, alternating weekly between Wednesday and the Tuesday registration teams. We are on campus from 10:00 a.m. to 12:30 p.m. \nIf you are interested in registering young voters\, providing voting information\,  and just talking politics in a friendly\, nonconfrontational\, and upbeat way we would love to have you join us. \nPlease click HERE to register. \nAnd\, please click HERE for more information on our Voter Outreach program \n 
URL:https://auburnareademocrats.com/event/voter-registration-at-sierra-college-31/
LOCATION:Sierra College\, 5100 Sierra College Blvd.\, Rocklin\, 95677
END:VEVENT
BEGIN:VEVENT
DTSTART;TZID=America/Los_Angeles:20251104T100000
DTEND;TZID=America/Los_Angeles:20251104T123000
DTSTAMP:20260425T064952
CREATED:20250926T005322Z
LAST-MODIFIED:20250926T005322Z
UID:5599-1762250400-1762259400@auburnareademocrats.com
SUMMARY:Voter Registration at Sierra College
DESCRIPTION:Join us as we register new voters at Sierra College!\nWe register voters\, alternating weekly between Wednesday and the Tuesday registration teams. We are on campus from 10:00 a.m. to 12:30 p.m. \nIf you are interested in registering young voters\, providing voting information\,  and just talking politics in a friendly\, nonconfrontational\, and upbeat way we would love to have you join us. \nPlease click HERE to register. \nAnd\, please click HERE for more information on our Voter Outreach program \n 
URL:https://auburnareademocrats.com/event/voter-registration-at-sierra-college-30/
LOCATION:Sierra College\, 5100 Sierra College Blvd.\, Rocklin\, 95677
END:VEVENT
BEGIN:VEVENT
DTSTART;VALUE=DATE:20251101
DTEND;VALUE=DATE:20251103
DTSTAMP:20260425T064952
CREATED:20250922T031508Z
LAST-MODIFIED:20250922T031508Z
UID:5566-1761955200-1762127999@auburnareademocrats.com
SUMMARY:Sign-up to Canvass for Prop 50 in Auburn
DESCRIPTION:Available Times\, 9:00am-12:00pm or 1:00pm-3:00pm \nSIGN UP HERE \n 
URL:https://auburnareademocrats.com/event/sign-up-to-canvass-for-prop-50-in-auburn-7/
LOCATION:CA
END:VEVENT
BEGIN:VEVENT
DTSTART;TZID=America/Los_Angeles:20251031T120000
DTEND;TZID=America/Los_Angeles:20251031T130000
DTSTAMP:20260425T064952
CREATED:20250510T005212Z
LAST-MODIFIED:20250510T005212Z
UID:5163-1761912000-1761915600@auburnareademocrats.com
SUMMARY:Fridays for Future
DESCRIPTION:Join us as we bring awareness to the climate crisis.\nWe protest every Friday\, rain or shine\, in front of Auburn City Hall. \nPlease click HERE for more information.
URL:https://auburnareademocrats.com/event/fridays-for-future-43/
LOCATION:Auburn City Hall – Lincoln Way\, 1225 Lincoln Way\, Auburn\, CA 95603\, CA\, 95603\, United States
END:VEVENT
BEGIN:VEVENT
DTSTART;TZID=America/Los_Angeles:20251031T100000
DTEND;TZID=America/Los_Angeles:20251031T130000
DTSTAMP:20260425T064952
CREATED:20250510T010008Z
LAST-MODIFIED:20250510T010008Z
UID:5200-1761904800-1761915600@auburnareademocrats.com
SUMMARY:Coffee & Conversation
DESCRIPTION:  \nEvery Friday from 10am-1pm at the AADC HQ. \nBring an article or podcast to share\, or just bring yourself! \nFeel free to drop-in\, but if you’d like to RSVP\, please click HERE.
URL:https://auburnareademocrats.com/event/coffee-conversation-42/
LOCATION:AADC Campaign Headquarters\, 161 Palm Avenue - Suite 9\, AUBURN\, CA\, 95603\, United States
END:VEVENT
BEGIN:VEVENT
DTSTART;TZID=America/Los_Angeles:20251029T100000
DTEND;TZID=America/Los_Angeles:20251029T123000
DTSTAMP:20260425T064952
CREATED:20250926T005202Z
LAST-MODIFIED:20250926T005202Z
UID:5598-1761732000-1761741000@auburnareademocrats.com
SUMMARY:Voter Registration at Sierra College
DESCRIPTION:Join us as we register new voters at Sierra College!\nWe register voters\, alternating weekly between Wednesday and the Tuesday registration teams. We are on campus from 10:00 a.m. to 12:30 p.m. \nIf you are interested in registering young voters\, providing voting information\,  and just talking politics in a friendly\, nonconfrontational\, and upbeat way we would love to have you join us. \nPlease click HERE to register. \nAnd\, please click HERE for more information on our Voter Outreach program \n 
URL:https://auburnareademocrats.com/event/voter-registration-at-sierra-college-29/
LOCATION:Sierra College\, 5100 Sierra College Blvd.\, Rocklin\, 95677
END:VEVENT
END:VCALENDAR