BEGIN:VCALENDAR
VERSION:2.0
PRODID:-//Auburn Area Democratic Club - ECPv6.15.20//NONSGML v1.0//EN
CALSCALE:GREGORIAN
METHOD:PUBLISH
X-WR-CALNAME:Auburn Area Democratic Club
X-ORIGINAL-URL:https://auburnareademocrats.com
X-WR-CALDESC:Events for Auburn Area Democratic Club
REFRESH-INTERVAL;VALUE=DURATION:PT1H
X-Robots-Tag:noindex
X-PUBLISHED-TTL:PT1H
BEGIN:VTIMEZONE
TZID:America/Los_Angeles
BEGIN:DAYLIGHT
TZOFFSETFROM:-0800
TZOFFSETTO:-0700
TZNAME:PDT
DTSTART:20240310T100000
END:DAYLIGHT
BEGIN:STANDARD
TZOFFSETFROM:-0700
TZOFFSETTO:-0800
TZNAME:PST
DTSTART:20241103T090000
END:STANDARD
BEGIN:DAYLIGHT
TZOFFSETFROM:-0800
TZOFFSETTO:-0700
TZNAME:PDT
DTSTART:20250309T100000
END:DAYLIGHT
BEGIN:STANDARD
TZOFFSETFROM:-0700
TZOFFSETTO:-0800
TZNAME:PST
DTSTART:20251102T090000
END:STANDARD
BEGIN:DAYLIGHT
TZOFFSETFROM:-0800
TZOFFSETTO:-0700
TZNAME:PDT
DTSTART:20260308T100000
END:DAYLIGHT
BEGIN:STANDARD
TZOFFSETFROM:-0700
TZOFFSETTO:-0800
TZNAME:PST
DTSTART:20261101T090000
END:STANDARD
END:VTIMEZONE
BEGIN:VEVENT
DTSTART;TZID=America/Los_Angeles:20250811T180000
DTEND;TZID=America/Los_Angeles:20250811T200000
DTSTAMP:20260425T045031
CREATED:20250510T002923Z
LAST-MODIFIED:20250713T200637Z
UID:5120-1754935200-1754942400@auburnareademocrats.com
SUMMARY:E-Board Meeting
DESCRIPTION:The AADC E-Board Meeting is normally held on the second Monday of the month. \nIf you would like to be added to the agenda or would like to attend\, please email info@auburnareademocrats.com. \n(Our offices are on the second floor. Park in the back and enter via the back door for direct access.)
URL:https://auburnareademocrats.com/event/e-board-meeting-9/
LOCATION:AADC Campaign Headquarters\, 161 Palm Avenue - Suite 9\, AUBURN\, CA\, 95603\, United States
END:VEVENT
BEGIN:VEVENT
DTSTART;TZID=America/Los_Angeles:20250808T130000
DTEND;TZID=America/Los_Angeles:20250808T140000
DTSTAMP:20260425T045031
CREATED:20250528T191714Z
LAST-MODIFIED:20250728T213512Z
UID:5273-1754658000-1754661600@auburnareademocrats.com
SUMMARY:AADC Community Events Committee Meeting - CANCELLED
DESCRIPTION:
URL:https://auburnareademocrats.com/event/aadc-community-events-committee-meeting-8/
LOCATION:AADC Campaign Headquarters\, 161 Palm Avenue - Suite 9\, AUBURN\, CA\, 95603\, United States
END:VEVENT
BEGIN:VEVENT
DTSTART;TZID=America/Los_Angeles:20250808T120000
DTEND;TZID=America/Los_Angeles:20250808T130000
DTSTAMP:20260425T045031
CREATED:20250510T001440Z
LAST-MODIFIED:20250510T001440Z
UID:5066-1754654400-1754658000@auburnareademocrats.com
SUMMARY:Fridays for Future
DESCRIPTION:Join us as we bring awareness to the climate crisis.\nWe protest every Friday\, rain or shine\, in front of Auburn City Hall. \nPlease click HERE for more information.
URL:https://auburnareademocrats.com/event/fridays-for-future-31/
LOCATION:Auburn City Hall – Lincoln Way\, 1225 Lincoln Way\, Auburn\, CA 95603\, CA\, 95603\, United States
END:VEVENT
BEGIN:VEVENT
DTSTART;TZID=America/Los_Angeles:20250808T100000
DTEND;TZID=America/Los_Angeles:20250808T130000
DTSTAMP:20260425T045031
CREATED:20250510T002228Z
LAST-MODIFIED:20250510T002228Z
UID:5096-1754647200-1754658000@auburnareademocrats.com
SUMMARY:Coffee & Conversation
DESCRIPTION:  \nEvery Friday from 10am-1pm at the AADC HQ. \nBring an article or podcast to share\, or just bring yourself! \nFeel free to drop-in\, but if you’d like to RSVP\, please click HERE.
URL:https://auburnareademocrats.com/event/coffee-conversation-30/
LOCATION:AADC Campaign Headquarters\, 161 Palm Avenue - Suite 9\, AUBURN\, CA\, 95603\, United States
END:VEVENT
BEGIN:VEVENT
DTSTART;TZID=America/Los_Angeles:20250807T173000
DTEND;TZID=America/Los_Angeles:20250807T200000
DTSTAMP:20260425T045031
CREATED:20250510T002641Z
LAST-MODIFIED:20250510T002641Z
UID:5108-1754587800-1754596800@auburnareademocrats.com
SUMMARY:Monthly Members Meeting
DESCRIPTION:Our monthly meetings are held in the Rose Room at Auburn City Hall\, 1225 Lincoln Way\, Auburn.\nSee Rose Room address\, map\, parking information and directions here.\nSocial time starts at 5:30 pm\, with pizza and soft drinks available for $5.00 per person.\nThe meeting begins promptly at 6:30 pm\, starting with club business followed by our Speaker Series. Meetings end at 8:00 pm.\nBring a friend!\nPARKING WILL FILL-UP QUICKLY. PLEASE CONSIDER CARPOOLING.
URL:https://auburnareademocrats.com/event/monthly-members-meeting-8/
LOCATION:Auburn City Hall Rose Room\, 1225 Lincoln Way\, Auburn\, CA 95603\, CA\, 95603\, United States
END:VEVENT
BEGIN:VEVENT
DTSTART;TZID=America/Los_Angeles:20250805T130000
DTEND;TZID=America/Los_Angeles:20250805T140000
DTSTAMP:20260425T045031
CREATED:20250510T001108Z
LAST-MODIFIED:20250725T161516Z
UID:5054-1754398800-1754402400@auburnareademocrats.com
SUMMARY:AADC: Fundraising Committee Meeting-CANCELLED
DESCRIPTION:
URL:https://auburnareademocrats.com/event/aadc-fundraising-committee-meeting-6/
LOCATION:AADC Campaign Headquarters\, 161 Palm Avenue - Suite 9\, AUBURN\, CA\, 95603\, United States
END:VEVENT
BEGIN:VEVENT
DTSTART;TZID=America/Los_Angeles:20250801T120000
DTEND;TZID=America/Los_Angeles:20250801T130000
DTSTAMP:20260425T045031
CREATED:20250510T001318Z
LAST-MODIFIED:20250510T001318Z
UID:5064-1754049600-1754053200@auburnareademocrats.com
SUMMARY:Fridays for Future
DESCRIPTION:Join us as we bring awareness to the climate crisis.\nWe protest every Friday\, rain or shine\, in front of Auburn City Hall. \nPlease click HERE for more information.
URL:https://auburnareademocrats.com/event/fridays-for-future-30/
LOCATION:Auburn City Hall – Lincoln Way\, 1225 Lincoln Way\, Auburn\, CA 95603\, CA\, 95603\, United States
END:VEVENT
BEGIN:VEVENT
DTSTART;TZID=America/Los_Angeles:20250801T100000
DTEND;TZID=America/Los_Angeles:20250801T130000
DTSTAMP:20260425T045031
CREATED:20250510T002211Z
LAST-MODIFIED:20250510T002211Z
UID:5094-1754042400-1754053200@auburnareademocrats.com
SUMMARY:Coffee & Conversation
DESCRIPTION:  \nEvery Friday from 10am-1pm at the AADC HQ. \nBring an article or podcast to share\, or just bring yourself! \nFeel free to drop-in\, but if you’d like to RSVP\, please click HERE.
URL:https://auburnareademocrats.com/event/coffee-conversation-29/
LOCATION:AADC Campaign Headquarters\, 161 Palm Avenue - Suite 9\, AUBURN\, CA\, 95603\, United States
END:VEVENT
BEGIN:VEVENT
DTSTART;TZID=America/Los_Angeles:20250725T130000
DTEND;TZID=America/Los_Angeles:20250725T140000
DTSTAMP:20260425T045031
CREATED:20250528T191649Z
LAST-MODIFIED:20250528T191649Z
UID:5265-1753448400-1753452000@auburnareademocrats.com
SUMMARY:AADC Community Events Committee Meeting
DESCRIPTION:
URL:https://auburnareademocrats.com/event/aadc-community-events-committee-meeting-7/
LOCATION:AADC Campaign Headquarters\, 161 Palm Avenue - Suite 9\, AUBURN\, CA\, 95603\, United States
END:VEVENT
BEGIN:VEVENT
DTSTART;TZID=America/Los_Angeles:20250725T120000
DTEND;TZID=America/Los_Angeles:20250725T130000
DTSTAMP:20260425T045031
CREATED:20250510T001248Z
LAST-MODIFIED:20250510T001248Z
UID:5062-1753444800-1753448400@auburnareademocrats.com
SUMMARY:Fridays for Future
DESCRIPTION:Join us as we bring awareness to the climate crisis.\nWe protest every Friday\, rain or shine\, in front of Auburn City Hall. \nPlease click HERE for more information.
URL:https://auburnareademocrats.com/event/fridays-for-future-29/
LOCATION:Auburn City Hall – Lincoln Way\, 1225 Lincoln Way\, Auburn\, CA 95603\, CA\, 95603\, United States
END:VEVENT
BEGIN:VEVENT
DTSTART;TZID=America/Los_Angeles:20250725T100000
DTEND;TZID=America/Los_Angeles:20250725T130000
DTSTAMP:20260425T045031
CREATED:20250510T002028Z
LAST-MODIFIED:20250510T002028Z
UID:5078-1753437600-1753448400@auburnareademocrats.com
SUMMARY:Coffee & Conversation
DESCRIPTION:  \nEvery Friday from 10am-1pm at the AADC HQ. \nBring an article or podcast to share\, or just bring yourself! \nFeel free to drop-in\, but if you’d like to RSVP\, please click HERE.
URL:https://auburnareademocrats.com/event/coffee-conversation-28/
LOCATION:AADC Campaign Headquarters\, 161 Palm Avenue - Suite 9\, AUBURN\, CA\, 95603\, United States
END:VEVENT
BEGIN:VEVENT
DTSTART;TZID=America/Los_Angeles:20250722T143000
DTEND;TZID=America/Los_Angeles:20250722T153000
DTSTAMP:20260425T045031
CREATED:20250510T003254Z
LAST-MODIFIED:20250510T003254Z
UID:5128-1753194600-1753198200@auburnareademocrats.com
SUMMARY:AADC Communications Committee Meeting
DESCRIPTION:
URL:https://auburnareademocrats.com/event/aadc-communications-committee-meeting-6/
LOCATION:AADC Campaign Headquarters\, 161 Palm Avenue - Suite 9\, AUBURN\, CA\, 95603\, United States
END:VEVENT
BEGIN:VEVENT
DTSTART;TZID=America/Los_Angeles:20250718T120000
DTEND;TZID=America/Los_Angeles:20250718T130000
DTSTAMP:20260425T045031
CREATED:20250510T001227Z
LAST-MODIFIED:20250510T001227Z
UID:5060-1752840000-1752843600@auburnareademocrats.com
SUMMARY:Fridays for Future
DESCRIPTION:Join us as we bring awareness to the climate crisis.\nWe protest every Friday\, rain or shine\, in front of Auburn City Hall. \nPlease click HERE for more information.
URL:https://auburnareademocrats.com/event/fridays-for-future-28/
LOCATION:Auburn City Hall – Lincoln Way\, 1225 Lincoln Way\, Auburn\, CA 95603\, CA\, 95603\, United States
END:VEVENT
BEGIN:VEVENT
DTSTART;TZID=America/Los_Angeles:20250718T100000
DTEND;TZID=America/Los_Angeles:20250718T130000
DTSTAMP:20260425T045031
CREATED:20250510T001903Z
LAST-MODIFIED:20250510T001903Z
UID:5076-1752832800-1752843600@auburnareademocrats.com
SUMMARY:Coffee & Conversation
DESCRIPTION:  \nEvery Friday from 10am-1pm at the AADC HQ. \nBring an article or podcast to share\, or just bring yourself! \nFeel free to drop-in\, but if you’d like to RSVP\, please click HERE.
URL:https://auburnareademocrats.com/event/coffee-conversation-27/
LOCATION:AADC Campaign Headquarters\, 161 Palm Avenue - Suite 9\, AUBURN\, CA\, 95603\, United States
END:VEVENT
BEGIN:VEVENT
DTSTART;TZID=America/Los_Angeles:20250715T173000
DTEND;TZID=America/Los_Angeles:20250715T183000
DTSTAMP:20260425T045031
CREATED:20250613T030323Z
LAST-MODIFIED:20250715T220331Z
UID:5333-1752600600-1752604200@auburnareademocrats.com
SUMMARY:CANCELLED - AADC Membership Committee Meeting - CANCELLED
DESCRIPTION:Meeting the 3rd Tuesday of each month / 5:30-6:30PM – This meeting / July 15\, 2025 / has been cancelled
URL:https://auburnareademocrats.com/event/aadc-membership-meeting/
LOCATION:AADC Campaign Headquarters\, 161 Palm Avenue - Suite 9\, AUBURN\, CA\, 95603\, United States
END:VEVENT
BEGIN:VEVENT
DTSTART;TZID=America/Los_Angeles:20250714T180000
DTEND;TZID=America/Los_Angeles:20250714T200000
DTSTAMP:20260425T045031
CREATED:20250510T002858Z
LAST-MODIFIED:20250713T200603Z
UID:5118-1752516000-1752523200@auburnareademocrats.com
SUMMARY:E-Board Meeting
DESCRIPTION:The AADC E-Board Meeting is normally held on the second Monday of the month. \nIf you would like to be added to the agenda or would like to attend\, please email info@auburnareademocrats.com. \n(Our offices are on the second floor. Park in the back and enter via the back door for direct access.)
URL:https://auburnareademocrats.com/event/e-board-meeting-8/
LOCATION:AADC Campaign Headquarters\, 161 Palm Avenue - Suite 9\, AUBURN\, CA\, 95603\, United States
END:VEVENT
BEGIN:VEVENT
DTSTART;TZID=America/Los_Angeles:20250711T130000
DTEND;TZID=America/Los_Angeles:20250711T140000
DTSTAMP:20260425T045031
CREATED:20250711T080023Z
LAST-MODIFIED:20250528T191626Z
UID:5266-1752238800-1752242400@auburnareademocrats.com
SUMMARY:AADC Community Events Committee Meeting
DESCRIPTION:
URL:https://auburnareademocrats.com/event/aadc-community-events-committee-meeting-6/
LOCATION:AADC Campaign Headquarters\, 161 Palm Avenue - Suite 9\, AUBURN\, CA\, 95603\, United States
END:VEVENT
BEGIN:VEVENT
DTSTART;TZID=America/Los_Angeles:20250711T130000
DTEND;TZID=America/Los_Angeles:20250711T140000
DTSTAMP:20260425T045031
CREATED:20250528T192307Z
LAST-MODIFIED:20250528T192307Z
UID:5293-1752238800-1752242400@auburnareademocrats.com
SUMMARY:AADC Community Events Committee Meeting
DESCRIPTION:
URL:https://auburnareademocrats.com/event/aadc-community-events-committee-meeting-16/
LOCATION:AADC Campaign Headquarters\, 161 Palm Avenue - Suite 9\, AUBURN\, CA\, 95603\, United States
END:VEVENT
BEGIN:VEVENT
DTSTART;TZID=America/Los_Angeles:20250711T120000
DTEND;TZID=America/Los_Angeles:20250711T130000
DTSTAMP:20260425T045031
CREATED:20250510T001206Z
LAST-MODIFIED:20250510T001206Z
UID:5058-1752235200-1752238800@auburnareademocrats.com
SUMMARY:Fridays for Future
DESCRIPTION:Join us as we bring awareness to the climate crisis.\nWe protest every Friday\, rain or shine\, in front of Auburn City Hall. \nPlease click HERE for more information.
URL:https://auburnareademocrats.com/event/fridays-for-future-27/
LOCATION:Auburn City Hall – Lincoln Way\, 1225 Lincoln Way\, Auburn\, CA 95603\, CA\, 95603\, United States
END:VEVENT
BEGIN:VEVENT
DTSTART;TZID=America/Los_Angeles:20250711T100000
DTEND;TZID=America/Los_Angeles:20250711T130000
DTSTAMP:20260425T045031
CREATED:20250510T001838Z
LAST-MODIFIED:20250510T001838Z
UID:5074-1752228000-1752238800@auburnareademocrats.com
SUMMARY:Coffee & Conversation
DESCRIPTION:  \nEvery Friday from 10am-1pm at the AADC HQ. \nBring an article or podcast to share\, or just bring yourself! \nFeel free to drop-in\, but if you’d like to RSVP\, please click HERE.
URL:https://auburnareademocrats.com/event/coffee-conversation-26/
LOCATION:AADC Campaign Headquarters\, 161 Palm Avenue - Suite 9\, AUBURN\, CA\, 95603\, United States
END:VEVENT
BEGIN:VEVENT
DTSTART;TZID=America/Los_Angeles:20250710T173000
DTEND;TZID=America/Los_Angeles:20250710T200000
DTSTAMP:20260425T045031
CREATED:20250510T002618Z
LAST-MODIFIED:20250629T032837Z
UID:5106-1752168600-1752177600@auburnareademocrats.com
SUMMARY:Monthly Members Meeting
DESCRIPTION:Our monthly meetings are held in the Rose Room at Auburn City Hall\, 1225 Lincoln Way\, Auburn.\nSee Rose Room address\, map\, parking information and directions here.\nSocial time starts at 5:30 pm\, with pizza and soft drinks available for $5.00 per person.\nThe meeting begins promptly at 6:30 pm\, starting with club business followed by our Speaker Series. Meetings end at 8:00 pm.\nBring a friend!\nTOPIC:\nJuly’s meeting is where creativity meets politics. And our speaker is YOU!\nIT’S HOT SUMMER RANTS\nWhether you belt a protest song\, drop a fiery poem\, spin a quick dance\, or deliver a mic‑sharp speech\, you’ve got three minutes to unleash what’s on your mind and electrify the crowd.\nPARKING WILL FILL-UP QUICKLY. PLEASE CONSIDER CARPOOLING.
URL:https://auburnareademocrats.com/event/monthly-members-meeting-7/
LOCATION:Auburn City Hall Rose Room\, 1225 Lincoln Way\, Auburn\, CA 95603\, CA\, 95603\, United States
END:VEVENT
BEGIN:VEVENT
DTSTART;TZID=America/Los_Angeles:20250709T183000
DTEND;TZID=America/Los_Angeles:20250709T200000
DTSTAMP:20260425T045031
CREATED:20250510T004055Z
LAST-MODIFIED:20250510T004055Z
UID:5148-1752085800-1752091200@auburnareademocrats.com
SUMMARY:Placer County Democratic Central Committee (PCDCC) Monthly Meeting
DESCRIPTION:From the organizer: \nThe PCDP meets on the second Wednesday of every month at 6:30pm via Zoom. Contact us to request a Zoom link to join a meeting at: communications@placercountydemocrats.org
URL:https://auburnareademocrats.com/event/placer-county-democratic-central-committee-pcdcc-monthly-meeting-6/
LOCATION:Via ZOOM
END:VEVENT
BEGIN:VEVENT
DTSTART;TZID=America/Los_Angeles:20250704T120000
DTEND;TZID=America/Los_Angeles:20250704T130000
DTSTAMP:20260425T045031
CREATED:20250510T001143Z
LAST-MODIFIED:20250510T001143Z
UID:5056-1751630400-1751634000@auburnareademocrats.com
SUMMARY:Fridays for Future
DESCRIPTION:Join us as we bring awareness to the climate crisis.\nWe protest every Friday\, rain or shine\, in front of Auburn City Hall. \nPlease click HERE for more information.
URL:https://auburnareademocrats.com/event/fridays-for-future-26/
LOCATION:Auburn City Hall – Lincoln Way\, 1225 Lincoln Way\, Auburn\, CA 95603\, CA\, 95603\, United States
END:VEVENT
BEGIN:VEVENT
DTSTART;TZID=America/Los_Angeles:20250701T130000
DTEND;TZID=America/Los_Angeles:20250701T140000
DTSTAMP:20260425T045031
CREATED:20250510T001041Z
LAST-MODIFIED:20250628T223151Z
UID:5052-1751374800-1751378400@auburnareademocrats.com
SUMMARY:AADC: Fundraising Committee Meeting - CANCELLED
DESCRIPTION:
URL:https://auburnareademocrats.com/event/aadc-fundraising-committee-meeting-5/
LOCATION:AADC Campaign Headquarters\, 161 Palm Avenue - Suite 9\, AUBURN\, CA\, 95603\, United States
END:VEVENT
BEGIN:VEVENT
DTSTART;TZID=America/Los_Angeles:20250629T160000
DTEND;TZID=America/Los_Angeles:20250629T183000
DTSTAMP:20260425T045031
CREATED:20250510T012639Z
LAST-MODIFIED:20250604T231328Z
UID:5221-1751212800-1751221800@auburnareademocrats.com
SUMMARY:AADC Picnic & BBQ
DESCRIPTION:AADC Summer Picnic\nAADC will host a Pre-Fourth of July Picnic and a Silent Auction fundraiser on Sunday\, June 29 at Recreation Park in Auburn\, 123 Recreation Drive. Bring your friends and family\, including children. Look for us at the covered picnic area!\nWe will have guest speakers\, lawn games\, burgers and dogs on the barbecue (including a veggie option)\, and camaraderie. The fun begins at 4:00 PM and goes to 6:30 PM.\nTicket sales will begin on June 1. Tickets are $25 for individuals aged 16 and over. A “Family Pass” for $40 provides entrance to 2 adults and any children under 16. No tickets will be available on the day of the event.\nme ready to bid on a variety of wonderful items at our Silent Auction! Funds from this event will help us to keep the Headquarters open and to prepare for Campaign Season 2026!\nCelebrate summer and support your political values with friends and family on Sunday\, June 29 from 4:30 – 6:30. We do the cooking\, and you get to play😊\nPlease note that we can have a maximum of 100 people at this party\, so please RSVP soon in order to guarantee a spot.\nhttps://secure.actblue.com/donate/aadcpicnic2025
URL:https://auburnareademocrats.com/event/aadc-picnic-bbq/
LOCATION:Recreation Park\, 123 Recreation Dr\, Auburn\, 95603
END:VEVENT
BEGIN:VEVENT
DTSTART;TZID=America/Los_Angeles:20250627T130000
DTEND;TZID=America/Los_Angeles:20250627T140000
DTSTAMP:20260425T045031
CREATED:20250627T080030Z
LAST-MODIFIED:20250528T191600Z
UID:5267-1751029200-1751032800@auburnareademocrats.com
SUMMARY:AADC Community Events Committee Meeting
DESCRIPTION:
URL:https://auburnareademocrats.com/event/aadc-community-events-committee-meeting-5/
LOCATION:AADC Campaign Headquarters\, 161 Palm Avenue - Suite 9\, AUBURN\, CA\, 95603\, United States
END:VEVENT
BEGIN:VEVENT
DTSTART;TZID=America/Los_Angeles:20250627T130000
DTEND;TZID=America/Los_Angeles:20250627T140000
DTSTAMP:20260425T045031
CREATED:20250528T192245Z
LAST-MODIFIED:20250528T192245Z
UID:5291-1751029200-1751032800@auburnareademocrats.com
SUMMARY:AADC Community Events Committee Meeting
DESCRIPTION:
URL:https://auburnareademocrats.com/event/aadc-community-events-committee-meeting-3/
LOCATION:AADC Campaign Headquarters\, 161 Palm Avenue - Suite 9\, AUBURN\, CA\, 95603\, United States
END:VEVENT
BEGIN:VEVENT
DTSTART;TZID=America/Los_Angeles:20250627T120000
DTEND;TZID=America/Los_Angeles:20250627T130000
DTSTAMP:20260425T045031
CREATED:20250328T192309Z
LAST-MODIFIED:20250328T192309Z
UID:4874-1751025600-1751029200@auburnareademocrats.com
SUMMARY:Fridays for Future
DESCRIPTION:Join us as we bring awareness to the climate crisis.\nWe protest every Friday\, rain or shine\, in front of Auburn City Hall. \nPlease click HERE for more information.
URL:https://auburnareademocrats.com/event/fridays-for-future-25/
LOCATION:Auburn City Hall – Lincoln Way\, 1225 Lincoln Way\, Auburn\, CA 95603\, CA\, 95603\, United States
END:VEVENT
BEGIN:VEVENT
DTSTART;TZID=America/Los_Angeles:20250627T100000
DTEND;TZID=America/Los_Angeles:20250627T130000
DTSTAMP:20260425T045031
CREATED:20250328T192115Z
LAST-MODIFIED:20250328T192115Z
UID:4865-1751018400-1751029200@auburnareademocrats.com
SUMMARY:Coffee & Conversation
DESCRIPTION:  \nEvery Friday from 10am-1pm at the AADC HQ. \nBring an article or podcast to share\, or just bring yourself! \nFeel free to drop-in\, but if you’d like to RSVP\, please click HERE.
URL:https://auburnareademocrats.com/event/coffee-conversation-25/
LOCATION:AADC Campaign Headquarters\, 161 Palm Avenue - Suite 9\, AUBURN\, CA\, 95603\, United States
END:VEVENT
BEGIN:VEVENT
DTSTART;TZID=America/Los_Angeles:20250624T143000
DTEND;TZID=America/Los_Angeles:20250624T153000
DTSTAMP:20260425T045031
CREATED:20250328T193615Z
LAST-MODIFIED:20250328T193747Z
UID:4902-1750775400-1750779000@auburnareademocrats.com
SUMMARY:AADC Communications Committee Meeting
DESCRIPTION:The Communications Committee of the AADC meets monthly on the 4th Tuesday of every month at 2:30 P.M.  at the AADC Headquarters.
URL:https://auburnareademocrats.com/event/aadc-communications-committee-meeting-5/
LOCATION:AADC Campaign Headquarters\, 161 Palm Avenue - Suite 9\, AUBURN\, CA\, 95603\, United States
END:VEVENT
END:VCALENDAR