BEGIN:VCALENDAR
VERSION:2.0
PRODID:-//Auburn Area Democratic Club - ECPv6.15.20//NONSGML v1.0//EN
CALSCALE:GREGORIAN
METHOD:PUBLISH
X-ORIGINAL-URL:https://auburnareademocrats.com
X-WR-CALDESC:Events for Auburn Area Democratic Club
REFRESH-INTERVAL;VALUE=DURATION:PT1H
X-Robots-Tag:noindex
X-PUBLISHED-TTL:PT1H
BEGIN:VTIMEZONE
TZID:America/Los_Angeles
BEGIN:DAYLIGHT
TZOFFSETFROM:-0800
TZOFFSETTO:-0700
TZNAME:PDT
DTSTART:20250309T100000
END:DAYLIGHT
BEGIN:STANDARD
TZOFFSETFROM:-0700
TZOFFSETTO:-0800
TZNAME:PST
DTSTART:20251102T090000
END:STANDARD
BEGIN:DAYLIGHT
TZOFFSETFROM:-0800
TZOFFSETTO:-0700
TZNAME:PDT
DTSTART:20260308T100000
END:DAYLIGHT
BEGIN:STANDARD
TZOFFSETFROM:-0700
TZOFFSETTO:-0800
TZNAME:PST
DTSTART:20261101T090000
END:STANDARD
BEGIN:DAYLIGHT
TZOFFSETFROM:-0800
TZOFFSETTO:-0700
TZNAME:PDT
DTSTART:20270314T100000
END:DAYLIGHT
BEGIN:STANDARD
TZOFFSETFROM:-0700
TZOFFSETTO:-0800
TZNAME:PST
DTSTART:20271107T090000
END:STANDARD
END:VTIMEZONE
BEGIN:VEVENT
DTSTART;TZID=America/Los_Angeles:20260502T100000
DTEND;TZID=America/Los_Angeles:20260502T120000
DTSTAMP:20260424T054347
CREATED:20260415T031246Z
LAST-MODIFIED:20260415T031524Z
UID:8089-1777716000-1777723200@auburnareademocrats.com
SUMMARY:Indivisible Roseville\, MAYDAYSTRONG.ORG\, WORKERS OVER BILLIONAIRES
DESCRIPTION:CLICK HERE TO SIGN UP ON MOBILIZE \n\n\nAbout this event\n \n\n\n\n\n\n\nBecause when the billionaires break every rule\, it’s going to take more than a rally to stop them. \nOur Demands for May 1st – Tax the rich so our families\, not their fortunes\, come first. – ICE Out. No private army serving unchecked federal power. – Expand democracy\, not corporate power. Defend free and fair elections. \nTogether we will be flexing our collective muscle in a tremendous day of power – showing our unity through a day of No Work No School No Shopping. \nJoin us as together we celebrate May 1st through action and community and then extend that into May 2nd with a visibility event at Roseville Galleria. \nPlease note: A core principle behind all our events is a commitment to nonviolent action. We expect all participants to seek to de-escalate any potential confrontation with those who disagree with our values and to act lawfully at these events. Weapons of any kind\, including those legally permitted\, should not be brought to events. \n\n\n\n\n\n\n\n\n\nAccessibility\nHave accessibility questions? Reply to your registration email to confirm your requirements or request more information.
URL:https://auburnareademocrats.com/event/indivisibile-roseville-maydaystrong-org-workers-over-billionaires/
END:VEVENT
END:VCALENDAR