BEGIN:VCALENDAR
VERSION:2.0
PRODID:-//Auburn Area Democratic Club - ECPv6.15.20//NONSGML v1.0//EN
CALSCALE:GREGORIAN
METHOD:PUBLISH
X-ORIGINAL-URL:https://auburnareademocrats.com
X-WR-CALDESC:Events for Auburn Area Democratic Club
REFRESH-INTERVAL;VALUE=DURATION:PT1H
X-Robots-Tag:noindex
X-PUBLISHED-TTL:PT1H
BEGIN:VTIMEZONE
TZID:America/Los_Angeles
BEGIN:DAYLIGHT
TZOFFSETFROM:-0800
TZOFFSETTO:-0700
TZNAME:PDT
DTSTART:20250309T100000
END:DAYLIGHT
BEGIN:STANDARD
TZOFFSETFROM:-0700
TZOFFSETTO:-0800
TZNAME:PST
DTSTART:20251102T090000
END:STANDARD
BEGIN:DAYLIGHT
TZOFFSETFROM:-0800
TZOFFSETTO:-0700
TZNAME:PDT
DTSTART:20260308T100000
END:DAYLIGHT
BEGIN:STANDARD
TZOFFSETFROM:-0700
TZOFFSETTO:-0800
TZNAME:PST
DTSTART:20261101T090000
END:STANDARD
BEGIN:DAYLIGHT
TZOFFSETFROM:-0800
TZOFFSETTO:-0700
TZNAME:PDT
DTSTART:20270314T100000
END:DAYLIGHT
BEGIN:STANDARD
TZOFFSETFROM:-0700
TZOFFSETTO:-0800
TZNAME:PST
DTSTART:20271107T090000
END:STANDARD
END:VTIMEZONE
BEGIN:VEVENT
DTSTART;TZID=America/Los_Angeles:20260423T093000
DTEND;TZID=America/Los_Angeles:20260423T150000
DTSTAMP:20260424T071606
CREATED:20260408T232049Z
LAST-MODIFIED:20260408T232049Z
UID:8024-1776936600-1776956400@auburnareademocrats.com
SUMMARY:Sierra College Earth Day 🌏- Help us staff the AADC booth! AM or PM slots available
DESCRIPTION:For more details and to sign-up\, CLICK HERE \n\n\nAbout this event\nHelp us staff the Auburn Area Democratic Club’s booth (AADC) for Earth Day. We are an upbeat\, positive\, non-confrontational team. We use surveys to engage students. This “hook” provides us with the opportunity to talk to students and find out if they are registered to vote. It also gives us the opportunity to educate students and find out what their political views are and what issues matter to them. We will be registering students to vote. We will have postcards for students to write their representatives about issues and will be handing out seed bursts and of course\, we will have one of our surveys. This is a fun event. You will have a chance to interact with students\, visit booths of other groups and enjoy Earth Day.
URL:https://auburnareademocrats.com/event/sierra-college-earth-day-%f0%9f%8c%8f-help-us-staff-the-aadc-booth-am-or-pm-slots-available/
END:VEVENT
END:VCALENDAR