BEGIN:VCALENDAR
VERSION:2.0
PRODID:-//Auburn Area Democratic Club - ECPv6.15.20//NONSGML v1.0//EN
CALSCALE:GREGORIAN
METHOD:PUBLISH
X-WR-CALNAME:Auburn Area Democratic Club
X-ORIGINAL-URL:https://auburnareademocrats.com
X-WR-CALDESC:Events for Auburn Area Democratic Club
REFRESH-INTERVAL;VALUE=DURATION:PT1H
X-Robots-Tag:noindex
X-PUBLISHED-TTL:PT1H
BEGIN:VTIMEZONE
TZID:America/Los_Angeles
BEGIN:DAYLIGHT
TZOFFSETFROM:-0800
TZOFFSETTO:-0700
TZNAME:PDT
DTSTART:20250309T100000
END:DAYLIGHT
BEGIN:STANDARD
TZOFFSETFROM:-0700
TZOFFSETTO:-0800
TZNAME:PST
DTSTART:20251102T090000
END:STANDARD
BEGIN:DAYLIGHT
TZOFFSETFROM:-0800
TZOFFSETTO:-0700
TZNAME:PDT
DTSTART:20260308T100000
END:DAYLIGHT
BEGIN:STANDARD
TZOFFSETFROM:-0700
TZOFFSETTO:-0800
TZNAME:PST
DTSTART:20261101T090000
END:STANDARD
BEGIN:DAYLIGHT
TZOFFSETFROM:-0800
TZOFFSETTO:-0700
TZNAME:PDT
DTSTART:20270314T100000
END:DAYLIGHT
BEGIN:STANDARD
TZOFFSETFROM:-0700
TZOFFSETTO:-0800
TZNAME:PST
DTSTART:20271107T090000
END:STANDARD
END:VTIMEZONE
BEGIN:VEVENT
DTSTART;TZID=America/Los_Angeles:20260417T100000
DTEND;TZID=America/Los_Angeles:20260417T130000
DTSTAMP:20260424T053732
CREATED:20251230T190018Z
LAST-MODIFIED:20251230T190018Z
UID:6735-1776420000-1776430800@auburnareademocrats.com
SUMMARY:Coffee & Conversation
DESCRIPTION:Join us for a friendly and stimulating Coffee & Conversation political meetup! We look forward to seeing you and hearing what’s on your mind. \n\nWhen – Fridays from 10:00AM to 1:00PM. (Please check the AADC Events Calendar for any last minute schedule changes)\nWhere – AADC Headquarters at 161 Palm Avenue\, Auburn\, Suite 9\, 2nd Floor\n\nWhether you are deeply involved in local politics\, or just starting to take an interest\, or simply curious to hear different perspectives\, this is the perfect space to engage in thoughtful discussion. You can expect: \n\nOpen Dialogue: Share your thoughts on current events\, local issues\, national news\, and political philosophies in a welcoming environment.\nDiverse Perspectives: Connect with neighbors and fellow citizens who hold a variety of viewpoints.\nCasual Atmosphere: No formal speeches or required topics – just good coffee and great conversation! Feel free to drop-in\, but if you’d like to RSVP\, please click HERE.
URL:https://auburnareademocrats.com/event/coffee-conversation-65/
END:VEVENT
BEGIN:VEVENT
DTSTART;TZID=America/Los_Angeles:20260417T120000
DTEND;TZID=America/Los_Angeles:20260417T130000
DTSTAMP:20260424T053732
CREATED:20251230T190456Z
LAST-MODIFIED:20251230T190456Z
UID:6743-1776427200-1776430800@auburnareademocrats.com
SUMMARY:Fridays for Future
DESCRIPTION:Join us as we bring awareness to the climate crisis.\nWe protest every Friday\, rain or shine\, in front of Auburn City Hall. \nPlease click HERE for more information.
URL:https://auburnareademocrats.com/event/fridays-for-future-66/
LOCATION:Auburn City Hall – Lincoln Way\, 1225 Lincoln Way\, Auburn\, CA 95603\, CA\, 95603\, United States
END:VEVENT
BEGIN:VEVENT
DTSTART;TZID=America/Los_Angeles:20260417T123000
DTEND;TZID=America/Los_Angeles:20260417T143000
DTSTAMP:20260424T053732
CREATED:20251230T185641Z
LAST-MODIFIED:20260327T164139Z
UID:6729-1776429000-1776436200@auburnareademocrats.com
SUMMARY:E-Board Meeting
DESCRIPTION:The AADC E-Board Meeting is normally held on the second Friday of each month from 12:30 – 2:30 pm. April’s Meeting has been rescheduled to the 3rd Friday for operational purposes. \nIf you would like to be added to the agenda or would like to attend\, please email info@auburnareademocrats.com. \n(Our offices are on the second floor. Park in the back and enter via the back door for direct access.)
URL:https://auburnareademocrats.com/event/e-board-meeting-16/
LOCATION:AADC Campaign Headquarters\, 161 Palm Avenue - Suite 9\, AUBURN\, CA\, 95603\, United States
END:VEVENT
END:VCALENDAR