BEGIN:VCALENDAR
VERSION:2.0
PRODID:-//Auburn Area Democratic Club - ECPv6.15.20//NONSGML v1.0//EN
CALSCALE:GREGORIAN
METHOD:PUBLISH
X-ORIGINAL-URL:https://auburnareademocrats.com
X-WR-CALDESC:Events for Auburn Area Democratic Club
REFRESH-INTERVAL;VALUE=DURATION:PT1H
X-Robots-Tag:noindex
X-PUBLISHED-TTL:PT1H
BEGIN:VTIMEZONE
TZID:America/Los_Angeles
BEGIN:DAYLIGHT
TZOFFSETFROM:-0800
TZOFFSETTO:-0700
TZNAME:PDT
DTSTART:20250309T100000
END:DAYLIGHT
BEGIN:STANDARD
TZOFFSETFROM:-0700
TZOFFSETTO:-0800
TZNAME:PST
DTSTART:20251102T090000
END:STANDARD
BEGIN:DAYLIGHT
TZOFFSETFROM:-0800
TZOFFSETTO:-0700
TZNAME:PDT
DTSTART:20260308T100000
END:DAYLIGHT
BEGIN:STANDARD
TZOFFSETFROM:-0700
TZOFFSETTO:-0800
TZNAME:PST
DTSTART:20261101T090000
END:STANDARD
BEGIN:DAYLIGHT
TZOFFSETFROM:-0800
TZOFFSETTO:-0700
TZNAME:PDT
DTSTART:20270314T100000
END:DAYLIGHT
BEGIN:STANDARD
TZOFFSETFROM:-0700
TZOFFSETTO:-0800
TZNAME:PST
DTSTART:20271107T090000
END:STANDARD
END:VTIMEZONE
BEGIN:VEVENT
DTSTART;TZID=America/Los_Angeles:20260407T170000
DTEND;TZID=America/Los_Angeles:20260407T190000
DTSTAMP:20260424T054032
CREATED:20260403T233237Z
LAST-MODIFIED:20260403T233544Z
UID:7950-1775581200-1775588400@auburnareademocrats.com
SUMMARY:Team Neva Canvass - Auburn Area
DESCRIPTION:SIGN UP ON MOBILIZE – CLICK HERE \n\n\nAbout this event\nJoin us as we finish strong in Auburn and connect with voters across our community. Every conversation matters\, and we need your help to get across the finish line.\n\n\n\n\n\nNo experience? No problem—we’ll train you and pair you up! \nLet’s knock doors\, build momentum\, and show Auburn what people-powered campaigns look like. \n\n\n\n\n\n\n\n\n  \n\n\n\n\n\n 
URL:https://auburnareademocrats.com/event/team-neva-canvass-auburn-area/
LOCATION:Auburn Area Democrats Headquarters\, 161 Palm Ave\, Auburn\, CA\, 95603
END:VEVENT
END:VCALENDAR