BEGIN:VCALENDAR
VERSION:2.0
PRODID:-//Auburn Area Democratic Club - ECPv6.15.20//NONSGML v1.0//EN
CALSCALE:GREGORIAN
METHOD:PUBLISH
X-ORIGINAL-URL:https://auburnareademocrats.com
X-WR-CALDESC:Events for Auburn Area Democratic Club
REFRESH-INTERVAL;VALUE=DURATION:PT1H
X-Robots-Tag:noindex
X-PUBLISHED-TTL:PT1H
BEGIN:VTIMEZONE
TZID:America/Los_Angeles
BEGIN:DAYLIGHT
TZOFFSETFROM:-0800
TZOFFSETTO:-0700
TZNAME:PDT
DTSTART:20250309T100000
END:DAYLIGHT
BEGIN:STANDARD
TZOFFSETFROM:-0700
TZOFFSETTO:-0800
TZNAME:PST
DTSTART:20251102T090000
END:STANDARD
BEGIN:DAYLIGHT
TZOFFSETFROM:-0800
TZOFFSETTO:-0700
TZNAME:PDT
DTSTART:20260308T100000
END:DAYLIGHT
BEGIN:STANDARD
TZOFFSETFROM:-0700
TZOFFSETTO:-0800
TZNAME:PST
DTSTART:20261101T090000
END:STANDARD
BEGIN:DAYLIGHT
TZOFFSETFROM:-0800
TZOFFSETTO:-0700
TZNAME:PDT
DTSTART:20270314T100000
END:DAYLIGHT
BEGIN:STANDARD
TZOFFSETFROM:-0700
TZOFFSETTO:-0800
TZNAME:PST
DTSTART:20271107T090000
END:STANDARD
END:VTIMEZONE
BEGIN:VEVENT
DTSTART;TZID=America/Los_Angeles:20260402T174500
DTEND;TZID=America/Los_Angeles:20260402T200000
DTSTAMP:20260424T053945
CREATED:20251230T190828Z
LAST-MODIFIED:20260328T012113Z
UID:6747-1775151900-1775160000@auburnareademocrats.com
SUMMARY:General Membership Meeting with our Guest Speaker from NorCal Resist
DESCRIPTION:General Membership Meetings\nSign-Up HERE on Mobilize.us\nAre you angry that ICE has been kidnapping and even killing people illegally?\nAre you wondering how you can safely support your neighbors? What is the extent of\nthe problem? Auburn Area Democratic Club (AADC) invites you to a membership\nmeeting on Thursday\, April 2 to hear about the goals and experiences of NorCal\nResist. Find out how you can help people in our community! \nNorCal Resist believes that we must not only stand in opposition to policies and\npoliticians that harm our communities\, but we must begin building the better world the\nwe want to live in. The mission of NorCal Resist is to fight injustice through making a\npositive impact in our communities. This mission complements the mission of the\nDemocratic Party. \nJoin us to socialize with pizza and drinks ($5 for one slice and $9 for two) in the\nRose Room at Auburn City Hall\, 1225 Lincoln Way\, starting at 5:45. The meeting will\nstart at 6:30 and conclude by 8:00. Bring your ideas\, your energy\, and a friend!\nFind inspiration and volunteer opportunities at: auburnareademocrats.com \n \nThe Auburn Area Democratic Club meets on the first Thursday of every month for the General Membership Meeting. \n\n\nAuburn City Hall\nRose Room\n1225 Lincoln Way\nAuburn\, CA 95603\n\n\n\n\n5:45PM – Social (Pizza & soft drinks are available for 5.00 per person)\n6:30PM – General Membership Meeting\n8:00PM – Meeting Ends\n\nThe meeting begins promptly at 6:30PM\, starting with club business followed by our Speaker Series. \nAre you planning to enjoy Pizza? 🍕🍕 🥛 Please help us plan by paying in advance using this link: https://secure.actblue.com/donate/pizza-and-drink
URL:https://auburnareademocrats.com/event/general-membership-meeting-4/
LOCATION:Auburn City Hall Rose Room\, 1225 Lincoln Way\, Auburn\, CA 95603\, CA\, 95603\, United States
END:VEVENT
END:VCALENDAR