BEGIN:VCALENDAR
VERSION:2.0
PRODID:-//Auburn Area Democratic Club - ECPv6.15.20//NONSGML v1.0//EN
CALSCALE:GREGORIAN
METHOD:PUBLISH
X-ORIGINAL-URL:https://auburnareademocrats.com
X-WR-CALDESC:Events for Auburn Area Democratic Club
REFRESH-INTERVAL;VALUE=DURATION:PT1H
X-Robots-Tag:noindex
X-PUBLISHED-TTL:PT1H
BEGIN:VTIMEZONE
TZID:America/Los_Angeles
BEGIN:DAYLIGHT
TZOFFSETFROM:-0800
TZOFFSETTO:-0700
TZNAME:PDT
DTSTART:20250309T100000
END:DAYLIGHT
BEGIN:STANDARD
TZOFFSETFROM:-0700
TZOFFSETTO:-0800
TZNAME:PST
DTSTART:20251102T090000
END:STANDARD
BEGIN:DAYLIGHT
TZOFFSETFROM:-0800
TZOFFSETTO:-0700
TZNAME:PDT
DTSTART:20260308T100000
END:DAYLIGHT
BEGIN:STANDARD
TZOFFSETFROM:-0700
TZOFFSETTO:-0800
TZNAME:PST
DTSTART:20261101T090000
END:STANDARD
BEGIN:DAYLIGHT
TZOFFSETFROM:-0800
TZOFFSETTO:-0700
TZNAME:PDT
DTSTART:20270314T100000
END:DAYLIGHT
BEGIN:STANDARD
TZOFFSETFROM:-0700
TZOFFSETTO:-0800
TZNAME:PST
DTSTART:20271107T090000
END:STANDARD
END:VTIMEZONE
BEGIN:VEVENT
DTSTART;TZID=America/Los_Angeles:20260328T080000
DTEND;TZID=America/Los_Angeles:20260328T103000
DTSTAMP:20260424T072504
CREATED:20260312T012450Z
LAST-MODIFIED:20260312T012450Z
UID:7696-1774684800-1774693800@auburnareademocrats.com
SUMMARY:Sing For Peace in Newcastle - Solidarity Event Hosted by Indivisible Auburn
DESCRIPTION:CLICK HERE for all of the Details and to SIGN-UP on Mobilize \nPancake Breakfast at 8:00 / Singing begins at 9:00 \n\nAbout this event\nMembers of the Newcastle United Methodist Church are sponsoring an event the morning of the No Kings events in our area. They will be playing music and having around 20 songs to lift up participants. They will also be having a free pancake breakfast to help sustain your activism.\n\n\n\n\n\nBreakfast is at 8:00 am. and singing begins at 9 am. You can come to sing without having breakfast… up to you.
URL:https://auburnareademocrats.com/event/sing-for-peace-in-newcastle-solidarity-event-hosted-by-indivisible-auburn/
END:VEVENT
BEGIN:VEVENT
DTSTART;TZID=America/Los_Angeles:20260328T120000
DTEND;TZID=America/Los_Angeles:20260328T140000
DTSTAMP:20260424T072504
CREATED:20260216T230951Z
LAST-MODIFIED:20260216T231103Z
UID:7256-1774699200-1774706400@auburnareademocrats.com
SUMMARY:No Kings 3.0 - Hosted by Indivisible\, Auburn\, CA
DESCRIPTION:Link HERE to sign up on Mobilize \n\nAbout this event\n\n\n\n\n\n\n\nSaturday\, March 28\, stand in solidarity with friends\, neighbors\, and community members for the third NO KINGS mass mobilization. \nIn 2025\, millions of Americans came together in nonviolent protest to oppose the growing authoritarian actions of the Trump administration and affirm that this nation belongs to its people\, not to kings. Since then\, people have continued to rise up nonviolently against the Trump administration’s ongoing brutality and abuses of power\, including the latest escalation in Minnesota. The No Kings Coalition is activating an immediate and ongoing nationwide digital organizing effort leading up to our next mass mobilization on March 28\, including a flagship event in the Twin Cities. \nHere in Auburn\, we will gather together to raise our voices\, uplift one another\, and show that our community refuses to be silent in the face of abuses of power. \nBring your protest signs\, your passion\, and your commitment to defending democracy. Whether you’re a seasoned advocate or showing up for the first time\, your presence matters. Let’s stand together. Let’s speak out. Let’s make our voices impossible to ignore. \nNotes from the organizer: we will be on sidewalks. There are no bathrooms provided. There is no seating provided. If you need a bathroom\, Target is gracious enough to welcome us. If you need to sit\, please bring a chair of your own. \n\n\n\n\n\n\n🦺 PLEASE NOTE: Our rallies are nonviolent. When there are one or more aggressive counter protesters at our events\, the best way to respond is to ignore and de-escalate. De-escalation includes staying calm\, maintaining your distance\, using a calm voice\, and having a neutral stance. If you are concerned about your or someone else’s safety\, please go tell a security team member in a yellow vest. Remember\, counter protestors are exercising their first amendment rights just as we are– but we also don’t want a situation to escalate or to lead to any violent behaviors. \nA core principle behind all Indivisible events is a commitment to nonviolent action. We expect all participants to seek to de-escalate any potential confrontation with those who disagree with our values and to act lawfully at these events. Weapons of any kind\, including those legally permitted\, should not be brought to events.
URL:https://auburnareademocrats.com/event/no-kings-3-0-hosted-by-indivisible-auburn-ca/
END:VEVENT
END:VCALENDAR