BEGIN:VCALENDAR
VERSION:2.0
PRODID:-//Auburn Area Democratic Club - ECPv6.15.20//NONSGML v1.0//EN
CALSCALE:GREGORIAN
METHOD:PUBLISH
X-ORIGINAL-URL:https://auburnareademocrats.com
X-WR-CALDESC:Events for Auburn Area Democratic Club
REFRESH-INTERVAL;VALUE=DURATION:PT1H
X-Robots-Tag:noindex
X-PUBLISHED-TTL:PT1H
BEGIN:VTIMEZONE
TZID:America/Los_Angeles
BEGIN:DAYLIGHT
TZOFFSETFROM:-0800
TZOFFSETTO:-0700
TZNAME:PDT
DTSTART:20250309T100000
END:DAYLIGHT
BEGIN:STANDARD
TZOFFSETFROM:-0700
TZOFFSETTO:-0800
TZNAME:PST
DTSTART:20251102T090000
END:STANDARD
BEGIN:DAYLIGHT
TZOFFSETFROM:-0800
TZOFFSETTO:-0700
TZNAME:PDT
DTSTART:20260308T100000
END:DAYLIGHT
BEGIN:STANDARD
TZOFFSETFROM:-0700
TZOFFSETTO:-0800
TZNAME:PST
DTSTART:20261101T090000
END:STANDARD
BEGIN:DAYLIGHT
TZOFFSETFROM:-0800
TZOFFSETTO:-0700
TZNAME:PDT
DTSTART:20270314T100000
END:DAYLIGHT
BEGIN:STANDARD
TZOFFSETFROM:-0700
TZOFFSETTO:-0800
TZNAME:PST
DTSTART:20271107T090000
END:STANDARD
END:VTIMEZONE
BEGIN:VEVENT
DTSTART;TZID=America/Los_Angeles:20260306T100000
DTEND;TZID=America/Los_Angeles:20260306T130000
DTSTAMP:20260424T085058
CREATED:20251228T201011Z
LAST-MODIFIED:20251228T201011Z
UID:6656-1772791200-1772802000@auburnareademocrats.com
SUMMARY:Coffee & Conversation
DESCRIPTION:Join us for a friendly and stimulating Coffee & Conversation political meetup! We look forward to seeing you and hearing what’s on your mind. \n\nWhen – Fridays from 10:00AM to 1:00PM. (Please check the AADC Events Calendar for any last minute schedule changes)\nWhere – AADC Headquarters at 161 Palm Avenue\, Auburn\, Suite 9\, 2nd Floor\n\nWhether you are deeply involved in local politics\, or just starting to take an interest\, or simply curious to hear different perspectives\, this is the perfect space to engage in thoughtful discussion. You can expect: \n\nOpen Dialogue: Share your thoughts on current events\, local issues\, national news\, and political philosophies in a welcoming environment.\nDiverse Perspectives: Connect with neighbors and fellow citizens who hold a variety of viewpoints.\nCasual Atmosphere: No formal speeches or required topics – just good coffee and great conversation! Feel free to drop-in\, but if you’d like to RSVP\, please click HERE.
URL:https://auburnareademocrats.com/event/coffee-conversation-59/
END:VEVENT
BEGIN:VEVENT
DTSTART;TZID=America/Los_Angeles:20260306T120000
DTEND;TZID=America/Los_Angeles:20260306T130000
DTSTAMP:20260424T085058
CREATED:20251228T200032Z
LAST-MODIFIED:20251228T200032Z
UID:6640-1772798400-1772802000@auburnareademocrats.com
SUMMARY:Fridays for Future
DESCRIPTION:Join us as we bring awareness to the climate crisis.\nWe protest every Friday\, rain or shine\, in front of Auburn City Hall. \nPlease click HERE for more information.
URL:https://auburnareademocrats.com/event/fridays-for-future-60/
LOCATION:Auburn City Hall – Lincoln Way\, 1225 Lincoln Way\, Auburn\, CA 95603\, CA\, 95603\, United States
END:VEVENT
BEGIN:VEVENT
DTSTART;TZID=America/Los_Angeles:20260306T140000
DTEND;TZID=America/Los_Angeles:20260306T150000
DTSTAMP:20260424T085058
CREATED:20260216T231927Z
LAST-MODIFIED:20260216T232924Z
UID:7258-1772805600-1772809200@auburnareademocrats.com
SUMMARY:This is What Democracy Looks Like - No Kings sign making workshop
DESCRIPTION:Sign-up HERE \nAbout this event \n\nAuburn’s NO KINGS visibility event will have a theme of “This is what Democracy looks like”. We are making signs that show what we think are the good things about democracy. Free speech\, fair elections\, etc.\n\n\n\n\n\nWe will provide the poster board and some markers. You can also bring markers (label them so you get them back after they are shared)
URL:https://auburnareademocrats.com/event/this-is-what-democracy-looks-like-no-kings-sign-making-workshop/
LOCATION:Auburn Area Democrats Headquarters\, 161 Palm Ave\, Auburn\, CA\, 95603
END:VEVENT
END:VCALENDAR