BEGIN:VCALENDAR
VERSION:2.0
PRODID:-//Auburn Area Democratic Club - ECPv6.15.20//NONSGML v1.0//EN
CALSCALE:GREGORIAN
METHOD:PUBLISH
X-ORIGINAL-URL:https://auburnareademocrats.com
X-WR-CALDESC:Events for Auburn Area Democratic Club
REFRESH-INTERVAL;VALUE=DURATION:PT1H
X-Robots-Tag:noindex
X-PUBLISHED-TTL:PT1H
BEGIN:VTIMEZONE
TZID:America/Los_Angeles
BEGIN:DAYLIGHT
TZOFFSETFROM:-0800
TZOFFSETTO:-0700
TZNAME:PDT
DTSTART:20250309T100000
END:DAYLIGHT
BEGIN:STANDARD
TZOFFSETFROM:-0700
TZOFFSETTO:-0800
TZNAME:PST
DTSTART:20251102T090000
END:STANDARD
BEGIN:DAYLIGHT
TZOFFSETFROM:-0800
TZOFFSETTO:-0700
TZNAME:PDT
DTSTART:20260308T100000
END:DAYLIGHT
BEGIN:STANDARD
TZOFFSETFROM:-0700
TZOFFSETTO:-0800
TZNAME:PST
DTSTART:20261101T090000
END:STANDARD
BEGIN:DAYLIGHT
TZOFFSETFROM:-0800
TZOFFSETTO:-0700
TZNAME:PDT
DTSTART:20270314T100000
END:DAYLIGHT
BEGIN:STANDARD
TZOFFSETFROM:-0700
TZOFFSETTO:-0800
TZNAME:PST
DTSTART:20271107T090000
END:STANDARD
END:VTIMEZONE
BEGIN:VEVENT
DTSTART;TZID=America/Los_Angeles:20260305T174500
DTEND;TZID=America/Los_Angeles:20260305T200000
DTSTAMP:20260424T072505
CREATED:20251228T202136Z
LAST-MODIFIED:20260228T001741Z
UID:6666-1772732700-1772740800@auburnareademocrats.com
SUMMARY:General Membership Meeting - Guest Speakers from Auburn Interfaith Food Closet & Public School Strong
DESCRIPTION:General Membership Meetings\nSign-up HERE on Mobilize\nand \nHelp us pre-plan\, if you will be joining us for Pizza 🍕🍕 & a drink\, by paying HERE in advance. \nPlease join us to socialize before the meeting with pizza and drinks ($5 for one slice and $9 for two) in the Rose Room at Auburn City Hall\, 1225 Lincoln Way\, starting at 5:45.  The formal meeting will start at 6:30 and conclude by 8.  Bring your ideas\, your energy\, and a friend! \n                     \nHeadlining AADC Meeting on March 5 are Two Hot Topics: \nSupporting Food Banks plus Monitoring School Board Meetings \n***Auburn Interfaith Food Closet*** \nAcross America\, including Auburn\, there are people whose lives are impacted by events beyond their control.  It may be illness\, mental instability\, or traumatic crises.  People experiencing life changing events may rely on government services to survive. In fact\, that is a key purpose of government\, to care for people when they are unable to care for themselves. Due to the recent pullback of federal support\, the homeless and those who suffer from food insecurity need assistance. \nOn March 5th at our General Meeting\, we have the honor of hosting Auburn Interfaith \nFood Closet\, Inc. (AIFC).  AIFC is a local organization that provides access to nutritious food to people in need.  AFIC will present to us the impact of their work\, thanks to generous donations within our community.  Their mission is to provide “nutritious food to those in need\, preserving their dignity and encouraging self-reliance.” \nWe are asking attendees to consider donating food items or checks at our March 5th meeting.  Items in need are: canned meat or tuna\, canned fruit\, canned vegetables\, diced tomatoes\, peanut butter\, and soup. A complete list of items can be found on their website at:  https://auburnfoodcloset.org \n***Public School Strong*** \nAADC will also welcome Public School Strong members Annie Bowler and Carol Koons\, who will talk about the role of school boards in making major policy decisions that directly impact what and how our children are taught.  Annie and Carol are coordinators with Public School Strong\, a nonprofit\, nonpartisan organization that attends school board meetings and monitors trustee actions to ensure that they follow the law and act in the best interests of students. \n  \n  \n  \n  \n  \n  \n  \nThe Auburn Area Democratic Club meets on the first Thursday of every month for the General Membership Meeting. \n\n\nAuburn City Hall\nRose Room\n1225 Lincoln Way\nAuburn\, CA 95603\n\n\n\n\n5:45PM – Social (Pizza & soft drinks are available for 5.00 per person)\n6:30PM – General Membership Meeting\n8:00PM – Meeting Ends\n\nThe meeting begins promptly at 6:30PM\, starting with club business followed by our Speaker Series.
URL:https://auburnareademocrats.com/event/general-membership-meeting-3/
LOCATION:Auburn City Hall Rose Room\, 1225 Lincoln Way\, Auburn\, CA 95603\, CA\, 95603\, United States
END:VEVENT
END:VCALENDAR