BEGIN:VCALENDAR
VERSION:2.0
PRODID:-//Auburn Area Democratic Club - ECPv6.15.20//NONSGML v1.0//EN
CALSCALE:GREGORIAN
METHOD:PUBLISH
X-WR-CALNAME:Auburn Area Democratic Club
X-ORIGINAL-URL:https://auburnareademocrats.com
X-WR-CALDESC:Events for Auburn Area Democratic Club
REFRESH-INTERVAL;VALUE=DURATION:PT1H
X-Robots-Tag:noindex
X-PUBLISHED-TTL:PT1H
BEGIN:VTIMEZONE
TZID:America/Los_Angeles
BEGIN:DAYLIGHT
TZOFFSETFROM:-0800
TZOFFSETTO:-0700
TZNAME:PDT
DTSTART:20250309T100000
END:DAYLIGHT
BEGIN:STANDARD
TZOFFSETFROM:-0700
TZOFFSETTO:-0800
TZNAME:PST
DTSTART:20251102T090000
END:STANDARD
BEGIN:DAYLIGHT
TZOFFSETFROM:-0800
TZOFFSETTO:-0700
TZNAME:PDT
DTSTART:20260308T100000
END:DAYLIGHT
BEGIN:STANDARD
TZOFFSETFROM:-0700
TZOFFSETTO:-0800
TZNAME:PST
DTSTART:20261101T090000
END:STANDARD
BEGIN:DAYLIGHT
TZOFFSETFROM:-0800
TZOFFSETTO:-0700
TZNAME:PDT
DTSTART:20270314T100000
END:DAYLIGHT
BEGIN:STANDARD
TZOFFSETFROM:-0700
TZOFFSETTO:-0800
TZNAME:PST
DTSTART:20271107T090000
END:STANDARD
END:VTIMEZONE
BEGIN:VEVENT
DTSTART;TZID=America/Los_Angeles:20260303T183000
DTEND;TZID=America/Los_Angeles:20260303T200000
DTSTAMP:20260424T072422
CREATED:20260217T000623Z
LAST-MODIFIED:20260217T000623Z
UID:7288-1772562600-1772568000@auburnareademocrats.com
SUMMARY:NorCalResist - Know Your Rights Workshop (Indivisible Auburn CA)
DESCRIPTION:Sign-up HERE\nAbout this event\nCoffee Talk (Placer and Nevada Counties) is sponsoring a workshop by NorCal Resist for our community. NorCal Resist provides many resources for the immigrant and refugee population in several northern California counties. Their organization hosts educational events and trainings\, organize actions\,\, and maintain a variety of resources and programs that provide support for those in need.\n\n\n\n\n\nJoin them for this training on Know Your Rights which includes: 1. Know your rights and how to assert them 2.How to navigate encounters with ICE/law enforcement 3. What to do if ICE comes to your door \n\n\n\n\n\n\n\n\nAccessibility\nThis event meets ADA standards
URL:https://auburnareademocrats.com/event/norcalresist-know-your-rights-workshop-indivisible-auburn-ca/
LOCATION:Placer County Health and Human Services\, 11434 B Ave.\, Cordova Room\, Auburn
END:VEVENT
END:VCALENDAR